BEGIN:VCALENDAR
VERSION:2.0
METHOD:PUBLISH
PRODID:-//hacksw/handcal//NONSGML v1.0//EN
BEGIN:VEVENT
DTSTAMP:20260419T165350Z
DTSTART:20130310T093000Z
DTEND:20130310T113000Z
UID:20130310T093000Z-20130310T113000Z-182@www.runningsocks.de
SUMMARY:20. Finish Line Rothseelauf
DESCRIPTION:Strecken:\n\n\n	5\,2 Km\, Hobbylauf\, 1 Runde um den klein
 en Rothsee\n	10\,4Km\, Hauptlauf\, 2 Runden um den kleinen Rothsee\n\n
 (beide Strecken sind flach ohne nennenswerte Steigungen)\nStartgeld:\n
 \n\n	Hobbylauf: 8\,00 EUR\n	Hauptlauf: 10\,00 EUR\n	Nachmeldungen\, ab
  09.03.23013 bzw. am Starttag bis 1 Stunde vor dem jeweiligen Lauf: 3\
 ,00 EUR\n\nZeiten:\n\n	Abholung Unterlagen: ab 08:00\n	Start Hobbylauf
 : 09:30\n	Start Hauptlauf: 10:30\n\nWeitere Info's und Online Anmeldun
 g wie immer direkt beim Veranstalter: Finish Line\nAusschreibung:\n[wp
 filebase tag=file path='lauf/rothseelauf/20130310/20130310_Rothseelauf
 _Ausschreibung.pdf' /]
X-ALT-DESC;FMTTYPE=text/html:<p style=text-align: justify\;>Strecken:<
 /p>\n<ul>\n<li>5\,2 Km\, Hobbylauf\, 1 Runde um den kleinen Rothsee</l
 i>\n<li>10\,4Km\, Hauptlauf\, 2 Runden um den kleinen Rothsee</li>\n</
 ul>\n<p style=text-align: justify\;>(beide Strecken sind flach ohne ne
 nnenswerte Steigungen)</p>\n<p style=text-align: justify\;>Startgeld:<
 /p>\n<ul>\n<li>Hobbylauf: 8\,00 EUR</li>\n<li>Hauptlauf: 10\,00 EUR</l
 i>\n<li>Nachmeldungen\, ab 09.03.23013 bzw. am Starttag bis 1 Stunde v
 or dem jeweiligen Lauf: 3\,00 EUR</li>\n</ul>\n<p>Zeiten:</p>\n<ul>\n<
 li>Abholung Unterlagen: ab 08:00</li>\n<li>Start Hobbylauf: 09:30</li>
 \n<li>Start Hauptlauf: 10:30</li>\n</ul>\n<p style=text-align: justify
 \;>Weitere Info&#8217\;s und <a href=https://www.sas-online.net/sas_vo
 ranmeldungen/voranmeldungen.php?ID=130&amp\;start=1 target=_blank>Onli
 ne Anmeldung</a> wie immer direkt beim Veranstalter: <a href=http://ww
 w.finish-line.de/wettkaempfe-ausschreibungen.htm target=_blank>Finish 
 Line</a></p>\n<p style=text-align: justify\;>Ausschreibung:</p>\n<p st
 yle=text-align: justify\;>[wpfilebase tag=file path=&#8217\;lauf/roths
 eelauf/20130310/20130310_Rothseelauf_Ausschreibung.pdf&#8216\; /]</p>\
 n<p style=text-align: justify\;>\n<p style=text-align: justify\;>\n
URL:https://www.runningsocks.de/wordpress/terminkalender/eventsinglepa
 ge/?event_id=182&lang=de
ATTACH:https://www.runningsocks.de/wordpress/terminkalender/eventsingl
 epage/?event_id=182&lang=de
LOCATION:Strandhaus Birkach\, Birkacher Uferweg 2\, Roth
END:VEVENT
END:VCALENDAR
