BEGIN:VCALENDAR
VERSION:2.0
METHOD:PUBLISH
PRODID:-//hacksw/handcal//NONSGML v1.0//EN
BEGIN:VEVENT
DTSTAMP:20260419T165138Z
DTSTART:20121201T130000Z
DTEND:20121201T160000Z
UID:20121201T130000Z-20121201T160000Z-183@www.runningsocks.de
SUMMARY:10. Run & Bike Ungerthal
DESCRIPTION:Zwei Läufer teilen sich ein Fahrrad. Dabei darf der Abstan
 d zwischen dem Läufer und dem Radfahrer niemals mehr als 10 Meter betr
 agen. Das “Paar” kann sich beliebig jederzeit abwechseln.\n\n\n\nStart
 :\n14.00 Uhr\, Waldparkplatz im Ungerthal\n\n\nStrecke:\nWellige\, vom
  öffentlichen Verkehr\ngeschlossene Waldwege\, ca. 17 km\n\n\nKlassene
 inteilung:\nMänner\, Frauen und gemischte Paare\n\n\nOrganisationsbeit
 rag:\n15\,00€ pro Paar\n\n\nAnmeldung:\nHier klicken\n\n\nNachmeldung:
 \nVor Ort\, ab 13 Uhr\, 20\,00€ pro Paar\n\n\nSonstiges:\nKuchenbuffet
 \, Grillen\,Getränke im\nZielraum\, sowie ein Lagerfeuer.\n(keine Dusc
 hmöglichkeiten)\n\n\nSiegerehrung:\nCa. 1/2 Std. nach dem letzten\nZie
 leinlauf\n\n\nOrganisation:\nfun-race.org\n\n\n\nQuelle: www.fun-race.
 org\n\nAusschreibung:\n\n[wpfilebase tag=file path='fun/run-und-bike/2
 0121201/20121201_Auschreibung_RunBike.pdf' /]
X-ALT-DESC;FMTTYPE=text/html:<p>Zwei Läufer teilen sich ein Fahrrad. D
 abei darf der Abstand zwischen dem Läufer und dem Radfahrer niemals me
 hr als 10 Meter betragen. Das “Paar” kann sich beliebig jederzeit abwe
 chseln.</p>\n<table style=border: 1px solid #b0c4de\; width: 384px\; h
 eight: 236px\; border=1 frame=void rules=all align=center>\n<tbody>\n<
 tr><td><span style=font-size: small\;>Start:</span></td>\n<td><span st
 yle=font-size: small\;>14.00 Uhr\, Waldparkplatz im Ungerthal</span></
 td></tr>\n<tr><td><span style=font-size: small\;>Strecke:</span></td>\
 n<td><span style=font-size: small\;>Wellige\, vom öffentlichen Verkehr
 <br>\ngeschlossene Waldwege\, ca. 17 km</span></td></tr>\n<tr><td><spa
 n style=font-size: small\;>Klasseneinteilung:</span></td>\n<td><span s
 tyle=font-size: small\;>Männer\, Frauen und gemischte Paare</span></td
 ></tr>\n<tr><td><span style=font-size: small\;>Organisationsbeitrag:</
 span></td>\n<td><span style=font-size: small\;>15\,00€ pro Paar</span>
 </td></tr>\n<tr><td><span style=font-size: small\;>Anmeldung:</span></
 td>\n<td><span style=font-size: small\;><a href=http://www.fun-race.or
 g/termine-ausschreibungen/run-bike-2012/online-anmeldung/>Hier klicken
 </a></span></td></tr>\n<tr><td><span style=font-size: small\;>Nachmeld
 ung:</span></td>\n<td><span style=font-size: small\;>Vor Ort\, ab 13 U
 hr\, 20\,00€ pro Paar</span></td></tr>\n<tr><td><span style=font-size:
  small\;>Sonstiges:</span></td>\n<td><span style=font-size: small\;>Ku
 chenbuffet\, Grillen\,Getränke im<br>\nZielraum\, sowie ein Lagerfeuer
 .<br>\n(keine Duschmöglichkeiten)</span></td></tr>\n<tr><td><span styl
 e=font-size: small\;>Siegerehrung:</span></td>\n<td><span style=font-s
 ize: small\;>Ca. 1/2 Std. nach dem letzten<br>\nZieleinlauf</span></td
 ></tr>\n<tr><td><span style=font-size: small\;>Organisation:</span></t
 d>\n<td><a href=http://www.fun-race.org/willkommen/ target=_blank><spa
 n style=font-size: small\;>fun-race.org</span></a></td></tr>\n</tbody>
 \n</table>\n<p>Quelle: <a href=http://www.fun-race.org/ target=_blank>
 www.fun-race.org</a></p>\n<p>Ausschreibung:</p>\n<p>[wpfilebase tag=fi
 le path=&#8217\;fun/run-und-bike/20121201/20121201_Auschreibung_RunBik
 e.pdf&#8216\; /]</p>\n
URL:https://www.runningsocks.de/wordpress/terminkalender/eventsinglepa
 ge/?event_id=183&lang=de
ATTACH:https://www.runningsocks.de/wordpress/terminkalender/eventsingl
 epage/?event_id=183&lang=de
LOCATION:Waldparkplatz im Ungerthal\, Ungerthaler Straße\, Büchenbach
END:VEVENT
END:VCALENDAR
