BEGIN:VCALENDAR
VERSION:2.0
METHOD:PUBLISH
PRODID:-//hacksw/handcal//NONSGML v1.0//EN
BEGIN:VEVENT
DTSTAMP:20260419T165505Z
DTSTART:20131006T083000Z
DTEND:20131006T130000Z
UID:20131006T083000Z-20131006T130000Z-184@www.runningsocks.de
SUMMARY:22. Schwabacher Citylauf
DESCRIPTION:Jedes Jahr am Sonntag nach dem 3. Oktober findet die größt
 e Laufveranstaltung Schwabachs statt\, der Citylauf. Zentraler Schaupl
 atz ist für Start\, Ziel und Siegerehrung der historischer Marktplatz.
 \n\nFür Läuferinnen und Läufer von Nah und Fern ist der Citylauf eine 
 gute Gelegenheit\, seinen Leistungsstand unter Wettkampfbedingungen zu
  messen. Regelmäßig werden über 500 Teilnehmer begrüßt\, von den Bambi
 ni über die Halbmarathonläufer bis hin zu Nordic Walkern. Gerade Inter
 essierte aus der Region können dabei bis fast zur letzten Minute abwar
 ten\, was das Wetter macht\, und sich noch am Lauftag zum Start melden
 .\n\nAlle Informationen rund um den nächsten Citylauf finden sich auf 
 der Homepage des Veranstalters: Angebotene Läufe\, Laufstrecken\, Zeit
 plan\, Teilnehmerinformationen. Langfristig vor dem Start des nächsten
  Laufs wird auch die Möglichkeit freigeschaltet\, sich direkt online a
 nzumelden. Viel Spaß beim Stöbern auf den Seiten\, in den Ergebnislist
 en und Bilderserien der vergangenen Läufe\, und  herzlich willkommen b
 eim Schwabacher Citylauf!\n\nLäufe\, Startzeiten\, Startgeld:\n\n\n\n\
 n\n\n\n\nStartzeit\n\n\nStartgebühr\nNachmeldung\n\n\nLauf 1: Bambini 
 (M) 400mLauf 1: Bambini (W) 400m\n\n\n10:3510:40\n\n\n3\,- €\n5\,- €\n
 \n\nLauf 2: Schüler (U10)1.100 mLauf 2: Schüler (U12)1.100 m\n\n\n10:4
 5\n10:55\n\n\n3\,- €\n5\,- €\n\n\nLauf 3: Hobbylauf 5\,4 km\n\n\n13:45
 \n\n\n8\,- €\n10\,- €\n\n\nLauf 4: Hauptlauf 10 km\n\n\n13:05\n\n\n8\,
 - €\n10\,- €\n\n\nHalbmarathon 21\,1 km\n\n\n10:30\n\n\n18\,- €\n20\,-
  €\n\n\nNordic Walking 5\,3 km\n\n\n13:10\n\n\n5\,- €\n7\,- €\n\n\n\n\
 n\n\n\n\n\n\n\n\n\n\n\n\nKurzinfo:\n\n[wpfilebase tag=file path='lauf/
 schwabacher-citylauf/20131006/20131006_SchwabacherCitylauf_Info.pdf' /
 ]\n\nAktuelle Informationen und Online Anmeldung beim Veranstalter: TV
  1848 Schwabach e.V.
X-ALT-DESC;FMTTYPE=text/html:<p>Jedes Jahr am Sonntag nach dem 3. Okto
 ber findet die größte Laufveranstaltung Schwabachs statt\, der Citylau
 f. Zentraler Schauplatz ist für Start\, Ziel und Siegerehrung der hist
 orischer Marktplatz.</p>\n<p>Für Läuferinnen und Läufer von Nah und Fe
 rn ist der Citylauf eine gute Gelegenheit\, seinen Leistungsstand unte
 r Wettkampfbedingungen zu messen. Regelmäßig werden über 500 Teilnehme
 r begrüßt\, von den Bambini über die Halbmarathonläufer bis hin zu Nor
 dic Walkern. Gerade Interessierte aus der Region können dabei bis fast
  zur letzten Minute abwarten\, was das Wetter macht\, und sich noch am
  Lauftag zum Start melden.</p>\n<p>Alle Informationen rund um den näch
 sten Citylauf finden sich auf der Homepage des Veranstalters: Angebote
 ne Läufe\, Laufstrecken\, Zeitplan\, Teilnehmerinformationen. Langfris
 tig vor dem Start des nächsten Laufs wird auch die Möglichkeit freiges
 chaltet\, sich direkt online anzumelden. Viel Spaß beim Stöbern auf de
 n Seiten\, in den Ergebnislisten und Bilderserien der vergangenen Läuf
 e\, und  herzlich willkommen beim Schwabacher Citylauf!</p>\n<p><span 
 style=text-decoration: underline\;>Läufe\, Startzeiten\, Startgeld:<st
 rong></strong><br>\n</span></p>\n<table border=0>\n<tbody>\n<tr><td><s
 pan style=font-size: small\;><br>\n</span></td>\n<td><span style=font-
 size: small\;><br>\n</span></td>\n<td><span style=font-size: small\;>S
 tartzeit</span></td>\n<td><span style=font-size: small\;><br>\n</span>
 </td>\n<td><span style=font-size: small\;>Startgebühr</span></td>\n<td
 ><span style=font-size: small\;>Nachmeldung</span></td></tr>\n<tr><td>
 <span style=font-size: 12px\;>Lauf 1: <strong>Bambini (M) 400m</strong
 ></span><span style=font-size: 12px\;>Lauf 1: <strong>Bambini (W) 400m
 </strong></span></td>\n<td><span style=font-size: small\;><br>\n</span
 ></td>\n<td style=text-align: center\;><span style=font-size: 12px\;>1
 0:35</span><span style=font-size: 12px\;>10:40</span></td>\n<td><span 
 style=font-size: small\;><br>\n</span></td>\n<td style=text-align: cen
 ter\;><span style=font-size: small\;>3\,- €</span></td>\n<td style=tex
 t-align: center\;><span style=font-size: small\;>5\,- €</span></td></t
 r>\n<tr><td><span style=font-size: 12px\;>Lauf 2: <strong>Schüler (U10
 )1.100 m</strong></span><span style=font-size: 12px\;>Lauf 2: <strong>
 Schüler (U12)1.100 m</strong></span></td>\n<td><span style=font-size: 
 12px\;><br>\n</span></td>\n<td style=text-align: center\;><span style=
 font-size: 12px\;>10:45<br>\n</span><span style=font-size: 12px\;>10:5
 5</span></td>\n<td><span style=font-size: small\;><br>\n</span></td>\n
 <td style=text-align: center\;><span style=font-size: small\;>3\,- €</
 span></td>\n<td style=text-align: center\;><span style=font-size: smal
 l\;>5\,- €</span></td></tr>\n<tr><td><span style=font-size: 12px\;>Lau
 f 3: <strong>Hobbylauf 5\,4 km</strong></span></td>\n<td><span style=f
 ont-size: small\;><br>\n</span></td>\n<td style=text-align: center\;><
 span style=font-size: 12px\;>13:45</span></td>\n<td><span style=font-s
 ize: small\;><br>\n</span></td>\n<td style=text-align: center\;><span 
 style=font-size: small\;>8\,- €</span></td>\n<td style=text-align: cen
 ter\;><span style=font-size: small\;>10\,- €</span></td></tr>\n<tr><td
 ><span style=font-size: 12px\;>Lauf 4: <strong>Hauptlauf 10 km</strong
 ></span></td>\n<td><span style=font-size: small\;><br>\n</span></td>\n
 <td style=text-align: center\;><span style=font-size: 12px\;>13:05</sp
 an></td>\n<td><span style=font-size: small\;><br>\n</span></td>\n<td s
 tyle=text-align: center\;><span style=font-size: small\;>8\,- €</span>
 </td>\n<td style=text-align: center\;><span style=font-size: small\;>1
 0\,- €</span></td></tr>\n<tr><td><span style=font-size: 12px\;><strong
 >Halbmarathon 21\,1 km</strong></span></td>\n<td><span style=font-size
 : small\;><br>\n</span></td>\n<td style=text-align: center\;><span sty
 le=font-size: 12px\;>10:30</span></td>\n<td><span style=font-size: sma
 ll\;><br>\n</span></td>\n<td style=text-align: center\;><span style=fo
 nt-size: small\;>18\,- €</span></td>\n<td style=text-align: center\;><
 span style=font-size: small\;>20\,- €</span></td></tr>\n<tr><td><span 
 style=font-size: 12px\;><strong>Nordic Walking 5\,3 km</strong></span>
 </td>\n<td><span style=font-size: small\;><br>\n</span></td>\n<td styl
 e=text-align: center\;><span style=font-size: 12px\;>13:10</span></td>
 \n<td><span style=font-size: small\;><br>\n</span></td>\n<td style=tex
 t-align: center\;><span style=font-size: small\;>5\,- €</span></td>\n<
 td style=text-align: center\;><span style=font-size: small\;>7\,- €</s
 pan></td></tr>\n<tr><td><span style=font-size: 12px\;><br>\n</span></t
 d>\n<td><span style=font-size: small\;><br>\n</span></td>\n<td style=t
 ext-align: center\;><span style=font-size: small\;><br>\n</span></td>\
 n<td><span style=font-size: small\;><br>\n</span></td>\n<td style=text
 -align: center\;><span style=font-size: small\;><br>\n</span></td>\n<t
 d style=text-align: center\;></td></tr>\n</tbody>\n</table>\n<p>Kurzin
 fo:</p>\n<p>[wpfilebase tag=file path=&#8217\;lauf/schwabacher-citylau
 f/20131006/20131006_SchwabacherCitylauf_Info.pdf&#8216\; /]</p>\n<p>Ak
 tuelle Informationen und Online Anmeldung beim Veranstalter: <a href=h
 ttp://www.schwabacher-citylauf.de target=_blank>TV 1848 Schwabach e.V.
 </a></p>\n
URL:https://www.runningsocks.de/wordpress/terminkalender/eventsinglepa
 ge/?event_id=184&lang=de
ATTACH:https://www.runningsocks.de/wordpress/terminkalender/eventsingl
 epage/?event_id=184&lang=de
LOCATION:Marktplatz Schwabach\, Martkplatz\, Schwabach
END:VEVENT
END:VCALENDAR
