BEGIN:VCALENDAR
VERSION:2.0
METHOD:PUBLISH
PRODID:-//hacksw/handcal//NONSGML v1.0//EN
BEGIN:VEVENT
DTSTAMP:20260419T165504Z
DTSTART:20130616T073000Z
DTEND:20130616T120000Z
UID:20130616T073000Z-20130616T120000Z-185@www.runningsocks.de
SUMMARY:7. Metropolmarathon Fürth
DESCRIPTION:Inzwischen hat sich der Metropolmarathon Fürth zu einer fe
 sten Größe im Städtedreieck Fürth\, Erlangen\, Nürnberg etabliert und 
 startet dieses Jahr in seine 7. Auflage.\nVom 15.Juni bis 16. Juni 201
 3 findet in Fürth der Metropolmarathon statt. Ursprünglich sollte dies
 e Laufveranstaltung jedes Jahr in einer anderen Stadt der Metropolregi
 on Nürnberg – Fürth – Erlangen ausgetragen werden\, aber es ist dann d
 och bei Fürth geblieben\, wo im Jahr 2007 auch der erste Metropolmarat
 hon ausgetragen wurde – damals noch unter dem Namen Jahrtausendmaratho
 n. 2007 wurde nämlich das tausendjährige Bestehen der Stadt Fürth gefe
 iert. Veranstalter des Metropolmarathons ist auch dieses Jahr wieder d
 as städtische Sportamt unterd er Leitung von Bern van Trill\nStartzeit
 en:\n9:00 Uhr:  Halbmarathon\n9:30 Uhr:  Marathon\n10:00 Uhr:  Staffel
 marathon\n10.00 Uhr: 10\,5 km Volkslauf\n10.00 Uhr: 10\,5 km Nordic Wa
 lking\nDie Startgebühren in Kürze:\nHalbmarathon\n\nBis 31. Dezember 2
 012: 25 Euro\nBis 31. März 2013: 29 Euro\nBis 24. Mai 2013: 33 Euro\nN
 achmeldung 16. Juni 2013: 40 Euro\nMarathon\n\nBis 31. Dezember 2012: 
 29\,90 Euro\nBis 31. März 2013: 46 Euro\nBis 24. Mai 2013: 53 Euro\nNa
 chmeldung 16. Juni 2012: 60 Euro\nStaffel Marathon\n\nBis 31. Dezember
  2012: 90  Euro\nBis 31. März 2013: 100 Euro\nBis 24. Mai 2013: 110 Eu
 ro\nNachmeldung 16. Juni 2013: 130 Euro\n10\,5Km Volkslauf\n\nBis 31. 
 Dezember 2012: 15 Euro\nBis 31. März 2013: 17 Euro\nBis 24. Mai 2013: 
 20 Euro\nNachmeldung 16. Juni 2013: 25 Euro\n10\,5Km Nordic Walking\n\
 nBis 31. Dezember 2012: 15 EuroBis 31. März 2013: 17 EuroBis 24. Mai 2
 013: 20 EuroNachmeldung 16. Juni 2013: 25 Euro\nWeitere\, aktuelle Inf
 o's und Onlineanmeldung beim Veranstalter: Metropolmarathon Fürth\nAus
 schreibung:\n[wpfilebase tag=file path='lauf/metropolmarathon-fuerth/2
 0130616/20120616_MetropolMarathonFuerth_Ausschreibung.pdf' /]
X-ALT-DESC;FMTTYPE=text/html:<p style=text-align: justify\;>Inzwischen
  hat sich der Metropolmarathon Fürth zu einer festen Größe im Städtedr
 eieck Fürth\, Erlangen\, Nürnberg etabliert und startet dieses Jahr in
  seine 7. Auflage.</p>\n<p style=text-align: justify\;>Vom 15.Juni bis
  16. Juni 2013 findet in Fürth der Metropolmarathon statt. Ursprünglic
 h sollte diese Laufveranstaltung jedes Jahr in einer anderen Stadt der
  Metropolregion Nürnberg – Fürth – Erlangen ausgetragen werden\, aber 
 es ist dann doch bei Fürth geblieben\, wo im Jahr 2007 auch der erste 
 Metropolmarathon ausgetragen wurde – damals noch unter dem Namen Jahrt
 ausendmarathon. 2007 wurde nämlich das tausendjährige Bestehen der Sta
 dt Fürth gefeiert. Veranstalter des Metropolmarathons ist auch dieses 
 Jahr wieder das städtische Sportamt unterd er Leitung von Bern van Tri
 ll</p>\n<p style=text-align: justify\;><strong>Startzeiten</strong>:<b
 r>\n9:00 Uhr:  Halbmarathon<br>\n9:30 Uhr:  Marathon<br>\n10:00 Uhr:  
 Staffelmarathon<br>\n10.00 Uhr: 10\,5 km Volkslauf<br>\n10.00 Uhr: 10\
 ,5 km Nordic Walking</p>\n<p style=text-align: justify\;><strong>Die S
 tartgebühren in Kürze:</strong></p>\n<p style=text-align: justify\;><s
 pan style=text-decoration: underline\;>Halbmarathon</span></p>\n<addre
 ss style=text-align: justify\;>Bis 31. Dezember 2012: 25 Euro<br>\nBis
  31. März 2013: 29 Euro<br>\nBis 24. Mai 2013: 33 Euro<br>\nNachmeldun
 g 16. Juni 2013: 40 Euro</address>\n<p style=text-align: justify\;><sp
 an style=text-decoration: underline\;>Marathon</span></p>\n<address st
 yle=text-align: justify\;>Bis 31. Dezember 2012: 29\,90 Euro<br>\nBis 
 31. März 2013: 46 Euro<br>\nBis 24. Mai 2013: 53 Euro<br>\nNachmeldung
  16. Juni 2012: 60 Euro</address>\n<p style=text-align: justify\;><spa
 n style=text-decoration: underline\;>Staffel Marathon</span></p>\n<add
 ress style=text-align: justify\;>Bis 31. Dezember 2012: 90  Euro<br>\n
 Bis 31. März 2013: 100 Euro<br>\nBis 24. Mai 2013: 110 Euro<br>\nNachm
 eldung 16. Juni 2013: 130 Euro</address>\n<p style=text-align: justify
 \;><span style=text-decoration: underline\;>10\,5Km Volkslauf</span></
 p>\n<address style=text-align: justify\;>Bis 31. Dezember 2012: 15 Eur
 o<br>\nBis 31. März 2013: 17 Euro<br>\nBis 24. Mai 2013: 20 Euro<br>\n
 Nachmeldung 16. Juni 2013: 25 Euro</address>\n<p style=text-align: jus
 tify\;><span style=text-decoration: underline\;>10\,5Km Nordic Walking
 </span></p>\n<address>Bis 31. Dezember 2012: 15 Euro</address>\n<addre
 ss>Bis 31. März 2013: 17 Euro</address>\n<address>Bis 24. Mai 2013: 20
  Euro</address>\n<address>Nachmeldung 16. Juni 2013: 25 Euro</address>
 \n<p style=text-align: justify\;>Weitere\, aktuelle Info&#8217\;s und 
 Onlineanmeldung beim Veranstalter: <a href=http://www.metropolmarathon
 .de target=_blank>Metropolmarathon Fürth</a></p>\n<p style=text-align:
  justify\;>Ausschreibung:</p>\n<p style=text-align: justify\;>[wpfileb
 ase tag=file path=&#8217\;lauf/metropolmarathon-fuerth/20130616/201206
 16_MetropolMarathonFuerth_Ausschreibung.pdf&#8216\; /]</p>\n
URL:https://www.runningsocks.de/wordpress/terminkalender/eventsinglepa
 ge/?event_id=185&lang=de
ATTACH:https://www.runningsocks.de/wordpress/terminkalender/eventsingl
 epage/?event_id=185&lang=de
LOCATION:Fürther Freiheit\, Fürther Freiheit\, Fürth
END:VEVENT
END:VCALENDAR
