BEGIN:VCALENDAR
VERSION:2.0
METHOD:PUBLISH
PRODID:-//hacksw/handcal//NONSGML v1.0//EN
BEGIN:VEVENT
DTSTAMP:20260419T165720Z
DTSTART:20130519T070000Z
DTEND:20130519T130000Z
UID:20130519T070000Z-20130519T130000Z-186@www.runningsocks.de
SUMMARY:13. iWelt Marathon Würzburg
DESCRIPTION:Der iWelt Marathon Würzburg wird am 19. Mai 2013 zum 13. M
 al um 9:00 Uhr gestartet. Über 5.000 Teilnehmer genießen diesen Frühja
 hrsmarathon\, der mit seinem Zwei-Runden-Kurs an fast allen Würzburger
  Baudenkmälern vorbeiführt.\n\nStartzeiten:\n\n	ab 09:00 Marathon und 
 Halbmarathon in Blöcken\n	Umstieg von Marathon nach Halbmarathon währe
 nd des Laufes möglich\n	Zeitlimit: 14:30 / 05:30h\n	Qualifikation zum 
 Boston Marathon möglich\n\nStartgebühren:\n\n\n\nStartgebühren Maratho
 n ab 18 Jahre\n45\,– €\n\n\n\nAufschlag ab 1.1.2013\n6\,– €\n\n\n\nAuf
 schlag ab 1.4.2013\n10\,– €\n\n\n\nNachmeldung am Marathonwochenende\n
 15\,– €\n\n\n\n\n\n\nStartgebühren Halbmarathon ab 16 Jahre\n35\,– €\n
 \n\n\nAufschlag ab 1.1.2013\n6\,– €\n\n\n\nAufschlag ab 1.4.2013\n10\,
 – €\n\n\n\nNachmeldung am Marathonwochenende\n15\,– €\n\n\n\nMeldeschl
 uß: 28.04.2013.\n\nNachmeldungen: am 15.06. / 16.06. im Congress Centr
 um Würzburg (CCW)\n\nAlle weiteren aktuellen Info's und Onlineanmeldun
 g diekt beim Veranstalter: iWelt Marathon Würzburg\n\nAusschreibung:
X-ALT-DESC;FMTTYPE=text/html:<p>Der iWelt Marathon Würzburg wird am 19
 . Mai 2013 zum 13. Mal um 9:00 Uhr gestartet. Über 5.000 Teilnehmer ge
 nießen diesen Frühjahrsmarathon\, der mit seinem Zwei-Runden-Kurs an f
 ast allen Würzburger Baudenkmälern vorbeiführt.</p>\n<p>Startzeiten:</
 p>\n<ul>\n<li>ab 09:00 Marathon und Halbmarathon in Blöcken</li>\n<li>
 Umstieg von Marathon nach Halbmarathon während des Laufes möglich</li>
 \n<li>Zeitlimit: 14:30 / 05:30h</li>\n<li>Qualifikation zum Boston Mar
 athon möglich</li>\n</ul>\n<p>Startgebühren:</p>\n<table style=width: 
 301px\; height: 79px\;>\n<tbody>\n<tr><td>Startgebühren Marathon ab 18
  Jahre</td>\n<td>45\,– €</td>\n<td></td></tr>\n<tr><td>Aufschlag ab 1.
 1.2013</td>\n<td>6\,– €</td>\n<td></td></tr>\n<tr><td>Aufschlag ab 1.4
 .2013</td>\n<td>10\,– €</td>\n<td></td></tr>\n<tr><td>Nachmeldung am M
 arathonwochenende</td>\n<td>15\,– €</td></tr>\n</tbody>\n</table>\n<ta
 ble>\n<tbody>\n<tr><td>Startgebühren Halbmarathon ab 16 Jahre</td>\n<t
 d>35\,– €</td>\n<td></td></tr>\n<tr><td>Aufschlag ab 1.1.2013</td>\n<t
 d>6\,– €</td>\n<td></td></tr>\n<tr><td>Aufschlag ab 1.4.2013</td>\n<td
 >10\,– €</td>\n<td></td></tr>\n<tr><td>Nachmeldung am Marathonwochenen
 de</td>\n<td>15\,– €</td></tr>\n</tbody>\n</table>\n<p>Meldeschluß: 28
 .04.2013.</p>\n<p>Nachmeldungen: am 15.06. / 16.06. im Congress Centru
 m Würzburg (CCW)</p>\n<p>Alle weiteren aktuellen Info&#8217\;s und Onl
 ineanmeldung diekt beim Veranstalter: <a href=http://www.wuerzburg-mar
 athon.de target=_blank>iWelt Marathon Würzburg</a></p>\n<p>Ausschreibu
 ng:</p>\n
URL:https://www.runningsocks.de/wordpress/terminkalender/eventsinglepa
 ge/?event_id=186&lang=de
ATTACH:https://www.runningsocks.de/wordpress/terminkalender/eventsingl
 epage/?event_id=186&lang=de
LOCATION:CCW - Congress Centrum Würzburg\, Pleichertorstraße 5\, Würzb
 urg
END:VEVENT
END:VCALENDAR
