BEGIN:VCALENDAR
VERSION:2.0
METHOD:PUBLISH
PRODID:-//hacksw/handcal//NONSGML v1.0//EN
BEGIN:VEVENT
DTSTAMP:20260419T165512Z
DTSTART:20130420T070000Z
DTEND:20130420T100000Z
UID:20130420T070000Z-20130420T100000Z-187@www.runningsocks.de
SUMMARY:3. IFB HiRo Run 21.1
DESCRIPTION:Ein zauberhafter Halbmarathon - von Hilpoltstein über den 
 Main-Donau-Kanal zum Rothsee und wieder zurück.\n\nInfos :\n\n\n\nAuss
 chreibung:\n3. IFB HiRo Run 21.1\n\n\nTermin:\nSamstag\, 12.04.2013\n\
 n\nVeranstalter:\nLa Carrera TriTeam Rothsee 09 e.V.\n\n\nStartzeit:\n
 17:00 Uhr\n\n\nZielschluss:\n20:00 Uhr\n\n\nStart / Ziel:\nInnenstadt 
 von Hilpoltstein - Marktstraße\n\n\nGrußworte:\nBürgermeister Markus M
 ahl\n\n\n\nLandrat Herbert Eckstein\n\n\n\nLeichathletik Kreisvorsitze
 nden Ralph Edelhäußer\n\n\nTeilnahme:\nTeilnahmeberechtigt am Halbmara
 thon sind nur die Jahrgänge ab 1997 (16 Jahre und älter). Startberecht
 igt sind mit der offiziellen Startnummer alle\, die trainiert haben un
 d gegen deren Teilnahme keine ärztlichen Bedenken bestehen. Eine Verei
 nszugehörigkeit ist nicht erforderlich.\n\n\nTeilnehmerlimit:\n1000 St
 arter\n\n\nMeldeschluss:\nEntweder wenn das Teilnehmerlimit erreicht i
 st oder der 13.04.2013\n\n\nMeldegebühr:\nbis 30. November 2012\n19 Eu
 ro (zuzügl. 2 € Chipmiete)\n\n\n\nvon 01.12.2012 bis 31.01.2013\n22 Eu
 ro (zuzügl. 2 € Chipmiete)\n\n\n\nvon 01.02.2012 bis 12.04.2013\n25 Eu
 ro (zuzügl. 2 € Chipmiete)\n\n\n\nNachmeldungen\n30 Euro (zuzügl. 2 € 
 Chipmiete) oder keine Nachmeldung möglich wenn Teilnehmerlimit erreich
 t\n\n\n\nEs wird bei Nichtstart keine Meldegebühr zurückerstattet!\n\n
 \nFunktionsshirt\nJeder Teilnehmer erhält für den Aufpreis von nur 5 E
 uro (Angabe bei Anmeldung) beim Start ein HiRo Run Funktionsshirt. Bes
 tellung eines Funktionsshirt bei einer Meldung bis zum 31.12.2012 mögl
 ich\n\n\nStartnummern-ausgabe\nGeschäftsräume IFB\, INNOVATIVE FINANZB
 ERATUNGS AG\, Christoph-Sturm-Str. 20 in Hilpoltstein\n\n\nZugläufer\n
 Es gibt sogenannte Zug- oder Luftballon Läufer für 1:30 Stunden\, 1:45
  Stunden\, 2:00 Stunden und 2:15 Stunden Zielzeit\n\n\nZeitmessung\nEr
 folg über Chipmessung\n\n\nVerpflegung\nEs werden Versorgungsstellen m
 it Wasser und Mineraldrinks aufgebaut\n\n\nUmkleidung und Duschen\nSta
 dthalle Hilpoltstein\n\n\nOrganisations-leitung:\nIna Schuhmann\, Jenn
 ifer Bürner und Ralf Schuhmann\n\n\nInternet mit Ausschreibung\, Meldu
 ng und Ergebnissen:\nhttp://www.hiro-run.de\n\n\nWertungen:\nEine Klas
 senteilung erfolgt in nachstehenden Schritten: 16-19\, 20-29\, 30-34\,
  35-39\, 40-44\, 45-49\, 50-54\, 55-59\, 60-64\, 65-69\, 70 Jahre und 
 älter. Maßgebend für die Einteilung in die Altersklassen ist das Gebur
 tsjahr.Frauen und Männer werden lt. Leichtathletikordnung (LAO) des DL
 V getrennt voneinander gewertet.\n\n\nZeitplan:\nSamstag\, 20.04.2013\
 n\n\n\n\n\n\n	Startnummernausgabe\n\n\n12:00 - 16:45 Uhr Geschäftsräum
 e IFB\, INNOVATIVE FINANZBERATUNGS AG\, Christoph-Sturm-Str. 20 in Hil
 poltstein\n\n\n\n\n\n	Start Halbmarathon\n\n\n17:00 Uhr - Marktstr.\n\
 n\n\n\n\n	Zielschluss\n\n\n20:00 Uhr - Marktstr.\n\n\n\n\n\n	Siegerehr
 ung\n\n\nca. 20:15 Uhr - Marktstraße bei jedem Wetter\n\n\nHaftung:\nD
 ie Teilnahme erfolgt auf eigenes Risiko. Der Veranstalter übernimmt ke
 ine Haftung bei Unfällen auf der Strecke und gegen Dritte.\n\n\nHinwei
 s zur Zeitmessung\nDie Zeitmessung erfolgt ausschließlich mit einem vo
 m Veranstalter gestellten und am Schuh zu tragenden Easychip von Daven
 go.\nEine Teilnahme ist nur mit einem Easychip möglich – ohne Chip kei
 n Start!Es können keine eigenen Chip verwenden werden.Es handelt sich 
 dabei um einen Einwegchip - es entfällt dadurch die Leihgebühr.Bitte b
 efestigt Euren Easychip\, den ihr zusammen mit euerer Startnummer beko
 mmt\, sicher in der Schnürung Eures Schuhs\, um die Zeitmessung zu gew
 ährleisten.\n\n\nDisqualifikation:\nUnsere Veranstaltung wird nach den
  Richtlinien des DLV bzw. nach Vorgabe des Veranstalters ausgerichtet.
 \nEin Verletzen führt unweigerlich zu einer Disqualifikation\, hierzu 
 zählen insbesondere:\n\n	der Start ohne Startnummer\n	das Unkenntlichm
 achen\, Abdecken oder Entfernen der Sponsorenlogos etc. an der Startnu
 mmer.\n	der Start ohne ZeitmessChip\n	die Überschreitung des vorgegebe
 nen Zeitlimits\n	das Verlassen und/oder Abkürzen der Strecke\n	die Unt
 erschreitung des vorgegebenen Alters\n\nBabyjogger dürfen mitgeführt w
 erden\, bitte beim Start jedoch hinter dem Starterfeld einordnen. Das 
 selbe gilt auch für Nordic Walker mit Stecken - ACHTUNG Zeitlimit von 
 3 Stunden beachten.\n\n\n\n(Quelle: http://www.hiro-run.de/)\n\nAlle w
 eiteren\, aktuellen Infos sowie Online Anmeldung auf der Seite des Ver
 anstalters:  IFB HiRo Run 21.1
X-ALT-DESC;FMTTYPE=text/html:<p>Ein zauberhafter Halbmarathon &#8211\;
  von Hilpoltstein über den Main-Donau-Kanal zum Rothsee und wieder zur
 ück.</p>\n<p><span style=text-decoration: underline\;><strong>Infos :<
 /strong></span></p>\n<table id=table4 style=width: 700px\; border=1>\n
 <tbody>\n<tr><td align=left valign=top width=150><strong>Ausschreibung
 :</strong></td>\n<td colspan=2 align=left valign=top width=650><strong
 >3. IFB HiRo Run 21.1</strong></td></tr>\n<tr><td align=left valign=to
 p width=150><strong>Termin:</strong></td>\n<td colspan=2 align=left va
 lign=top width=650><strong>Samstag\, 12.04.2013</strong></td></tr>\n<t
 r><td align=left valign=top width=150>Veranstalter:</td>\n<td colspan=
 2 align=left valign=top width=650><a href=http://www.lacarrera-triteam
 .de/ target=_blank>La Carrera TriTeam Rothsee 09 e.V.</a></td></tr>\n<
 tr><td align=left valign=top width=150>Startzeit:</td>\n<td colspan=2 
 align=left valign=top width=650>17:00 Uhr</td></tr>\n<tr><td align=lef
 t valign=top width=150>Zielschluss:</td>\n<td colspan=2 align=left val
 ign=top width=650>20:00 Uhr</td></tr>\n<tr><td align=left valign=top w
 idth=150>Start / Ziel:</td>\n<td colspan=2 align=left valign=top width
 =650>Innenstadt von Hilpoltstein &#8211\; Marktstraße</td></tr>\n<tr><
 td align=left valign=top width=150>Grußworte:</td>\n<td colspan=2 alig
 n=left valign=top width=600>Bürgermeister Markus Mahl</td></tr>\n<tr><
 td align=left valign=top width=150></td>\n<td colspan=2 align=left val
 ign=top width=650>Landrat Herbert Eckstein</td></tr>\n<tr><td align=le
 ft valign=top width=150></td>\n<td colspan=2 align=left valign=top wid
 th=650>Leichathletik Kreisvorsitzenden Ralph Edelhäußer</td></tr>\n<tr
 ><td align=left valign=top width=150>Teilnahme:</td>\n<td colspan=2 al
 ign=left valign=top width=650>Teilnahmeberechtigt am Halbmarathon sind
  nur die Jahrgänge ab 1997 (16 Jahre und älter). Startberechtigt sind 
 mit der offiziellen Startnummer alle\, die trainiert haben und gegen d
 eren Teilnahme keine ärztlichen Bedenken bestehen. Eine Vereinszugehör
 igkeit ist nicht erforderlich.</td></tr>\n<tr><td align=left valign=to
 p width=150>Teilnehmerlimit:</td>\n<td colspan=2 align=left valign=top
  width=650>1000 Starter</td></tr>\n<tr><td align=left valign=top width
 =150>Meldeschluss:</td>\n<td colspan=2 align=left valign=top width=650
 >Entweder wenn das Teilnehmerlimit erreicht ist oder der 13.04.2013</t
 d></tr>\n<tr><td align=left valign=top width=150>Meldegebühr:</td>\n<t
 d align=left valign=top width=325>bis 30. November 2012</td>\n<td alig
 n=left valign=top width=325>19 Euro (zuzügl. 2 € Chipmiete)</td></tr>\
 n<tr><td align=left valign=top width=150></td>\n<td align=left valign=
 top width=325>von 01.12.2012 bis 31.01.2013</td>\n<td align=left valig
 n=top width=325>22 Euro (zuzügl. 2 € Chipmiete)</td></tr>\n<tr><td ali
 gn=left valign=top width=150></td>\n<td align=left valign=top width=32
 5>von 01.02.2012 bis 12.04.2013</td>\n<td align=left valign=top width=
 325>25 Euro (zuzügl. 2 € Chipmiete)</td></tr>\n<tr><td align=left vali
 gn=top width=150></td>\n<td align=left valign=top width=325>Nachmeldun
 gen</td>\n<td align=left valign=top width=325>30 Euro (zuzügl. 2 € Chi
 pmiete) oder keine Nachmeldung möglich wenn Teilnehmerlimit erreicht</
 td></tr>\n<tr><td align=left valign=top width=150></td>\n<td colspan=2
  align=left valign=top width=650>Es wird bei Nichtstart keine Meldegeb
 ühr zurückerstattet!</td></tr>\n<tr><td align=left valign=top width=15
 0>Funktionsshirt</td>\n<td colspan=2 align=left valign=top width=650>J
 eder Teilnehmer erhält für den Aufpreis von nur 5 Euro (Angabe bei Anm
 eldung) beim Start ein <strong>HiRo Run Funktionsshirt.</strong> Beste
 llung eines Funktionsshirt bei einer Meldung bis zum 31.12.2012 möglic
 h</td></tr>\n<tr><td align=left valign=top width=150>Startnummern-ausg
 abe</td>\n<td colspan=2 align=left valign=top width=650>Geschäftsräume
  IFB\, INNOVATIVE FINANZBERATUNGS AG\, Christoph-Sturm-Str. 20 in Hilp
 oltstein</td></tr>\n<tr><td align=left valign=top width=150>Zugläufer<
 /td>\n<td colspan=2 align=left valign=top width=650>Es gibt sogenannte
  Zug- oder Luftballon Läufer für 1:30 Stunden\, 1:45 Stunden\, 2:00 St
 unden und 2:15 Stunden Zielzeit</td></tr>\n<tr><td align=left valign=t
 op width=150>Zeitmessung</td>\n<td colspan=2 align=left valign=top wid
 th=650>Erfolg über Chipmessung</td></tr>\n<tr><td align=left valign=to
 p width=150>Verpflegung</td>\n<td colspan=2 align=left valign=top widt
 h=650>Es werden Versorgungsstellen mit Wasser und Mineraldrinks aufgeb
 aut</td></tr>\n<tr><td align=left valign=top width=150>Umkleidung und 
 Duschen</td>\n<td colspan=2 align=left valign=top width=650>Stadthalle
  Hilpoltstein</td></tr>\n<tr><td align=left valign=top width=150>Organ
 isations-leitung:</td>\n<td colspan=2 align=left valign=top width=650>
 Ina Schuhmann\, Jennifer Bürner und Ralf Schuhmann</td></tr>\n<tr><td 
 align=left valign=top width=150>Internet mit Ausschreibung\, Meldung u
 nd Ergebnissen:</td>\n<td colspan=2 align=left valign=top width=650><a
  href=http://www.hiro-run.de/>http://www.hiro-run.de</a></td></tr>\n<t
 r><td align=left valign=top width=150>Wertungen:</td>\n<td colspan=2 a
 lign=left valign=top width=650>Eine Klassenteilung erfolgt in nachsteh
 enden Schritten: 16-19\, 20-29\, 30-34\, 35-39\, 40-44\, 45-49\, 50-54
 \, 55-59\, 60-64\, 65-69\, 70 Jahre und älter. Maßgebend für die Einte
 ilung in die Altersklassen ist das Geburtsjahr.Frauen und Männer werde
 n lt. Leichtathletikordnung (LAO) des DLV getrennt voneinander gewerte
 t.</td></tr>\n<tr><td align=left valign=top width=150>Zeitplan:</td>\n
 <td align=left valign=top width=325>Samstag\, 20.04.2013</td>\n<td ali
 gn=left valign=top width=325></td></tr>\n<tr><td align=left valign=top
  width=150></td>\n<td align=left valign=top width=325><ul>\n<li>Startn
 ummernausgabe</li>\n</ul></td>\n<td align=left valign=top width=325><s
 pan style=color: #000000\;>12:00 &#8211\; 16:45 Uhr Geschäftsräume IFB
 \, INNOVATIVE FINANZBERATUNGS AG\, Christoph-Sturm-Str. 20 in Hilpolts
 tein</span></td></tr>\n<tr><td align=left valign=top width=150></td>\n
 <td align=left valign=top width=325><ul>\n<li>Start Halbmarathon</li>\
 n</ul></td>\n<td align=left valign=top width=325>17:00 Uhr &#8211\; Ma
 rktstr.</td></tr>\n<tr><td align=left valign=top width=150></td>\n<td 
 align=left valign=top width=325><ul>\n<li>Zielschluss</li>\n</ul></td>
 \n<td align=left valign=top width=325>20:00 Uhr &#8211\; Marktstr.</td
 ></tr>\n<tr><td align=left valign=top width=150></td>\n<td align=left 
 valign=top width=325><ul>\n<li>Siegerehrung</li>\n</ul></td>\n<td alig
 n=left valign=top width=325>ca. 20:15 Uhr &#8211\; Marktstraße bei jed
 em Wetter</td></tr>\n<tr><td align=left valign=top width=150>Haftung:<
 /td>\n<td colspan=2 align=left valign=top width=650>Die Teilnahme erfo
 lgt auf eigenes Risiko. Der Veranstalter übernimmt keine Haftung bei U
 nfällen auf der Strecke und gegen Dritte.</td></tr>\n<tr><td align=lef
 t valign=top width=150>Hinweis zur Zeitmessung</td>\n<td colspan=2 ali
 gn=left valign=top width=650>Die Zeitmessung erfolgt ausschließlich mi
 t einem vom Veranstalter gestellten und am Schuh zu tragenden Easychip
  von Davengo.<br>\nEine Teilnahme ist nur mit einem Easychip möglich –
  ohne Chip kein Start!Es können keine eigenen Chip verwenden werden.Es
  handelt sich dabei um einen Einwegchip &#8211\; es entfällt dadurch d
 ie Leihgebühr.Bitte befestigt Euren Easychip\, den ihr zusammen mit eu
 erer Startnummer bekommt\, sicher in der Schnürung Eures Schuhs\, um d
 ie Zeitmessung zu gewährleisten.</td></tr>\n<tr><td align=left valign=
 top width=150>Disqualifikation:</td>\n<td colspan=2 align=left valign=
 top width=650>Unsere Veranstaltung wird nach den Richtlinien des DLV b
 zw. nach Vorgabe des Veranstalters ausgerichtet.<br>\nEin Verletzen fü
 hrt unweigerlich zu einer Disqualifikation\, hierzu zählen insbesonder
 e:</p>\n<ul>\n<li>der Start ohne Startnummer</li>\n<li>das Unkenntlich
 machen\, Abdecken oder Entfernen der Sponsorenlogos etc. an der Startn
 ummer.</li>\n<li>der Start ohne ZeitmessChip</li>\n<li>die Überschreit
 ung des vorgegebenen Zeitlimits</li>\n<li>das Verlassen und/oder Abkür
 zen der Strecke</li>\n<li>die Unterschreitung des vorgegebenen Alters<
 /li>\n</ul>\n<p>Babyjogger dürfen mitgeführt werden\, bitte beim Start
  jedoch hinter dem Starterfeld einordnen. Das selbe gilt auch für Nord
 ic Walker mit Stecken &#8211\; ACHTUNG Zeitlimit von 3 Stunden beachte
 n.</td></tr>\n</tbody>\n</table>\n<p><strong>(Quelle: http://www.hiro-
 run.de/)</strong></p>\n<p><strong>Alle weiteren\, aktuellen Infos sowi
 e Online Anmeldung auf der Seite des Veranstalters:  <a href=http://ww
 w.hiro-run.de/>IFB HiRo Run 21.1</a></strong></p>\n
URL:https://www.runningsocks.de/wordpress/terminkalender/eventsinglepa
 ge/?event_id=187&lang=de
ATTACH:https://www.runningsocks.de/wordpress/terminkalender/eventsingl
 epage/?event_id=187&lang=de
LOCATION:Marktstrasse Hilpoltstein\, Marktstrasse 16\, Hilpoltstein
END:VEVENT
END:VCALENDAR
