BEGIN:VCALENDAR
VERSION:2.0
METHOD:PUBLISH
PRODID:-//hacksw/handcal//NONSGML v1.0//EN
BEGIN:VEVENT
DTSTAMP:20260419T165734Z
DTSTART:20120726T173000Z
DTEND:20120726T193000Z
UID:20120726T173000Z-20120726T193000Z-188@www.runningsocks.de
SUMMARY:B2RUN Nürnberg
DESCRIPTION:Deutschlands schönster Firmenlauf\, der B2RUN\, macht am 2
 6. Juli 2012 nun zum zweiten Mal Halt in Nürnberg. Die 6\,2 km lange S
 trecke führt um den Dutzenteich - belohnt werden die Läufer mit dem ei
 nzigartigen Zieleinlauf in das easyCredit-Stadion. Dabei sein kann jed
 er\, von der ICH-AG bis zum DAX-Konzern\, vom Vorstand bis zum Azubi. 
 Auch 2012 geht wieder ein Teil der Startgebühren an ein regionales Cha
 rity-Projekt.\n\nWeitere Info und Online Anmeldung auf der Seite des V
 eranstalters: B2RUN\n\nDownloads:\n\n[wpfilebase tag=list id=129 /]
X-ALT-DESC;FMTTYPE=text/html:<p>Deutschlands schönster Firmenlauf\, de
 r B2RUN\, macht am 26. Juli 2012 nun zum zweiten Mal Halt in Nürnberg.
  Die 6\,2 km lange Strecke führt um den Dutzenteich &#8211\; belohnt w
 erden die Läufer mit dem einzigartigen Zieleinlauf in das easyCredit-S
 tadion. Dabei sein kann jeder\, von der ICH-AG bis zum DAX-Konzern\, v
 om Vorstand bis zum Azubi. Auch 2012 geht wieder ein Teil der Startgeb
 ühren an ein regionales Charity-Projekt.</p>\n<p>Weitere Info und Onli
 ne Anmeldung auf der Seite des Veranstalters: <a href=http://www.b2run
 .de/index.php?id=422&amp\;no_cache=1 target=_blank>B2RUN</a></p>\n<p>D
 ownloads:</p>\n<p>[wpfilebase tag=list id=129 /]</p>\n
URL:https://www.runningsocks.de/wordpress/terminkalender/eventsinglepa
 ge/?event_id=188&lang=de
ATTACH:https://www.runningsocks.de/wordpress/terminkalender/eventsingl
 epage/?event_id=188&lang=de
LOCATION:Dutzendteich\, Zeppelinstraße\, Nürnberg
END:VEVENT
END:VCALENDAR
