BEGIN:VCALENDAR
VERSION:2.0
METHOD:PUBLISH
PRODID:-//hacksw/handcal//NONSGML v1.0//EN
BEGIN:VEVENT
DTSTAMP:20260419T165412Z
DTSTART:20130725T173000Z
DTEND:20130725T193000Z
UID:20130725T173000Z-20130725T193000Z-189@www.runningsocks.de
SUMMARY:3. B2RUN Nürnberg
DESCRIPTION:Deutschlands schönster Firmenlauf\, der B2RUN\, macht am 2
 5. Juli 2013 wieder in Nürnberg Halt. Die 6\,2 km lange Strecke führt 
 um den Dutzenteich - belohnt werden die Läufer mit dem einzigartigen Z
 ieleinlauf in das easyCredit-Stadion. Dabei sein kann jeder\, von der 
 ICH-AG bis zum DAX-Konzern\, vom Vorstand bis zum Azubi. Auch 2013 geh
 t wieder ein Teil der Startgebühren an ein regionales Charity-Projekt.
 \n\nÜbersicht zur Preisgestaltung:\n   \n\n\nArtikel\nnetto\nbrutto\n\
 n\nB2RUN Einsteigercoach\n7\,90 €\n9\,40 €\n\n\nDurchstarter\n25\,90 €
 \n30\,82 €\n\n\nFunstarter (bis 31.12.2012)\n17\,90 €\n21\,30 €\n\n\nF
 unstarter (bis 31.03.2013)\n20\,90 €\n24\,87 €\n\n\nFunstarter (ab 01.
 04.2013)\n23\,90 €\n28\,44 €\n\n\nFantickets\n4\,20 €\n5\,00 €\n\n\nPr
 emiumteam Paket Gold\n1.990\,00 €\n2.368\,10 €\n\n\nPremiumteam Paket 
 Silber\n995\,00 €\n1.184\,05 €\n\n\nMeetingpoint\n250\,00 €\n297\,50 €
 \n\n\nSpeisenjetons\n3\,40 €\n4\,05 €\n\n\nGetränkejetons\n3\,40 €\n4\
 ,05 €\n\n\n\nWeitere Info und Online Anmeldung auf der Seite des Veran
 stalters: B2RUN\n\nDownloads:\n\n[wpfilebase tag=list id=162 /]
X-ALT-DESC;FMTTYPE=text/html:<p>Deutschlands schönster Firmenlauf\, de
 r B2RUN\, macht am 25. Juli 2013 wieder in Nürnberg Halt. Die 6\,2 km 
 lange Strecke führt um den Dutzenteich &#8211\; belohnt werden die Läu
 fer mit dem einzigartigen Zieleinlauf in das easyCredit-Stadion. Dabei
  sein kann jeder\, von der ICH-AG bis zum DAX-Konzern\, vom Vorstand b
 is zum Azubi. Auch 2013 geht wieder ein Teil der Startgebühren an ein 
 regionales Charity-Projekt.</p>\n<p>Übersicht zur Preisgestaltung:</p>
 \n<table style=width: 309px\; border=0 cellspacing=0 cellpadding=0 ali
 gn=center>\n<colgroup>\n<col width=175 />\n<col span=2 width=67 /> </c
 olgroup>\n<tbody>\n<tr><td width=175 height=20><strong>Artikel</strong
 ></td>\n<td width=67><strong>netto</strong></td>\n<td width=67><strong
 >brutto</strong></td></tr>\n<tr><td height=20>B2RUN Einsteigercoach</t
 d>\n<td align=right>7\,90 €</td>\n<td align=right>9\,40 €</td></tr>\n<
 tr><td height=20>Durchstarter</td>\n<td align=right>25\,90 €</td>\n<td
  align=right>30\,82 €</td></tr>\n<tr><td height=20>Funstarter (bis 31.
 12.2012)</td>\n<td align=right>17\,90 €</td>\n<td align=right>21\,30 €
 </td></tr>\n<tr><td height=20>Funstarter (bis 31.03.2013)</td>\n<td al
 ign=right>20\,90 €</td>\n<td align=right>24\,87 €</td></tr>\n<tr><td h
 eight=20>Funstarter (ab 01.04.2013)</td>\n<td align=right>23\,90 €</td
 >\n<td align=right>28\,44 €</td></tr>\n<tr><td height=20>Fantickets</t
 d>\n<td align=right>4\,20 €</td>\n<td align=right>5\,00 €</td></tr>\n<
 tr><td height=20>Premiumteam Paket Gold</td>\n<td align=right>1.990\,0
 0 €</td>\n<td align=right>2.368\,10 €</td></tr>\n<tr><td height=20>Pre
 miumteam Paket Silber</td>\n<td align=right>995\,00 €</td>\n<td align=
 right>1.184\,05 €</td></tr>\n<tr><td height=20>Meetingpoint</td>\n<td 
 align=right>250\,00 €</td>\n<td align=right>297\,50 €</td></tr>\n<tr><
 td height=20>Speisenjetons</td>\n<td align=right>3\,40 €</td>\n<td ali
 gn=right>4\,05 €</td></tr>\n<tr><td height=20>Getränkejetons</td>\n<td
  align=right>3\,40 €</td>\n<td align=right>4\,05 €</td></tr>\n</tbody>
 \n</table>\n<p>Weitere Info und Online Anmeldung auf der Seite des Ver
 anstalters: <a href=http://www.b2run.de/index.php?id=422&amp\;no_cache
 =1 target=_blank>B2RUN</a></p>\n<p>Downloads:</p>\n<p>[wpfilebase tag=
 list id=162 /]</p>\n
URL:https://www.runningsocks.de/wordpress/terminkalender/eventsinglepa
 ge/?event_id=189&lang=de
ATTACH:https://www.runningsocks.de/wordpress/terminkalender/eventsingl
 epage/?event_id=189&lang=de
LOCATION:Dutzendteich\, Zeppelinstraße\, Nürnberg
END:VEVENT
END:VCALENDAR
