BEGIN:VCALENDAR
VERSION:2.0
METHOD:PUBLISH
PRODID:-//hacksw/handcal//NONSGML v1.0//EN
BEGIN:VEVENT
DTSTAMP:20260419T165114Z
DTSTART:20130630T070000Z
DTEND:20130630T130000Z
UID:20130630T070000Z-20130630T130000Z-190@www.runningsocks.de
SUMMARY:25. Cadion Rothseetriathlon
DESCRIPTION:Wahrscheinlich ab dem 07.01.2013 wird das Anmeldeportal fü
 r den 25. Cadion Rothsee Triathlon am 29./30. Juni 2013 eröffnet.\n\nF
 ür das Wochenende werden ca. 2000 Sportler erwartet. 1400 Athleten wer
 den alleine am Sonntag für die olympische Distanz angenommen werden\, 
 die gleichzeitig wieder als Mittelfränkische Meisterschaft ausgetragen
  wird.\n\nAm Samstag finden Schüler-\, Jugend-\, Schnupper- und Sprint
 distanzen statt. Hier wird mit ca. 600 Teilnehmer gerechnet.\n\nWeiter
 e Kurzinfo's:\nAchtung: Aktuelle Infos folgen\, sobald verfügbar (Janu
 ar 2013). \nStart/Ziel:\n\nSegelzentrum Heuberg\, Hilpoltstein\n\nWett
 kampfformate:\n\nSamstag 29. Juni 2013:\n\n\n\nKlasse\nDistanzen \n\n(
 Schwimmen/Rad/Lauifen)\nWertungen\n\n\nSchüler D\n50m / 1\,0km / 0\,2k
 m\nMittelfränkische Meisterschaft\n\n\nSchüler C\n50m / 2\,5km / 0\,4k
 m\nMittelfränkische Meisterschaft\n\n\nSchüler B\n100m / 5\,0km / 1\,0
 km\nMittelfränkische Meisterschaft\n\n\nSchüler A\n400m / 6\,5km / 2\,
 5km\nMittelfränkische Meisterschaft\n\n\nJedermann\n200m / 5\,0km / 2\
 ,5km\n\n\n\nJugend B\n400m / 6\,5km / 2\,5km\n\n\n\nJug. A/Jun\n750m /
  19\,5km / 5\,0km\n\n\n\nSprint\n750m / 19\,5km / 5\,0km\n\n\n\n\nSonn
 tag 30. Juni 2013:\n\n1\,5Km / 42 km / 10km       Mfr. Meisterschaft /
  Staffel / Einzel\n\nAusschreibung:\n\nFolgt ....\n\nAktuelle Info's u
 nd Onlineanmeldung auf der Seite des Veranstalters: Rothsee Triathlon
X-ALT-DESC;FMTTYPE=text/html:<p>Wahrscheinlich ab dem 07.01.2013 wird 
 das Anmeldeportal für den 25. Cadion Rothsee Triathlon am 29./30. Juni
  2013 eröffnet.</p>\n<p>Für das Wochenende werden ca. 2000 Sportler er
 wartet. 1400 Athleten werden alleine am Sonntag für die olympische Dis
 tanz angenommen werden\, die gleichzeitig wieder als Mittelfränkische 
 Meisterschaft ausgetragen wird.</p>\n<p>Am Samstag finden Schüler-\, J
 ugend-\, Schnupper- und Sprintdistanzen statt. Hier wird mit ca. 600 T
 eilnehmer gerechnet.</p>\n<p>Weitere Kurzinfo&#8217\;s:</p>\n<p style=
 text-align: center\;><span style=text-decoration: underline\;><strong>
 <span style=color: #ff0000\; text-decoration: underline\;>Achtung: Akt
 uelle Infos folgen\, sobald verfügbar (Januar 2013).</span> </strong><
 /span></p>\n<p><strong>Start/Ziel:</strong><br>\n<br>\nSegelzentrum He
 uberg\, Hilpoltstein</p>\n<p><strong>Wettkampfformate:</strong></p>\n<
 p><span style=text-decoration: underline\;>Samstag 29. Juni 2013:</spa
 n></p>\n<table border=0>\n<tbody>\n<tr><td style=text-align: center\;>
 <strong>Klasse</strong></td>\n<td style=text-align: center\;><strong>D
 istanzen </strong></p>\n<p><strong>(Schwimmen/Rad/Lauifen)</strong></t
 d>\n<td style=text-align: center\;><strong>Wertungen</strong></td></tr
 >\n<tr><td>Schüler D</td>\n<td>50m / 1\,0km / 0\,2km</td>\n<td>Mittelf
 ränkische Meisterschaft</td></tr>\n<tr><td>Schüler C</td>\n<td>50m / 2
 \,5km / 0\,4km</td>\n<td>Mittelfränkische Meisterschaft</td></tr>\n<tr
 ><td>Schüler B</td>\n<td>100m / 5\,0km / 1\,0km</td>\n<td>Mittelfränki
 sche Meisterschaft</td></tr>\n<tr><td>Schüler A</td>\n<td>400m / 6\,5k
 m / 2\,5km</td>\n<td>Mittelfränkische Meisterschaft</td></tr>\n<tr><td
 >Jedermann</td>\n<td>200m / 5\,0km / 2\,5km</td>\n<td></td></tr>\n<tr>
 <td>Jugend B</td>\n<td>400m / 6\,5km / 2\,5km</td>\n<td></td></tr>\n<t
 r><td>Jug. A/Jun</td>\n<td>750m / 19\,5km / 5\,0km</td>\n<td></td></tr
 >\n<tr><td>Sprint</td>\n<td>750m / 19\,5km / 5\,0km</td>\n<td></td></t
 r>\n</tbody>\n</table>\n<p><span style=text-decoration: underline\;>So
 nntag 30. Juni 2013:</span><br>\n<br>\n1\,5Km / 42 km / 10km       Mfr
 . Meisterschaft / Staffel / Einzel</p>\n<p><span style=text-decoration
 : underline\;>Ausschreibung:</span><br>\n<br>\nFolgt &#8230\;.</p>\n<p
 >Aktuelle Info&#8217\;s und Onlineanmeldung auf der Seite des Veransta
 lters: <a href=http://www.rothsee-triathlon.de/rstf target=_blank>Roth
 see Triathlon</a></p>\n
URL:https://www.runningsocks.de/wordpress/terminkalender/eventsinglepa
 ge/?event_id=190&lang=de
ATTACH:https://www.runningsocks.de/wordpress/terminkalender/eventsingl
 epage/?event_id=190&lang=de
LOCATION:Segelzentrum Heuberg\, Am Rothsee Heuberg\, Hilpoltstein
END:VEVENT
END:VCALENDAR
