BEGIN:VCALENDAR
VERSION:2.0
METHOD:PUBLISH
PRODID:-//hacksw/handcal//NONSGML v1.0//EN
BEGIN:VEVENT
DTSTAMP:20260419T165350Z
DTSTART:20130825T080000Z
DTEND:20130825T130000Z
UID:20130825T080000Z-20130825T130000Z-192@www.runningsocks.de
SUMMARY:27. Neustädter Volkstriathlon
DESCRIPTION:Zeitplan:\n08:00 bis 09:00 Uhr\nStartnummernausgabe\n\n\n\
 n\n09:15 Uhr\nWettkampfbesprechung (Teilnahmepflicht)\n\n\n\n\n10:00 U
 hr\n1. Start zu Gruppen von 40 Teilnehmern | 8 Starter pro Bahn | 5 Ba
 hnen. Weitere Starts im Abstand von je 15 Minuten\n\n\n\n\nca. 14:30 U
 hr\nSiegerehrung (Terrasse am Schwimmerbecken)\n\n\n\nDistanzen:\nSchw
 immen\n400 m (8 Bahnen)\n\n\n\n\nRadfahren\n20 000 m (NEA-Neuschauerbe
 rg–NEA)\n\n\n\n\nLaufen\n5 000 m (Stadtpark\, südlich Freibad)\n\n\n\n
 Teilnahme:\nStartberechtigt sind Personen ab 16 Jahre (Jhg. 1995)\n\n\
 n\nStartgeld:\n25\,00 € über Lastschrifteinzug bei online-Anmeldung so
 nst siehe Bankverbindung\n\n\nAnmeldung:\nhier geht's zum Meldeformula
 r\n\n\nMeldeschluss:\n20. August 2013 - 23:55\n\n\nNachmeldungen:\n30\
 ,00 € bei Nachmeldung bzw. Zahlung nach Meldeschluss\n\n\nQuelle:\nAll
 en Infos von: http://www.dlrg-nea.de\n\n\n\n \n\n \n\n \n\n \n\n \n\n 
 \n\n \n\n \n\n \n\n \n\n \n\n \n\n \n\nWeitere Info's und Onlineanmeld
 ung beim Veranstalter: DLRG OV Neustadt a.d. Aisch
X-ALT-DESC;FMTTYPE=text/html:<p style=text-align: center\;><strong><sp
 an style=text-decoration: underline\; color: #ff0000\;><br>\n</span></
 strong></p>\n<table style=width: 700px\; border=0 cellspacing=5 cellpa
 dding=5 align=left>\n<tbody>\n<tr><td valign=top><span style=font-size
 : small\;>Zeitplan:</span></td>\n<td><span style=font-size: small\;>08
 :00 bis 09:00 Uhr</span></td>\n<td colspan=2 valign=top><span style=fo
 nt-size: small\;>Startnummernausgabe</span></td>\n<td></td></tr>\n<tr>
 <td valign=top></td>\n<td><span style=font-size: small\;>09:15 Uhr</sp
 an></td>\n<td colspan=2><span style=font-size: small\;>Wettkampfbespre
 chung (Teilnahmepflicht)</span></td>\n<td></td></tr>\n<tr><td valign=t
 op></td>\n<td valign=top><span style=font-size: small\;>10:00 Uhr</spa
 n></td>\n<td colspan=2><span style=font-size: small\;>1. Start zu Grup
 pen von 40 Teilnehmern | 8 Starter pro Bahn | 5 Bahnen. Weitere Starts
  im Abstand von je 15 Minuten</span></td>\n<td></td></tr>\n<tr><td val
 ign=top></td>\n<td><span style=font-size: small\;>ca. 14:30 Uhr</span>
 </td>\n<td colspan=2><span style=font-size: small\;>Siegerehrung (Terr
 asse am Schwimmerbecken)</span></td>\n<td></td></tr>\n<tr><td valign=t
 op><span style=font-size: small\;>Distanzen:</span></td>\n<td><span st
 yle=font-size: small\;>Schwimmen</span></td>\n<td colspan=2><span styl
 e=font-size: small\;>400 m (8 Bahnen)</span></td>\n<td></td></tr>\n<tr
 ><td valign=top></td>\n<td><span style=font-size: small\;>Radfahren</s
 pan></td>\n<td colspan=2><span style=font-size: small\;>20 000 m (NEA-
 Neuschauerberg–NEA)</span></td>\n<td></td></tr>\n<tr><td valign=top></
 td>\n<td><span style=font-size: small\;>Laufen</span></td>\n<td colspa
 n=2><span style=font-size: small\;>5 000 m (Stadtpark\, südlich Freiba
 d)</span></td>\n<td></td></tr>\n<tr><td valign=top><span style=font-si
 ze: small\;>Teilnahme:</span></td>\n<td colspan=3><span style=font-siz
 e: small\;>Startberechtigt sind Personen ab 16 Jahre (Jhg. 1995)</span
 ></td>\n<td></td></tr>\n<tr><td valign=top><span style=font-size: smal
 l\;>Startgeld:</span></td>\n<td colspan=4><span style=font-size: small
 \;>25\,00 € über Lastschrifteinzug bei online-Anmeldung sonst siehe Ba
 nkverbindung</span></td></tr>\n<tr><td valign=top><span style=font-siz
 e: small\;>Anmeldung:</span></td>\n<td colspan=4><span style=font-size
 : small\;>hier geht&#8217\;s zum <a href=http://www.dlrg-nea.de/neusta
 edter-volkstriathlon target=_blank>Meldeformular</a></span></td></tr>\
 n<tr><td valign=top><span style=font-size: small\;>Meldeschluss:</span
 ></td>\n<td colspan=4><span style=font-size: small\;>20. August 2013 &
 #8211\; 23:55</span></td></tr>\n<tr><td valign=top><span style=font-si
 ze: small\;>Nachmeldungen:</span></td>\n<td colspan=4><span style=font
 -size: small\;>30\,00 € bei Nachmeldung bzw. Zahlung nach Meldeschluss
 </span></td></tr>\n<tr><td valign=top><span style=font-size: small\;>Q
 uelle:</span></td>\n<td colspan=4><span style=font-size: small\;>Allen
  Infos von: <a href=http://www.dlrg-nea.de/ target=_blank>http://www.d
 lrg-nea.de</a></span></td></tr>\n</tbody>\n</table>\n<p>&nbsp\;</p>\n<
 p>&nbsp\;</p>\n<p>&nbsp\;</p>\n<p>&nbsp\;</p>\n<p>&nbsp\;</p>\n<p>&nbs
 p\;</p>\n<p>&nbsp\;</p>\n<p>&nbsp\;</p>\n<p>&nbsp\;</p>\n<p>&nbsp\;</p
 >\n<p>&nbsp\;</p>\n<p>&nbsp\;</p>\n<p>&nbsp\;</p>\n<p>Weitere Info&#82
 17\;s und Onlineanmeldung beim Veranstalter: <a href=http://www.dlrg-n
 ea.de/ausschreibung-2013 target=_blank>DLRG OV Neustadt a.d. Aisch</a>
 </p>\n
URL:https://www.runningsocks.de/wordpress/terminkalender/eventsinglepa
 ge/?event_id=192&lang=de
ATTACH:https://www.runningsocks.de/wordpress/terminkalender/eventsingl
 epage/?event_id=192&lang=de
LOCATION:Neustädter Waldbad\, Eilersweg 5\, Neustadt a. d. Aisch
END:VEVENT
END:VCALENDAR
