BEGIN:VCALENDAR
VERSION:2.0
METHOD:PUBLISH
PRODID:-//hacksw/handcal//NONSGML v1.0//EN
BEGIN:VEVENT
DTSTAMP:20260419T165140Z
DTSTART:20130721T080000Z
DTEND:20130721T110000Z
UID:20130721T080000Z-20130721T110000Z-193@www.runningsocks.de
SUMMARY:25. Bauzi's Birkensee Triathlon
DESCRIPTION:Und weiter geht es in alter Tradition: der Bauzi kommt wie
 der in die Spur und findet nun wieder regelmäßig statt.\n400 m - 20 km
  - 5 km\n\n\n	Schwimmen: Birkensee\n	Rad: 1x rund um den Moritzberg (s
 h. Ausschreibung)\n	Laufen: Pendelstrecke\, Birkensee - Richtung Fuchs
 mühle und zurück\n\n \nStartgebühr: 35 €\n\nNachmeldegebühr: 5€\n\nTei
 lnehmerlimit: 300\n\nOnline Anmeldeschluß: 14.07.2013\n\nNachmeldungen
 : 15.07.2013 - 20.07.2013\, Nachmeldegebühr: 5\,00 EUR\nAusschreibung:
 \n[wpfilebase tag=file path='triathlon/bauzis-birkensee/20130721/Birke
 nsee2013_V5.pdf' /]\nWeitere Info's und Anmeldung beim Veranstalter: F
 inish-Line\, Onlineanmeldung über SAS Zeitsysteme
X-ALT-DESC;FMTTYPE=text/html:<p style=text-align: center\;>Und weiter 
 geht es in alter Tradition: der Bauzi kommt wieder in die Spur und fin
 det nun wieder regelmäßig statt.</p>\n<p style=text-align: justify\;>4
 00 m &#8211\; 20 km &#8211\; 5 km</p>\n<ul>\n<li style=text-align: jus
 tify\;>Schwimmen: Birkensee</li>\n<li style=text-align: justify\;>Rad:
  1x rund um den Moritzberg (sh. Ausschreibung)</li>\n<li style=text-al
 ign: justify\;>Laufen: Pendelstrecke\, Birkensee &#8211\; Richtung Fuc
 hsmühle und zurück</li>\n</ul>\n<p style=text-align: center\;><span st
 yle=text-decoration: underline\; color: #ff0000\;><strong> </strong></
 span></p>\n<p>Startgebühr: 35 €</p>\n<p>Nachmeldegebühr: 5€</p>\n<p>Te
 ilnehmerlimit: 300</p>\n<p>Online Anmeldeschluß: 14.07.2013</p>\n<p>Na
 chmeldungen: 15.07.2013 &#8211\; 20.07.2013\, Nachmeldegebühr: 5\,00 E
 UR</p>\n<p style=text-align: justify\;>Ausschreibung:</p>\n<p style=te
 xt-align: justify\;>[wpfilebase tag=file path=&#8217\;triathlon/bauzis
 -birkensee/20130721/Birkensee2013_V5.pdf&#8216\; /]</p>\n<p style=text
 -align: justify\;>Weitere Info&#8217\;s und Anmeldung beim Veranstalte
 r: <a href=http://www.finish-line.de/wettkaempfe-ausschreibungen.htm t
 arget=_blank>Finish-Line</a>\, Onlineanmeldung über <a href=http://www
 .sas-zeitmesssysteme.de/newsite/index.php?site=4 target=_blank>SAS Zei
 tsysteme</a></p>\n
URL:https://www.runningsocks.de/wordpress/terminkalender/eventsinglepa
 ge/?event_id=193&lang=de
ATTACH:https://www.runningsocks.de/wordpress/terminkalender/eventsingl
 epage/?event_id=193&lang=de
LOCATION:Birkensee - Röthenbach\, Birkensee\, Röthenbach
END:VEVENT
END:VCALENDAR
