BEGIN:VCALENDAR
VERSION:2.0
METHOD:PUBLISH
PRODID:-//hacksw/handcal//NONSGML v1.0//EN
BEGIN:VEVENT
DTSTAMP:20260419T165233Z
DTSTART:20130707T080000Z
DTEND:20130707T110000Z
UID:20130707T080000Z-20130707T110000Z-194@www.runningsocks.de
SUMMARY:26. Hersbrucker Volkstriathlon
DESCRIPTION:26. Hersbrucker Volkstriathlon\n300 m - 20 km - 5 km\n\n\n
 	Schwimmen: Hersbrucker Badesee\n	Rad: Hersbrucker Badesee über Föhren
 bach\, Alfeld nach Waller\n	Laufen: Waller - Gravenbuch - Waller\n\nab
  TM/TW 15 für Jedermann\, auch Vereinslose\, Hobby- und Freizeitsportl
 er\, Einzel- und Staffelmeldungen möglich\nAusschreibung:\nfolgt\, sob
 ald verfügbar\n\nGruppenanmeldungen können wir bisher auch per Mail an
  Herrn Stocker gesandt werden.\nOrganisation: Heiner Stocker 09151/814
 680 oder 0151-58964477\nWeitere Info's und Anmeldung beim Veranstalter
 : DAV Hersbruck\, Online Anmeldung
X-ALT-DESC;FMTTYPE=text/html:<p style=text-align: justify\;>26. Hersbr
 ucker Volkstriathlon</p>\n<p style=text-align: justify\;>300 m &#8211\
 ; 20 km &#8211\; 5 km</p>\n<ul>\n<li style=text-align: justify\;>Schwi
 mmen: Hersbrucker Badesee</li>\n<li style=text-align: justify\;>Rad: H
 ersbrucker Badesee über Föhrenbach\, Alfeld nach Waller</li>\n<li styl
 e=text-align: justify\;>Laufen: Waller &#8211\; Gravenbuch &#8211\; Wa
 ller</li>\n</ul>\n<p>ab TM/TW 15 für Jedermann\, auch Vereinslose\, Ho
 bby- und Freizeitsportler\, Einzel- und Staffelmeldungen möglich</p>\n
 <h3>Ausschreibung:</h3>\n<p><span style=text-decoration: underline\;><
 strong><span style=color: #ff0000\; text-decoration: underline\;>folgt
 \, sobald verfügbar</span></strong></span><br>\n<br>\nGruppenanmeldung
 en können wir bisher auch per Mail an Herrn Stocker gesandt werden.</p
 >\n<p style=text-align: justify\;><span style=font-family: Verdana\,Ar
 ial\,Helvetica\,sans-serif\;>Organisation: <a title=Email an Heiner St
 ocker href=mailto:heiner@stockeronline.de>Heiner Stocker</a> 09151/814
 680 oder 0151-58964477</span></p>\n<p style=text-align: justify\;>Weit
 ere Info&#8217\;s und Anmeldung beim Veranstalter: <a href=http://www.
 dav-hersbruck.de/sites/triathlon/m_volkstriathlon.HTM target=_blank>DA
 V Hersbruck</a>\, Online Anmeldung</p>\n
URL:https://www.runningsocks.de/wordpress/terminkalender/eventsinglepa
 ge/?event_id=194&lang=de
ATTACH:https://www.runningsocks.de/wordpress/terminkalender/eventsingl
 epage/?event_id=194&lang=de
LOCATION:Happurger Baggersee\, Bagger See\, Happurg
END:VEVENT
END:VCALENDAR
