BEGIN:VCALENDAR
VERSION:2.0
METHOD:PUBLISH
PRODID:-//hacksw/handcal//NONSGML v1.0//EN
BEGIN:VEVENT
DTSTAMP:20260419T165734Z
DTSTART:20130810T110000Z
DTEND:20130810T150000Z
UID:20130810T110000Z-20130810T150000Z-195@www.runningsocks.de
SUMMARY:5. Main-Post Mainfrankentriathlon
DESCRIPTION:Der Triathlon im Kitzinger und Würzburger Land\nFür Jeden!
  Volkstriathlon ohne Lizenz\n\nStrecken:\n\n\n\nWettkampfstrecken:\nOl
 ympische Distanz: 1670m – 40km – 10km (Einzel: 50 EUR\, Staffel: 75 EU
 R)\nVolkstriathlon Distanz: 600m – 20km – 5km (Einzel: 40 EUR\, JUgend
 : 30 EUR\, Staffel: 60 EUR))\n\n\n\nOlympisch Start: \n13:00 Uhr Start
  Schwimmen 1670 m in Gruppen Sandbank am Main Richtung Mainstockheim (
 Bustransfer)\n\n\nVolkstriathlon / Staffel Start:\n13:15 Uhr Start Boo
 tshaus 600 m\n\n\n\nDie Veranstaltung wird nach der gültigen VAO-”Vera
 nstalter- und Ausrichterordnung” durchgeführt.\n\n\nStart Radfahren\nO
 lympisch: 39 km (2 Runden)\nVolkstriathlon / Staffel: 20 km (1 Runde) 
 Wiese hinter der Synagoge (Wechselzone)\n\n\nOlympisch Laufen: \nStart
  Laufen 10 km (2 Runden\, Asphalt) Wiese hinter der Synagoge (Wechselz
 one)\n\n\nVolkstriathlon / Staffel Laufen: \nStart Laufen 5 km (1 Rund
 e\, Asphalt) Wiese hinter der Synagoge (Wechselzone)\n\n\nTeilnehmerli
 mit:\n600 Starter\n\n\n\n\n\n\nNachmeldung:\nStarttag 10 – 12:00 Uhr\n
 \n\nStartunterlagenausgabe:\n10 – 12:00 Uhr am Renntag an der Wechselz
 one \n\n\n Tageslizenz:\nInfo folgt noch ... \n\n\nCheckIn:\nin der We
 chselzone 10:00 – 12:00 Uhr (Wiese hinter der Synagoge)\n\n\nWettkampf
 besprechung:\nin der Wechselzone 12:00 Uhr\nTeilnahme ist Pflicht\n\n\
 nStart Olympisch:\n13:00 Uhr\n\n\nStart Volkstriathlon / Staffel:\n13:
 30 Uhr \n\n\nTeilnehmerklassen:\nOlympisch: ab AK 1 (20 – 24 Jahre) in
  5-Jahresschritten gem. SpO Abs. C.1\nVolkstriathlon / Staffel: ab JA 
 (16/17 J.)\, JUN (18/19 J.)\, AK1 (20/24 J.) in 5-Jahresschritten gem.
  SpO Abs. C.1\nWeiter gem. DTU-Sportordnung für beide Klassen.\n\n\n\n
 \n\n\nWertung und Ehrung:\naller Altersklassen\, unabhängig von der Te
 ilnehmerzahl.\n\n\nStrafzeiten:\nDurch aufaddieren zur Radzeit. Olympi
 sche Distanz = 2 Min. /\nVolkstriathlon / Staffel = 1 Min.\n\n\nStaffe
 lwertung:\n3 Teilnehmer /-innen egal ob Frauen-\, Männer- oder Mixed-S
 taffel\nBitte beachten Sie bei der Anmeldung auf die genaue Schreibwei
 se der Staffelbezeichnung\n\n\nPreise:\nJeder Finisher erhält ein Erin
 nerungsgeschenk.\nDie ersten 3 jeder Altersklasse erhalten bei der Sie
 gerehrung am Veranstaltungstag eine Urkunde\, alle anderen können dies
 e im Internet herunter laden.\nErgebnislistenaushang nach der Siegereh
 rung.\nDer Erste jeder Altersklasse erhält einen Pokal!\n\n\nVerpflegu
 ng :\nAn der Rad- und Laufstrecke: Mineraldrink\, Mineralwasser\n\n\nI
 m Zielbereich:\nObst- und Kuchenbuffet\n\n\n\nAusschreibung:\n\nAlle w
 eiteren Infos und Online Anmeldung direkt beim Veranstalter: Main-Post
  Frankentriathlon
X-ALT-DESC;FMTTYPE=text/html:<p style=text-align: center\;><span style
 =text-decoration: underline\;><span style=font-family: Arial\,Helvetic
 a\,Geneva\,Sans-serif\,sans-serif\;>Der Triathlon im Kitzinger und Wür
 zburger Land</span></span></p>\n<p style=text-align: center\;><span st
 yle=font-family: Arial\,Helvetica\,Geneva\,Sans-serif\,sans-serif\;>Fü
 r Jeden! Volkstriathlon ohne Lizenz</span></p>\n<h3>Strecken:</h3>\n<t
 able id=Tabelle9 style=width: 100%\; border=1 cellspacing=1 cellpaddin
 g=1>\n<tbody>\n<tr><td align=LEFT valign=TOP><span>Wettkampfstrecken:<
 /span></td>\n<td align=LEFT valign=TOP><span>Olympische Distanz: 1670m
  – 40km – 10km (Einzel: 50 EUR\, Staffel: 75 EUR)<br>\nVolkstriathlon 
 Distanz: 600m – 20km – 5km (Einzel: 40 EUR\, JUgend: 30 EUR\, Staffel:
  60 EUR))<br>\n</span></td></tr>\n<tr><td align=LEFT valign=TOP><span>
 Olympisch Start: </span></td>\n<td align=LEFT valign=TOP><span>13:00 U
 hr Start Schwimmen 1670 m in Gruppen Sandbank am Main Richtung Mainsto
 ckheim (Bustransfer)</span></td></tr>\n<tr><td align=LEFT valign=TOP><
 span>Volkstriathlon / Staffel Start:</span></td>\n<td align=LEFT valig
 n=TOP><span>13:15 Uhr Start Bootshaus 600 m</span></td></tr>\n<tr><td>
 </td>\n<td><span style=font-family: Arial\,Helvetica\,Geneva\,Sans-ser
 if\,sans-serif\;>Die Veranstaltung wird nach der gültigen VAO-”Veranst
 alter- und Ausrichterordnung” durchgeführt.</span></td></tr>\n<tr><td 
 align=LEFT valign=TOP><span>Start Radfahren</span></td>\n<td align=LEF
 T valign=TOP><span>Olympisch: 39 km (2 Runden)<br>\nVolkstriathlon / S
 taffel: 20 km (1 Runde) Wiese hinter der Synagoge (Wechselzone)</span>
 </td></tr>\n<tr><td align=LEFT valign=TOP><span>Olympisch Laufen: </sp
 an></td>\n<td align=LEFT valign=TOP><span>Start Laufen 10 km (2 Runden
 \, Asphalt) Wiese hinter der Synagoge (Wechselzone)</span></td></tr>\n
 <tr><td align=LEFT valign=TOP><span>Volkstriathlon / Staffel Laufen: <
 /span></td>\n<td align=LEFT valign=TOP><span>Start Laufen 5 km (1 Rund
 e\, Asphalt) Wiese hinter der Synagoge (Wechselzone)</span></td></tr>\
 n<tr><td align=LEFT valign=TOP><span><strong>Teilnehmerlimit:</strong>
 </span></td>\n<td align=LEFT valign=TOP><span><strong>600 Starter</str
 ong></span></td></tr>\n</tbody>\n</table>\n<table id=Tabelle9 style=wi
 dth: 100%\; border=1 cellspacing=1 cellpadding=1>\n<tbody>\n<tr><td al
 ign=LEFT valign=TOP><span>Nachmeldung:</span></td>\n<td align=LEFT val
 ign=TOP><span>Starttag 10 – 12:00 Uhr</span></td></tr>\n<tr><td align=
 LEFT valign=TOP><span>Startunterlagenausgabe:</span></td>\n<td align=L
 EFT valign=TOP><span>10 – 12:00 Uhr am Renntag an der Wechselzone </sp
 an></td></tr>\n<tr><td align=LEFT valign=TOP><span style=font-family: 
 Arial\,Helvetica\,Geneva\,Sans-serif\,sans-serif\;> Tageslizenz:</span
 ></td>\n<td align=LEFT valign=TOP><span>Info folgt noch &#8230\; </spa
 n></td></tr>\n<tr><td align=LEFT valign=TOP><span>CheckIn:</span></td>
 \n<td align=LEFT valign=TOP><span>in der Wechselzone 10:00 – 12:00 Uhr
  (Wiese hinter der Synagoge)</span></td></tr>\n<tr><td align=LEFT vali
 gn=TOP><span>Wettkampfbesprechung:</span></td>\n<td align=LEFT valign=
 TOP><span>in der Wechselzone 12:00 Uhr<br>\nTeilnahme ist Pflicht</spa
 n></td></tr>\n<tr><td align=LEFT valign=TOP><span>Start Olympisch:</sp
 an></td>\n<td align=LEFT valign=TOP><span>13:00 Uhr</span></td></tr>\n
 <tr><td align=LEFT valign=TOP><span>Start Volkstriathlon / Staffel:</s
 pan></td>\n<td align=LEFT valign=TOP><span>13:30 Uhr </span></td></tr>
 \n<tr><td align=LEFT valign=TOP><span>Teilnehmerklassen:</span></td>\n
 <td align=LEFT valign=TOP><span>Olympisch: ab AK 1 (20 – 24 Jahre) in 
 5-Jahresschritten gem. SpO Abs. C.1<br>\nVolkstriathlon / Staffel: ab 
 JA (16/17 J.)\, JUN (18/19 J.)\, AK1 (20/24 J.) in 5-Jahresschritten g
 em. SpO Abs. C.1<br>\nWeiter gem. DTU-Sportordnung für beide Klassen.<
 /span></td></tr>\n</tbody>\n</table>\n<table id=Tabelle9 style=width: 
 100%\; border=1 cellspacing=1 cellpadding=1>\n<tbody>\n<tr><td align=L
 EFT valign=TOP><span>Wertung und Ehrung:</span></td>\n<td align=LEFT v
 align=TOP><span>aller Altersklassen\, unabhängig von der Teilnehmerzah
 l.</span></td></tr>\n<tr><td align=LEFT valign=TOP><span>Strafzeiten:<
 /span></td>\n<td align=LEFT valign=TOP><span>Durch aufaddieren zur Rad
 zeit. Olympische Distanz = 2 Min. /<br>\nVolkstriathlon / Staffel = 1 
 Min.</span></td></tr>\n<tr><td align=LEFT valign=TOP><span>Staffelwert
 ung:</span></td>\n<td align=LEFT valign=TOP><span>3 Teilnehmer /-innen
  egal ob Frauen-\, Männer- oder Mixed-Staffel<br>\nBitte beachten Sie 
 bei der Anmeldung auf die genaue Schreibweise der Staffelbezeichnung</
 span></td></tr>\n<tr><td align=LEFT valign=TOP><span>Preise:</span></t
 d>\n<td align=LEFT valign=TOP><span>Jeder Finisher erhält ein Erinneru
 ngsgeschenk.<br>\nDie ersten 3 jeder Altersklasse erhalten bei der Sie
 gerehrung am Veranstaltungstag eine Urkunde\, alle anderen können dies
 e im Internet herunter laden.<br>\nErgebnislistenaushang nach der Sieg
 erehrung.<br>\nDer Erste jeder Altersklasse erhält einen Pokal!</span>
 </td></tr>\n<tr><td align=LEFT valign=TOP><span>Verpflegung :</span></
 td>\n<td align=LEFT valign=TOP><span>An der Rad- und Laufstrecke: Mine
 raldrink\, Mineralwasser</span></td></tr>\n<tr><td align=LEFT valign=T
 OP><span>Im Zielbereich:</span></td>\n<td align=LEFT valign=TOP><span>
 Obst- und Kuchenbuffet</span></td></tr>\n</tbody>\n</table>\n<p>Aussch
 reibung:</p>\n<p>Alle weiteren Infos und Online Anmeldung direkt beim 
 Veranstalter: <a href=http://www.mainfrankentriathlon.de/index.html>Ma
 in-Post Frankentriathlon</a></p>\n
URL:https://www.runningsocks.de/wordpress/terminkalender/eventsinglepa
 ge/?event_id=195&lang=de
ATTACH:https://www.runningsocks.de/wordpress/terminkalender/eventsingl
 epage/?event_id=195&lang=de
LOCATION:Alte Synagoge\, Kitzingen\, Landwehrstraße 1\, Kitzingen
END:VEVENT
END:VCALENDAR
