BEGIN:VCALENDAR
VERSION:2.0
METHOD:PUBLISH
PRODID:-//hacksw/handcal//NONSGML v1.0//EN
BEGIN:VEVENT
DTSTAMP:20260419T165352Z
DTSTART:20130504T150000Z
DTEND:20130504T170000Z
UID:20130504T150000Z-20130504T170000Z-196@www.runningsocks.de
SUMMARY:13. Happurger Stauseelauf
DESCRIPTION:Zum 13. Happurger Stauseelauf lädt der SC Happurg dieses J
 ahr am 04.05.2012 wieder recht herzlich ein.\n\nWie gewohnt werden div
 erse Kinder- und Schülerläufe\, der Hobbylauf mit einer Stauseerunde s
 owie der Hauptlauf über 10 km veranstaltet.\nDie Strecken:\n400 Meter 
 Vorschulkinder\n800 Meter Schülerinnen\n1.600 Meter Schülerinnen\n3.40
 0 Meter Hobbylauf Damen / Herren ohne Klassenwertung\n10.000 Meter Hau
 ptlauf mit Klassenwertung\n\nWeitere Info's und Anmeldung beim Veranst
 alter:  SC Happurg\nAusschreibung:\n[wpfilebase tag=file path='lauf/ha
 ppurger-stauseelauf/20130504/20130504_HappurgerStauseelauf_Ausschreibu
 ng.pdf' /]\n\n \n\n 
X-ALT-DESC;FMTTYPE=text/html:<p>Zum 13. Happurger Stauseelauf lädt der
  SC Happurg dieses Jahr am 04.05.2012 wieder recht herzlich ein.</p>\n
 <p>Wie gewohnt werden diverse Kinder- und Schülerläufe\, der Hobbylauf
  mit einer Stauseerunde sowie der Hauptlauf über 10 km veranstaltet.</
 p>\n<h3>Die Strecken:</h3>\n<p>400 Meter Vorschulkinder<br>\n800 Meter
  Schülerinnen<br>\n1.600 Meter Schülerinnen<br>\n3.400 Meter Hobbylauf
  Damen / Herren ohne Klassenwertung<br>\n10.000 Meter Hauptlauf mit Kl
 assenwertung</p>\n<p>Weitere Info&#8217\;s und Anmeldung beim Veransta
 lter:  <a href=http://www.sc-happurg.de/stauseelauf.php target=_blank>
 SC Happurg</a></p>\n<h3>Ausschreibung:</h3>\n<p>[wpfilebase tag=file p
 ath=&#8217\;lauf/happurger-stauseelauf/20130504/20130504_HappurgerStau
 seelauf_Ausschreibung.pdf&#8216\; /]</p>\n<p>&nbsp\;</p>\n<p>&nbsp\;</
 p>\n
URL:https://www.runningsocks.de/wordpress/terminkalender/eventsinglepa
 ge/?event_id=196&lang=de
ATTACH:https://www.runningsocks.de/wordpress/terminkalender/eventsingl
 epage/?event_id=196&lang=de
LOCATION:Happurger See\, Seepromenade 1\, Happurg
END:VEVENT
END:VCALENDAR
