BEGIN:VCALENDAR
VERSION:2.0
METHOD:PUBLISH
PRODID:-//hacksw/handcal//NONSGML v1.0//EN
BEGIN:VEVENT
DTSTAMP:20260419T165512Z
DTSTART:20130317T090000Z
DTEND:20130317T110000Z
UID:20130317T090000Z-20130317T110000Z-197@www.runningsocks.de
SUMMARY:12. Pühlheimer Frühlingslauf
DESCRIPTION:Start: \n\n\n	10:00 Uhr    Läufer/Walker / Nordic Walker\n
 \nStrecken:\n\n\n	5\,9 Km mit langer Steigung\n	12\,6 Km (nur für geüb
 te Läufer\, stärkere Steigung)\n\nStartgeld: \n\n	Erwachsene: 7\,00 €\
 n	Jugendliche ab 14J: 3\,00 €\n	Kinder bis 13J: 0 €\n\nAnmeldeschluß: 
 \n\n	15.03.2013\n	Nachmeldungen am 17.03.2013: 2\,00 €\n\nPreise: \n\n
 	Jeder Läufer bekommt eine Urkunde\n	.. und die „Besten einen Sachprei
 s\n\nWeitere Infos und Online Anmeldung auf der Seite des Veranstalter
 s: Lauftreff Altdorf
X-ALT-DESC;FMTTYPE=text/html:<p style=text-align: justify\;><strong>St
 art: </strong></p>\n<ul>\n<li style=text-align: left\;>10:00 Uhr    Lä
 ufer/Walker / Nordic Walker</li>\n</ul>\n<p style=text-align: justify\
 ;><strong>Strecken:</strong></p>\n<ul>\n<li style=text-align: left\;>5
 \,9 Km mit langer Steigung</li>\n<li style=text-align: left\;>12\,6 Km
  (nur für geübte Läufer\, stärkere Steigung)</li>\n</ul>\n<p><strong>S
 tartgeld: </strong></p>\n<ul>\n<li>Erwachsene: 7\,00 €</li>\n<li>Jugen
 dliche ab 14J: 3\,00 €</li>\n<li>Kinder bis 13J: 0 €</li>\n</ul>\n<p><
 strong>Anmeldeschluß: </strong></p>\n<ul>\n<li>15.03.2013</li>\n<li>Na
 chmeldungen am 17.03.2013: 2\,00 €</li>\n</ul>\n<p><strong>Preise: </s
 trong></p>\n<ul>\n<li>Jeder Läufer bekommt eine Urkunde</li>\n<li>.. u
 nd die „Besten&#8220\; einen Sachpreis</li>\n</ul>\n<p style=text-alig
 n: left\;>Weitere Infos und <a href=http://my3.raceresult.com/details/
 index.php?page=2&amp\;eventid=13822&amp\;lang=dehttp://my3.raceresult.
 com/details/index.php?eventid=13822&amp\;lang=de target=_blank>Online 
 Anmeldung</a> auf der Seite des Veranstalters: <a href=http://www.altd
 orfer-lauftreff.de/ target=_blank>Lauftreff Altdorf</a></p>\n
URL:https://www.runningsocks.de/wordpress/terminkalender/eventsinglepa
 ge/?event_id=197&lang=de
ATTACH:https://www.runningsocks.de/wordpress/terminkalender/eventsingl
 epage/?event_id=197&lang=de
LOCATION:Feuerwehrhaus\, Pühlheim\, Pühlheim\, Pühlheim
END:VEVENT
END:VCALENDAR
