BEGIN:VCALENDAR
VERSION:2.0
METHOD:PUBLISH
PRODID:-//hacksw/handcal//NONSGML v1.0//EN
BEGIN:VEVENT
DTSTAMP:20260419T165720Z
DTSTART:20130518T140000Z
DTEND:20130518T153000Z
UID:20130518T140000Z-20130518T153000Z-198@www.runningsocks.de
SUMMARY:12. Leinburger KIRWA Lauf
DESCRIPTION:Hiermit  möchte ich heute schon auf den Kirwalauf in Leinb
 urg aufmerksam machen. Er findet wie jedes Jahr am Pfingstsamstag stat
 t\, der heuer auf den 18. Mai fällt.\n\nAusschreibung:\n\nAuf der Seit
 e des Veranstalters: TV Leinburg\n\nStart / Ziel\n\n\nBrauereihof Bub 
 / Leinburg\n\nLäufe und Startzeiten:\n\n	Kinderlauf 500 m Start: 15:00
 \n	Schülerlauf 1\,5 km Start: 15:30\n	Kirwalauf 10 km Start: 16:00\n	K
 irwalauf 5 km Start: 16:10\n	Nordic-Walking-Lauf 5 km Start: 16:10\n\n
 Startgeld:\nKinder-/ Schülerlauf      2\,00 EUR (€ 2 Nachmeldegebühr n
 ach 17.05.2013)\nKirwalauf / Nordic-Walking  8\,00 EUR (€ 2 Nachmeldeg
 ebühr nach 17.05.2013)\n\nStartnummernausgabe:\n14:00  – 15:00 Uhr im 
 Brauereihof\nSiegerehrung:\nca. 18:00 Uhr im Brauereihof\n\nWas gibts 
 für das Startgeld?\n\nDie 3 Schnellsten jedes Rennens (Kirwalauf)\, we
 iblich & männlich\, erhalten Sachpreise. Zudem erfolgt eine Sachpreisv
 erlosung unter allen Teilnehmern.\n\n\nAnmeldung  bis  17. 05.2013 - 1
 9:00 Uhr bei \nFranz Stieglbauer\nBachgasse 7\n91227 Leinburg\nFon:   
      09120 / 6829\neMail:     jugendbeauftragter.leinburg@gmx.de\n\nUn
 d danach noch ein Bierchen im Brauereihof
X-ALT-DESC;FMTTYPE=text/html:<p>Hiermit  möchte ich heute schon auf de
 n Kirwalauf in Leinburg aufmerksam machen. Er findet wie jedes Jahr am
  Pfingstsamstag statt\, der heuer auf den 18. Mai fällt.</p>\n<p><stro
 ng>Ausschreibung:</strong><br>\n<br>\nAuf der Seite des Veranstalters:
  <a href=http://www.tvleinburg.de/skiabteilung/sites/events_aktuell_ki
 rwalauf.htm target=_blank>TV Leinburg</a></p>\n<p><strong>Start / Ziel
 <br>\n</strong><br>\n<br>\nBrauereihof Bub / Leinburg</p>\n<p><strong>
 Läufe und Startzeiten:</strong></p>\n<ul>\n<li>Kinderlauf 500 m Start:
  15:00</li>\n<li>Schülerlauf 1\,5 km Start: 15:30</li>\n<li>Kirwalauf 
 10 km Start: 16:00</li>\n<li>Kirwalauf 5 km Start: 16:10</li>\n<li><sp
 an style=text-decoration: underline\;>Nordic-Walking-Lauf 5 km Start: 
 16:10</span></li>\n</ul>\n<p><strong>Startgeld:</strong><br>\nKinder-/
  Schülerlauf      2\,00 EUR (€ 2 Nachmeldegebühr nach 17.05.2013)<br>\
 nKirwalauf / Nordic-Walking  8\,00 EUR (€ 2 Nachmeldegebühr nach 17.05
 .2013)</p>\n<p><strong>Startnummernausgabe:</strong><br>\n14:00  – 15:
 00 Uhr im Brauereihof<br>\nSiegerehrung:<br>\nca. 18:00 Uhr im Brauere
 ihof</p>\n<p><strong>Was gibts für das Startgeld?</strong></p>\n<p><sp
 an style=font-family: Arial\,Helvetica\,sans-serif\; font-size: small\
 ;>Die 3 Schnellsten jedes Rennens (Kirwalauf)\, weiblich &amp\; männli
 ch\, erhalten Sachpreise. Zudem erfolgt eine Sachpreisverlosung unter 
 allen Teilnehmern.<br>\n</span></p>\n<p><strong>Anmeldung  bis  17. 05
 .2013 &#8211\; 19:00 Uhr bei </strong><br>\nFranz Stieglbauer<br>\nBac
 hgasse 7<br>\n91227 Leinburg<br>\nFon:        09120 / 6829<br>\neMail:
      jugendbeauftragter.leinburg@gmx.de</p>\n<p>Und danach noch ein Bi
 erchen im <a href=http://www.leinburger-bier.de/ target=_blank>Brauere
 ihof</a></p>\n
URL:https://www.runningsocks.de/wordpress/terminkalender/eventsinglepa
 ge/?event_id=198&lang=de
ATTACH:https://www.runningsocks.de/wordpress/terminkalender/eventsingl
 epage/?event_id=198&lang=de
LOCATION:Brauereihof Bub\, Marktplatz 14\, Leinburg
END:VEVENT
END:VCALENDAR
