BEGIN:VCALENDAR
VERSION:2.0
METHOD:PUBLISH
PRODID:-//hacksw/handcal//NONSGML v1.0//EN
BEGIN:VEVENT
DTSTAMP:20260419T165351Z
DTSTART:20130721T091000Z
DTEND:20130721T150000Z
UID:20130721T091000Z-20130721T150000Z-199@www.runningsocks.de
SUMMARY:31. GEALAN Triathlon
DESCRIPTION:Kurzinfo:\n\nStreckenlängen:\n\n	1\,5Km / 40Km / 10Km (Oly
 mische Distanz\, Einzel und Staffel)\n	0\,75Km / 20Km / 5Km (Jedermann
 /Sprint\, Einzel und Stafffel)\n\nStartzeiten:\n\n	Jedermann/Sprint\, 
 Einzel und Stafffel: 10:00\n	Olymische Distanz\, Einzel und Staffel: 1
 1:10\n\nAusgabe Startunterlagen:\n\n	Jedermann/Sprint\, Einzel und Sta
 fffel: 08:00 - 09:00\n	Olymische Distanz\, Einzel und Staffel: 08:00 -
  09:30\n\nStartgelder:\n\n	Olymische Distanz\, Einzel bis 31.03.2013: 
 35 EUR + 15 EUR Tageslizenz\n	Olymische Distanz\, Staffel bis 31.03.20
 13: 90 EUR  (keine Tageslizenz notwendig)\n	nach 31.03.2013 Preisstaff
 elung\, sh. Ausschreibung\n\n\n	Jedermann/Sprint\, Einzel bis 31.03.20
 13: 30 EUR\n	Jedermann/Sprint\, Staffel bis 31.03.2013: 75 EUR\n	nach 
 31.03.2013 Preisstaffelung\, sh. Ausschreibung\n\nWeitere Details sieh
 e Ausschreibung entnehmen.  Alle weiteren Infos und Online Anmeldung d
 irekt beim Veranstalter: Gealan Triathlon Hof\n\nAusschreibung:\n\n[wp
 filebase tag=list id=172 pagenav=1 /]
X-ALT-DESC;FMTTYPE=text/html:<p>Kurzinfo:</p>\n<p><span style=text-dec
 oration: underline\;><strong>Streckenlängen:</strong></span></p>\n<ul>
 \n<li>1\,5Km / 40Km / 10Km (Olymische Distanz\, Einzel und Staffel)</l
 i>\n<li>0\,75Km / 20Km / 5Km (Jedermann/Sprint\, Einzel und Stafffel)<
 /li>\n</ul>\n<p><span style=text-decoration: underline\;><strong>Start
 zeiten:</strong></span></p>\n<ul>\n<li>Jedermann/Sprint\, Einzel und S
 tafffel: 10:00</li>\n<li>Olymische Distanz\, Einzel und Staffel: 11:10
 </li>\n</ul>\n<p><span style=text-decoration: underline\;><strong>Ausg
 abe Startunterlagen:</strong></span></p>\n<ul>\n<li>Jedermann/Sprint\,
  Einzel und Stafffel: 08:00 &#8211\; 09:00</li>\n<li>Olymische Distanz
 \, Einzel und Staffel: 08:00 &#8211\; 09:30</li>\n</ul>\n<p><span styl
 e=text-decoration: underline\;><strong>Startgelder:</strong></span></p
 >\n<ul>\n<li>Olymische Distanz\, Einzel bis 31.03.2013: 35 EUR + 15 EU
 R Tageslizenz</li>\n<li>Olymische Distanz\, Staffel bis 31.03.2013: 90
  EUR  (keine Tageslizenz notwendig)</li>\n<li>nach 31.03.2013 Preissta
 ffelung\, sh. Ausschreibung</li>\n</ul>\n<ul>\n<li>Jedermann/Sprint\, 
 Einzel bis 31.03.2013: 30 EUR</li>\n<li>Jedermann/Sprint\, Staffel bis
  31.03.2013: 75 EUR</li>\n<li>nach 31.03.2013 Preisstaffelung\, sh. Au
 sschreibung</li>\n</ul>\n<p>Weitere Details siehe Ausschreibung entneh
 men.  Alle weiteren Infos und Online Anmeldung direkt beim Veranstalte
 r: <a href=http://www.triathlon-hof.com target=_blank>Gealan Triathlon
  Hof</a></p>\n<p><span style=text-decoration: underline\;><strong>Auss
 chreibung:</strong></span><br>\n<br>\n[wpfilebase tag=list id=172 page
 nav=1 /]</p>\n
URL:https://www.runningsocks.de/wordpress/terminkalender/eventsinglepa
 ge/?event_id=199&lang=de
ATTACH:https://www.runningsocks.de/wordpress/terminkalender/eventsingl
 epage/?event_id=199&lang=de
LOCATION:Untreusee\, Untreusee\, Hof
END:VEVENT
END:VCALENDAR
