BEGIN:VCALENDAR
VERSION:2.0
METHOD:PUBLISH
PRODID:-//hacksw/handcal//NONSGML v1.0//EN
BEGIN:VEVENT
DTSTAMP:20260419T165719Z
DTSTART:20100508T150000Z
DTEND:20100508T170000Z
UID:20100508T150000Z-20100508T170000Z-20@www.runningsocks.de
SUMMARY:10. Happurger Stauseelauf
DESCRIPTION:400 Meter Vorschulkinder\n 800 Meter Schülerinnen\n 1.600 
 Meter Schülerinnen\n 3.400 Meter Hobbylauf Damen / Herren ohne Klassen
 wertung\n 10.000 Meter Hauptlauf mit Klassenwertung\n\nAusschreibung: 
 Flyer_Happurger_Stauseelauf_2010\n\nWeitere Info's und Anmeldung beim 
 Veranstalter:  SC Happurg\n\nNeueste Info's vo Veranstalter:\n\nHallo\
 ,\n\nzu unserem 10. Happurger Stauseelauf am 08.05.2010 möchten wir Eu
 ch wieder recht herzlich einladen.\n\nWie gewohnt werden wir wieder Ki
 nder- und Schülerläufe\, den Hobbylauf mit einer Stauseerunde sowie de
 n Hauptlauf über 10 km veranstalten.\n\nWir hoffen Euch auch in diesem
  Jahr wieder eine tolle Veranstaltung bieten zu können.\n\nAls Gast zu
 m 10-jährigen Jubiläum wird uns Fritz Fischer\, ehemaliger Weltklasseb
 iathlet besuchen.\n\nErleben Sie im Anschluß an den Hauptlauf Biathlon
  Live mit Fritz Fischer. Es wird ein Biathlon mit heimischen Atlethen 
 veranstaltet.\n\nWir freuen uns schon jetzt auf Euer kommen!\n\nMit sp
 ortlichen Grüßen\n\nEurer Stauseelaufteam\n\ndes SC Happurg
X-ALT-DESC;FMTTYPE=text/html:<p>400 Meter Vorschulkinder<br>\n 800 Met
 er Schülerinnen<br>\n 1.600 Meter Schülerinnen<br>\n 3.400 Meter Hobby
 lauf Damen / Herren ohne Klassenwertung<br>\n 10.000 Meter Hauptlauf m
 it Klassenwertung</p>\n<p>Ausschreibung: <a href=https://www.runningso
 cks.de/wordpress/wp-content/uploads/2010/03/Stausee_2010_web.pdf>Flyer
 _Happurger_Stauseelauf_2010</a></p>\n<p style=text-align: justify\;>We
 itere Info&#8217\;s und Anmeldung beim Veranstalter:  <a href=http://w
 ww.sc-happurg.de/html/stauseelauf.html target=_blank>SC Happurg</a></p
 >\n<p style=text-align: justify\;><span style=text-decoration: underli
 ne\;><strong>Neueste Info&#8217\;s vo Veranstalter:</strong></span></p
 >\n<p>Hallo\,</p>\n<p>zu unserem 10. Happurger Stauseelauf am 08.05.20
 10 möchten wir Euch wieder recht herzlich einladen.</p>\n<p>Wie gewohn
 t werden wir wieder Kinder- und Schülerläufe\, den Hobbylauf mit einer
  Stauseerunde sowie den Hauptlauf über 10 km veranstalten.</p>\n<p>Wir
  hoffen Euch auch in diesem Jahr wieder eine tolle Veranstaltung biete
 n zu können.</p>\n<p>Als Gast zum 10-jährigen Jubiläum wird uns <stron
 g>Fritz Fischer</strong>\, ehemaliger <strong>Weltklassebiathlet</stro
 ng> besuchen.</p>\n<p>Erleben Sie im Anschluß an den Hauptlauf Biathlo
 n Live mit Fritz Fischer. <strong>Es wird ein Biathlon mit heimischen 
 &#8222\;Atlethen&#8220\; veranstaltet.</strong></p>\n<p>Wir freuen uns
  schon jetzt auf Euer kommen!</p>\n<p>Mit sportlichen Grüßen</p>\n<p>E
 urer Stauseelaufteam</p>\n<p>des SC Happurg</p>\n
URL:https://www.runningsocks.de/wordpress/terminkalender/eventsinglepa
 ge/?event_id=20&lang=de
ATTACH:https://www.runningsocks.de/wordpress/terminkalender/eventsingl
 epage/?event_id=20&lang=de
LOCATION:Happurger See\, Seepromenade 1\, Happurg
END:VEVENT
END:VCALENDAR
