BEGIN:VCALENDAR
VERSION:2.0
METHOD:PUBLISH
PRODID:-//hacksw/handcal//NONSGML v1.0//EN
BEGIN:VEVENT
DTSTAMP:20260419T165349Z
DTSTART:20130316T090000Z
DTEND:20130316T110000Z
UID:20130316T090000Z-20130316T110000Z-200@www.runningsocks.de
SUMMARY:4. Run & Bike Nürnberg
DESCRIPTION:Auf geht's zum 4. Run & Bike am Tiergarten\, wieder besten
 s organisiert von Micheal Krell.\nWie oder was ist ein Run & Bike?\n\n
 Zwei Läufer teilen sich ein Fahrrad. Dabei darf der Abstand zwischen d
 em Läufer und dem Radfahrer niemals mehr als 10 Meter betragen. Das “P
 aar” kann sich beliebig jederzeit abwechseln.\n\nGestartet wird als ge
 meinsam um 10Uhr am Tiergarten Nürnberg. Jedes Team besteht aus zwei T
 eilnehmern. Anfangs absolviert jeder Teilnehmer eine 400 Meter lange L
 aufstrecke und schlägt anschließend seinen Teamkameraden ab der dann d
 ieselbe Strecke läuft. Sobald der zweite wieder da ist\, wartet sein P
 artner schon auf dem Mountain- oder Crossbike auf ihn. Gemeinsam legen
  beide dann los und begeben sich auf die Rennstrecke. Dabei geht es zu
  zweit auf Wanderwegen und kleineren Pfaden durch den Wald.\n\nJedes T
 eam darf nur ein Rad benutzen\, d.h. dass jeweils einer läuft während 
 der andere sich auf dem Rad erholt und nebenher fährt. Beide dürfen nu
 r maximal 10 Meter entfernt voneinander sein. Die Sache hat natürlich 
 noch einen Haken! Am schnellsten absolviert man den Parkours nämlich i
 ndem sich beide mit dem Laufen abwechseln.\n\nDie Teams absolvieren da
 bei entweder zwei Runden (17km) auf der normalen Distanz oder nur eine
  Runde (8\,5Km) auf der Schnupperdistanz. Gleichzeitig gibt es auch no
 ch mixed Staffeln und reine Frauen-Staffeln. Wenn ihr also zusammen mi
 t eurer Freundin oder Freund an den Start gehen wollt\, kein Problem.\
 n\nPreise wird es sicherlich auch geben\, wir lassen uns überraschen. 
 Was natürlich auch nicht fehlt:  ein leckeres Kuchenbuffet!\n\nStartge
 ld:\n\n17Km / 8\,5Km: 15 EUR\n\nNachmeldung am Wettkampftag: 20 EUR\n\
 nZeitplan:\n\nStart 17Km / 8\,5Km: 10:00\n\nWeitere Infos und Anmeldun
 g beim Veranstalter: www.star-timing.de
X-ALT-DESC;FMTTYPE=text/html:<p style=text-align: center\;>Auf geht&#8
 217\;s zum 4. Run &amp\; Bike am Tiergarten\, wieder bestens organisie
 rt von Micheal Krell.</p>\n<p><span style=text-decoration: underline\;
 ><strong>Wie oder was ist ein Run &amp\; Bike?</strong></span><br>\n<b
 r>\nZwei Läufer teilen sich ein Fahrrad. Dabei darf der Abstand zwisch
 en dem Läufer und dem Radfahrer niemals mehr als 10 Meter betragen. Da
 s “Paar” kann sich beliebig jederzeit abwechseln.</p>\n<p>Gestartet wi
 rd als gemeinsam um 10Uhr am Tiergarten Nürnberg. Jedes Team besteht a
 us zwei Teilnehmern. Anfangs absolviert jeder Teilnehmer eine 400 Mete
 r lange Laufstrecke und schlägt anschließend seinen Teamkameraden ab d
 er dann dieselbe Strecke läuft. Sobald der zweite wieder da ist\, wart
 et sein Partner schon auf dem Mountain- oder Crossbike auf ihn. Gemein
 sam legen beide dann los und begeben sich auf die Rennstrecke. Dabei g
 eht es zu zweit auf Wanderwegen und kleineren Pfaden durch den Wald.</
 p>\n<p>Jedes Team darf nur ein Rad benutzen\, d.h. dass jeweils einer 
 läuft während der andere sich auf dem Rad erholt und nebenher fährt. B
 eide dürfen nur maximal 10 Meter entfernt voneinander sein. Die Sache 
 hat natürlich noch einen Haken! Am schnellsten absolviert man den Park
 ours nämlich indem sich beide mit dem Laufen abwechseln.</p>\n<p>Die T
 eams absolvieren dabei entweder zwei Runden (17km) auf der normalen Di
 stanz oder nur eine Runde (8\,5Km) auf der Schnupperdistanz. Gleichzei
 tig gibt es auch noch mixed Staffeln und reine Frauen-Staffeln. Wenn i
 hr also zusammen mit eurer Freundin oder Freund an den Start gehen wol
 lt\, kein Problem.</p>\n<p>Preise wird es sicherlich auch geben\, wir 
 lassen uns überraschen. Was natürlich auch nicht fehlt:  ein leckeres 
 Kuchenbuffet!</p>\n<p><span style=text-decoration: underline\;><strong
 >Startgeld:</strong></span><br>\n<br>\n17Km / 8\,5Km: 15 EUR</p>\n<p>N
 achmeldung am Wettkampftag: 20 EUR</p>\n<p><span style=text-decoration
 : underline\;><strong>Zeitplan:</strong></span><br>\n<br>\nStart 17Km 
 / 8\,5Km: 10:00</p>\n<p>Weitere Infos und Anmeldung beim Veranstalter:
  <a href=https://www.star-timing.de/index.php/events2013/run-and-bike-
 tiergarten-2013 target=_blank>www.star-timing.de</a></p>\n
URL:https://www.runningsocks.de/wordpress/terminkalender/eventsinglepa
 ge/?event_id=200&lang=de
ATTACH:https://www.runningsocks.de/wordpress/terminkalender/eventsingl
 epage/?event_id=200&lang=de
LOCATION:Tiergarten\, am Tiergarten 30\, Nürnberg
END:VEVENT
END:VCALENDAR
