BEGIN:VCALENDAR
VERSION:2.0
METHOD:PUBLISH
PRODID:-//hacksw/handcal//NONSGML v1.0//EN
BEGIN:VEVENT
DTSTAMP:20260419T165141Z
DTSTART:20130526T104500Z
DTEND:20130526T120000Z
UID:20130526T104500Z-20130526T120000Z-201@www.runningsocks.de
SUMMARY:4. Run & Bike beim Altstadtrennen Nürnberg
DESCRIPTION:Zum vierten Mal findet nun auf Grund des großen Erfolges a
 us den Vorjahren der Run and Bike in der Nürnberger Altstadt statt. Da
  die Veranstaltung dieses Jahr im Rahmen des Finales der Bayern Rundfa
 hrt stattfindet\, hat sich zum einen der Termin (nicht September) und 
 auch die Strecke geändert. Die Strecke führt nun um den kompletten Alt
 stadtring ist somit zwischen 10Km (2 Runden) und 15Km (3 Runden) lang.
  Start und Ziel ist am Opernhaus.\n\nWas ist ein Run & Bike?\n\nLäufer
  und Radfahrer teilen sich ein Fahrrad\, wobei der Abstand zwischen de
 m Läufer und dem Radfahrer nie mehr als 10 Meter betragen darf. Sie we
 chseln sich beliebig oft ab und legen dabei gemeinsam die Strecke zurü
 ck.\n\nWann?\n\n	Startberechtigung: Mitmachen kann jeder ab 10 Jahren\
 n	Start: 12:45 Uhr\, Opernhaus\n	Ziel: Opernhaus (Zielschluß: 13:55 fü
 r beide Strecken !!)\n\nStrecken:\n\n	Strecke 1: 2 Altstadtrunden\, Lä
 nge 10 km\n	Strecke 2: 3 Altstadtrunden\, Länge 15\n\nStartgeld:\n\n	b
 is 15.03.2013 : 20\,00 € pro Team\n	ab 16.03.2013 bis 24.05.2013 : 24\
 ,00 € pro Team\n	Nachmeldung nur am 25.05.2013 : 34\,00 € pro Team\n\n
 Anmeldungen und weitere Info's:\n\n	Anmeldungen: hier geht's lang\n	Ra
 drennen um die Nürnberger Altstadt: diesen Link anklicken \n\nAusschre
 ibung:\n\n[wpfilebase tag=file path='fun/run-und-bike/20130526/2013052
 6_RunBike_Ausschreibung.pdf' /]
X-ALT-DESC;FMTTYPE=text/html:<p>Zum vierten Mal findet nun auf Grund d
 es großen Erfolges aus den Vorjahren der Run and Bike in der Nürnberge
 r Altstadt statt. Da die Veranstaltung dieses Jahr im Rahmen des Final
 es der Bayern Rundfahrt stattfindet\, hat sich zum einen der Termin (n
 icht September) und auch die Strecke geändert. Die Strecke führt nun u
 m den kompletten Altstadtring ist somit zwischen 10Km (2 Runden) und 1
 5Km (3 Runden) lang. Start und Ziel ist am Opernhaus.</p>\n<p><strong>
 Was ist ein Run &amp\; Bike?</strong><br>\n<br>\nLäufer und Radfahrer 
 teilen sich ein Fahrrad\, wobei der Abstand zwischen dem Läufer und de
 m Radfahrer nie mehr als 10 Meter betragen darf. Sie wechseln sich bel
 iebig oft ab und legen dabei gemeinsam die Strecke zurück.</p>\n<p><sp
 an style=text-decoration: underline\;><strong>Wann?</strong></span></p
 >\n<ul>\n<li>Startberechtigung: Mitmachen kann jeder ab 10 Jahren</li>
 \n<li>Start: 12:45 Uhr\, Opernhaus</li>\n<li>Ziel: Opernhaus (Zielschl
 uß: 13:55 für beide Strecken !!)</li>\n</ul>\n<p><span style=text-deco
 ration: underline\;><strong>Strecken:</strong></span></p>\n<ul>\n<li>S
 trecke 1: 2 Altstadtrunden\, Länge 10 km</li>\n<li>Strecke 2: 3 Altsta
 dtrunden\, Länge 15</li>\n</ul>\n<p><span style=text-decoration: under
 line\;><strong>Startgeld:</strong></span></p>\n<ul>\n<li>bis 15.03.201
 3 : 20\,00 € pro Team</li>\n<li>ab 16.03.2013 bis 24.05.2013 : 24\,00 
 € pro Team</li>\n<li>Nachmeldung <strong>nur am 25.05.2013</strong> : 
 34\,00 € pro Team</li>\n</ul>\n<p><span style=text-decoration: underli
 ne\;><strong>Anmeldungen und weitere Info&#8217\;s:</strong></span></p
 >\n<ul>\n<li>Anmeldungen: <a href=https://www.star-timing.de/index.php
 /events2013/run-and-bike-altstadt-2013 target=_blank>hier geht&#8217\;
 s lang</a></li>\n<li>Radrennen um die Nürnberger Altstadt: <a href=htt
 p://www.nuernberg.de/internet/radrennen/ target=_blank>diesen Link ank
 licken </a></li>\n</ul>\n<p><strong>Ausschreibung:</strong><br>\n<br>\
 n[wpfilebase tag=file path=&#8217\;fun/run-und-bike/20130526/20130526_
 RunBike_Ausschreibung.pdf&#8216\; /]</p>\n
URL:https://www.runningsocks.de/wordpress/terminkalender/eventsinglepa
 ge/?event_id=201&lang=de
ATTACH:https://www.runningsocks.de/wordpress/terminkalender/eventsingl
 epage/?event_id=201&lang=de
LOCATION:Opernhaus Nürnberg\, Frauentorgraben\, Nürnberg
END:VEVENT
END:VCALENDAR
