BEGIN:VCALENDAR
VERSION:2.0
METHOD:PUBLISH
PRODID:-//hacksw/handcal//NONSGML v1.0//EN
BEGIN:VEVENT
DTSTAMP:20260419T165138Z
DTSTART:20130511T050000Z
DTEND:20130511T150000Z
UID:20130511T050000Z-20130511T150000Z-202@www.runningsocks.de
SUMMARY:14. Landkreislauf Nürnberger Land
DESCRIPTION:Am 11. Mai findet der heuer der 14. Landkreislauf Nürnberg
 er Land statt. Start der ersten Etappe sit dieses Jahr Rupprechtstegen
 \, das Ziel befindet sich in Simonshofen.\n\nHier die Streckenabschnit
 te (10 Etappen\, ca. 52Km):\n      \n\n\nEtappe\nStart\nZiel\nProfil\n
 Distanz\nUhrzeit\n\n\n1\nRupprechtstegen (NW)\nMünzinghof\nschwer\n7\,
 8\n07:00\n\n\n2\nMünzinghof (NW)\nWallsdorf\nm.schwer\n5\,9\n08:30\n\n
 \n3\nWallsdorf (NW)\nHormersdorf\nm.schwer\n4\,1\n09:45\n\n\n4\nHormer
 sdorf\nIttling\n... schwer\n6\,8\n10:30\n\n\n5\nIttling\nGroßengsee\nl
 eicht\n3\,4\n11:40\n\n\n6\nGroßengsee (NW)\nSimmelsdorf - Bühl\nm.schw
 er\n4\,8\n12:15\n\n\n7\nSimmelsdorf - Bühl\nOsternohe\n... schwer\n6\,
 2\n13:15\n\n\n8\nOsternohe\nHedersdorf\nleicht\n3\,5\n14:15\n\n\n9\nHe
 dersdorf\nSchnaittach\nleicht\n3\,5\n15:10\n\n\n10\nSchnaittach (NW)\n
 Simonshofen\nm.schwer\n6\n15:50\n\n\n\n \n\n \n\n \n\n \n\n \n\n \n\n 
 \n\n \n\n \n\nDie Strecken:\n\n[wpfilebase tag=list id=175 tpl=data-ta
 ble pagenav=1 /]\n\nAchtung: Änderungen sind jederzeot möglich. Aktuel
 le Informationen nur auf der Seite des Veranstalters :  !! Aktuelles !
 !\n\nAlle weiteren Infos auf de Seite des Veranstalters: Landkreislauf
  Nürnberger Land
X-ALT-DESC;FMTTYPE=text/html:<p>Am 11. Mai findet der heuer der 14. La
 ndkreislauf Nürnberger Land statt. Start der ersten Etappe sit dieses 
 Jahr Rupprechtstegen\, das Ziel befindet sich in Simonshofen.</p>\n<p>
 Hier die Streckenabschnitte (10 Etappen\, ca. 52Km):</p>\n<table class
 = alignleft style=width: 513px\; height: 268px\; border=0 cellspacing=
 2 cellpadding=2>\n<colgroup>\n<col width=21 />\n<col width=151 />\n<co
 l width=126 />\n<col width=46 />\n<col width=50 /> </colgroup>\n<tbody
 >\n<tr><td style=text-align: center\; align=right width=21 height=20><
 strong>Etappe</strong></td>\n<td style=text-align: center\; width=151>
 <strong>Start</strong></td>\n<td style=text-align: center\; width=126>
 <strong>Ziel</strong></td>\n<td style=text-align: center\; align=right
  width=46><strong>Profil</strong></td>\n<td style=text-align: center\;
  align=right width=46><strong>Distanz</strong></td>\n<td style=text-al
 ign: center\; align=right width=50><strong>Uhrzeit</strong></td></tr>\
 n<tr><td style=text-align: center\; align=right width=21 height=20>1</
 td>\n<td width=151>Rupprechtstegen (NW)</td>\n<td width=126>Münzinghof
 </td>\n<td style=text-align: center\; align=right width=46>schwer</td>
 \n<td style=text-align: center\; align=right width=46>7\,8</td>\n<td s
 tyle=text-align: center\; align=right width=50>07:00</td></tr>\n<tr><t
 d style=text-align: center\; align=right width=21 height=20>2</td>\n<t
 d width=151>Münzinghof (NW)</td>\n<td width=126>Wallsdorf</td>\n<td st
 yle=text-align: center\; align=right width=46>m.schwer</td>\n<td style
 =text-align: center\; align=right width=46>5\,9</td>\n<td style=text-a
 lign: center\; align=right width=50>08:30</td></tr>\n<tr><td style=tex
 t-align: center\; align=right width=21 height=20>3</td>\n<td width=151
 >Wallsdorf (NW)</td>\n<td width=126>Hormersdorf</td>\n<td style=text-a
 lign: center\; align=right width=46>m.schwer</td>\n<td style=text-alig
 n: center\; align=right width=46>4\,1</td>\n<td style=text-align: cent
 er\; align=right width=50>09:45</td></tr>\n<tr><td style=text-align: c
 enter\; align=right width=21 height=20>4</td>\n<td width=151>Hormersdo
 rf</td>\n<td width=126>Ittling</td>\n<td style=text-align: center\; al
 ign=right width=46>&#8230\; schwer</td>\n<td style=text-align: center\
 ; align=right width=46>6\,8</td>\n<td style=text-align: center\; align
 =right width=50>10:30</td></tr>\n<tr><td style=text-align: center\; al
 ign=right width=21 height=20>5</td>\n<td width=151>Ittling</td>\n<td w
 idth=126>Großengsee</td>\n<td style=text-align: center\; align=right w
 idth=46>leicht</td>\n<td style=text-align: center\; align=right width=
 46>3\,4</td>\n<td style=text-align: center\; align=right width=50>11:4
 0</td></tr>\n<tr><td style=text-align: center\; align=right width=21 h
 eight=20>6</td>\n<td width=151>Großengsee (NW)</td>\n<td width=126>Sim
 melsdorf &#8211\; Bühl</td>\n<td style=text-align: center\; align=righ
 t width=46>m.schwer</td>\n<td style=text-align: center\; align=right w
 idth=46>4\,8</td>\n<td style=text-align: center\; align=right width=50
 >12:15</td></tr>\n<tr><td style=text-align: center\; align=right width
 =21 height=20>7</td>\n<td width=151>Simmelsdorf &#8211\; Bühl</td>\n<t
 d width=126>Osternohe</td>\n<td style=text-align: center\; align=right
  width=46>&#8230\; schwer</td>\n<td style=text-align: center\; align=r
 ight width=46>6\,2</td>\n<td style=text-align: center\; align=right wi
 dth=50>13:15</td></tr>\n<tr><td style=text-align: center\; align=right
  width=21 height=20>8</td>\n<td width=151>Osternohe</td>\n<td width=12
 6>Hedersdorf</td>\n<td style=text-align: center\; align=right width=46
 >leicht</td>\n<td style=text-align: center\; align=right width=46>3\,5
 </td>\n<td style=text-align: center\; align=right width=50>14:15</td><
 /tr>\n<tr><td style=text-align: center\; align=right width=21 height=2
 0>9</td>\n<td width=151>Hedersdorf</td>\n<td width=126>Schnaittach</td
 >\n<td style=text-align: center\; align=right width=46>leicht</td>\n<t
 d style=text-align: center\; align=right width=46>3\,5</td>\n<td style
 =text-align: center\; align=right width=50>15:10</td></tr>\n<tr><td st
 yle=text-align: center\; align=right width=21 height=20>10</td>\n<td w
 idth=151>Schnaittach (NW)</td>\n<td width=126>Simonshofen</td>\n<td st
 yle=text-align: center\; align=right width=46>m.schwer</td>\n<td style
 =text-align: center\; align=right width=46>6</td>\n<td style=text-alig
 n: center\; align=right width=50>15:50</td></tr>\n</tbody>\n</table>\n
 <p>&nbsp\;</p>\n<p>&nbsp\;</p>\n<p>&nbsp\;</p>\n<p>&nbsp\;</p>\n<p>&nb
 sp\;</p>\n<p>&nbsp\;</p>\n<p>&nbsp\;</p>\n<p>&nbsp\;</p>\n<p>&nbsp\;</
 p>\n<p>Die Strecken:</p>\n<p>[wpfilebase tag=list id=175 tpl=data-tabl
 e pagenav=1 /]</p>\n<p>Achtung: Änderungen sind jederzeot möglich. Akt
 uelle Informationen nur auf der Seite des Veranstalters :  <a href=htt
 p://www.landkreislauf.de/index.php?mod=strecken target=_blank>!! Aktue
 lles !!</a></p>\n<p>Alle weiteren Infos auf de Seite des Veranstalters
 : <a href=http://www.landkreislauf.de/index.php target=_blank>Landkrei
 slauf Nürnberger Land</a></p>\n
URL:https://www.runningsocks.de/wordpress/terminkalender/eventsinglepa
 ge/?event_id=202&lang=de
ATTACH:https://www.runningsocks.de/wordpress/terminkalender/eventsingl
 epage/?event_id=202&lang=de
LOCATION:Start 1. Etappe\, 14. Landkreislauf Nbg. Land\, SC Rupprechts
 tegen\, Rupprechtstegen
END:VEVENT
END:VCALENDAR
