BEGIN:VCALENDAR
VERSION:2.0
METHOD:PUBLISH
PRODID:-//hacksw/handcal//NONSGML v1.0//EN
BEGIN:VEVENT
DTSTAMP:20260419T165515Z
DTSTART:20130501T080000Z
DTEND:20130501T110000Z
UID:20130501T080000Z-20130501T110000Z-203@www.runningsocks.de
SUMMARY:6. Moritzberglauf
DESCRIPTION:Der Moritzberglauf ist die Herausforderung für Läufer( inn
 en) der 10-km-Distanz und findet traditionell am 1. Mai statt. Zwische
 n Start und Ziel sind ca. 370 Höhenmeter zu überwinden. Details sh. Au
 sschreibung.\n\nAusschreibung:\n\n[wpfilebase tag=file path='lauf/mori
 tzberlauf/20130501/20130501_Ausschreibung_Moritzberlauf.pdf' /]\n\nSta
 rt: \n\nAn der Soccerhalle Lauf\, Industriestraße 32\, 10:00\n\nZiel:\
 n\nMoritzberg\n\nDistanz:\n\n10Km\, Berglauf\, 363HM\n\nWeitere Info's
  beim Veranstalter: Skiclub Lauf\n\nHistorie:\n\nZur Geschichte des Mo
 ritzberglaufes. Entstehung des Moritzberglaufes (Quelle: www.skiclub-l
 auf.de)\nDer Moritzberg bei Wikipedia. Der Berggasthof auf dem Moritzb
 erg.
X-ALT-DESC;FMTTYPE=text/html:<p>Der Moritzberglauf ist die Herausforde
 rung für Läufer( innen) der 10-km-Distanz und findet traditionell am 1
 . Mai statt. Zwischen Start und Ziel sind ca. 370 Höhenmeter zu überwi
 nden. Details sh. Ausschreibung.</p>\n<p><strong>Ausschreibung:</stron
 g><br>\n<br>\n[wpfilebase tag=file path=&#8217\;lauf/moritzberlauf/201
 30501/20130501_Ausschreibung_Moritzberlauf.pdf&#8216\; /]</p>\n<p><str
 ong>Start: </strong><br>\n<br>\nAn der &#8222\;Soccerhalle Lauf&#8220\
 ;\, Industriestraße 32\, 10:00</p>\n<p><strong>Ziel:</strong><br>\n<br
 >\nMoritzberg</p>\n<p><strong>Distanz:</strong><br>\n<br>\n10Km\, Berg
 lauf\, 363HM</p>\n<p>Weitere Info&#8217\;s beim Veranstalter: <a href=
 http://www.skiclub-lauf.de/index.php?id=364 target=_blank>Skiclub Lauf
 </a></p>\n<p><strong>Historie:</strong><br>\n<br>\nZur Geschichte des 
 Moritzberglaufes. <a href=https://www.runningsocks.de/wordpress/wp-con
 tent/uploads/2010/04/Geschichte_Moritzberglauf.pdf>Entstehung des Mori
 tzberglaufes</a> (Quelle: www.skiclub-lauf.de)</p>\n<p style=text-alig
 n: justify\;>Der Moritzberg bei <a href=http://de.wikipedia.org/wiki/M
 oritzberg_(Frankenalb) target=_blank>Wikipedia</a>. Der <a href=http:/
 /www.berggasthof-moritzberg.de/ target=_blank>Berggasthof</a> auf dem 
 Moritzberg.</p>\n
URL:https://www.runningsocks.de/wordpress/terminkalender/eventsinglepa
 ge/?event_id=203&lang=de
ATTACH:https://www.runningsocks.de/wordpress/terminkalender/eventsingl
 epage/?event_id=203&lang=de
LOCATION:Moritzberg\, Moritzberg\, Lauf
END:VEVENT
END:VCALENDAR
