BEGIN:VCALENDAR
VERSION:2.0
METHOD:PUBLISH
PRODID:-//hacksw/handcal//NONSGML v1.0//EN
BEGIN:VEVENT
DTSTAMP:20260419T165413Z
DTSTART:20100516T060000Z
DTEND:20100516T130000Z
UID:20100516T060000Z-20100516T130000Z-22@www.runningsocks.de
SUMMARY:18. Mittelfrankencup - Schnaittach
DESCRIPTION:Zum 18. Mal wird der Mittelfrankencup ausgetragen.\n2010 o
 rganisieren wieder 8 Vereine aus Mittelfranken  für Sie 8 tolle Rad-To
 uren-Fahrten(RTF) und eine Mountainbike-Tour  (CTF) durch unsere herrl
 iche mittelfränkische Landschaft.\nInnerhalb  der RTF/CTF werden wie i
 mmer drei oder vier Radtouren mit Streckenlängen  zwischen 40 und 160 
 km angeboten. Alle Touren des Mittelfrankencups  finden auf verkehrsar
 men Straßen statt und sind keine Rennen.  Jedermann(frau) kann dort na
 ch Lust und Laune radeln\, so schnell oder  langsam wie er (sie) will.
 \nWie gewohnt erhält jeder Teilnehmer auch  2010 nach sechs von neun g
 efahrenen Touren eine Auszeichnung zusammen  mit einer Urkunde. Diesma
 l bieten wir eine kurze Radhose mit  oder ohne Träger der Firma Prolog
  in schwarz\, farblich passend  zum Trikot des letzten Jahres an.\nDer
  Nachweis über die erfolgreiche  Teilnahme ist über die Wertungskarte 
 des Mittelfrankencups zu führen.  Die Auszeichnungen werden – wenn min
 destens 6 Touren absolviert wurden –  ohne weitere Zuzahlung bei der l
 etzten Veranstaltung in Erlangen  ausgegeben.\nAuch 2010 sind die Vera
 nstaltungen des  Mittelfrankencups offizielle Veranstaltungen zur BDR-
 Jahreswertung.\nWeiter Infos und Anmeldung auf der Seite des Veranstal
 ters\, www.mfrc.de\nAusschreibung\, Flyer: noch nicht online
X-ALT-DESC;FMTTYPE=text/html:<p style=text-align: justify\;>Zum 18. Ma
 l wird der Mittelfrankencup ausgetragen.</p>\n<p style=text-align: jus
 tify\;>2010 organisieren wieder 8 Vereine aus Mittelfranken  für Sie 8
  tolle Rad-Touren-Fahrten(RTF) und eine Mountainbike-Tour  (CTF) durch
  unsere herrliche mittelfränkische Landschaft.<br>\nInnerhalb  der RTF
 /CTF werden wie immer drei oder vier Radtouren mit Streckenlängen  zwi
 schen 40 und 160 km angeboten. Alle Touren des Mittelfrankencups  find
 en auf verkehrsarmen Straßen statt und sind keine Rennen.  Jedermann(f
 rau) kann dort nach Lust und Laune radeln\, so schnell oder  langsam w
 ie er (sie) will.<br>\nWie gewohnt erhält jeder Teilnehmer auch  2010 
 nach sechs von neun gefahrenen Touren eine Auszeichnung zusammen  mit 
 einer Urkunde. Diesmal bieten wir eine <strong>kurze Radhose mit  oder
  ohne Träger der Firma Prolog in schwarz</strong>\, farblich passend  
 zum Trikot des letzten Jahres an.<br>\nDer Nachweis über die erfolgrei
 che  Teilnahme ist über die Wertungskarte des Mittelfrankencups zu füh
 ren.  Die Auszeichnungen werden – wenn mindestens 6 Touren absolviert 
 wurden –  ohne weitere Zuzahlung bei der letzten Veranstaltung in Erla
 ngen  ausgegeben.</p>\n<p style=text-align: justify\;>Auch 2010 sind d
 ie Veranstaltungen des  Mittelfrankencups offizielle Veranstaltungen z
 ur BDR-Jahreswertung.</p>\n<p style=text-align: justify\;>Weiter Infos
  und Anmeldung auf der Seite des Veranstalters\,<a href=http://mfrc-on
 line.de/main/22.0.html target=_blank> www.mfrc.de</a></p>\n<p style=te
 xt-align: justify\;>Ausschreibung\, Flyer: noch nicht online</p>\n
URL:https://www.runningsocks.de/wordpress/terminkalender/eventsinglepa
 ge/?event_id=22&lang=de
ATTACH:https://www.runningsocks.de/wordpress/terminkalender/eventsingl
 epage/?event_id=22&lang=de
LOCATION:Schnaittach\, \, Schnaittach
END:VEVENT
END:VCALENDAR
