BEGIN:VCALENDAR
VERSION:2.0
METHOD:PUBLISH
PRODID:-//hacksw/handcal//NONSGML v1.0//EN
BEGIN:VEVENT
DTSTAMP:20260419T165618Z
DTSTART:20130529T090000Z
DTEND:20130602T210000Z
UID:20130529T090000Z-20130602T210000Z-239@www.runningsocks.de
SUMMARY:16. Fränkisches Bierfest
DESCRIPTION:Das 16. Fränkische Bierfest im Nürnberger Burggraben: Hier
  zeigt Tradition ihr jugendliches Lächeln.\n\nVom 29. Mai bis zum 2. J
 uni 2013 lädt zum 16. Mal das Fränkische Bierfest seine Besucher in de
 n Nürnberger Burggraben. Der längste Biergarten Bayerns präsentiert üb
 er 100 Biersorten vorwiegend kleiner\, regionaler Brauereien. Bereits 
 legendäre Anbieter wie Neder Bräu\, Brauerei Alt\, Brauerei Gutmann\, 
 Landwehr Bräu und Schanzenbräu aus Gostenhof werden bereichert durch e
 ine Vielzahl noch weithin unbekannter Brauereien\, die es zu entdecken
  gilt. Viele davon schenken ihre Biere sonst ausschließlich in ihren e
 igenen Gaststätten aus. Als eine der wenigen Veranstaltungen in dieser
  historischen Umgebung gibt das Fränkische Bierfest somit den erfrisch
 endsten Anlass\, traditionell zu feiern.\n\nDamit Jung und Alt auch wi
 rklich auf ihre Kosten kommen\, ist das Getränkeangebot natürlich mit 
 den Bieren von über 30 Brauereien lang noch nicht ausgeschöpft. Wenn s
 ich der kleine oder große Hunger zwischendurch meldet\, lassen sich di
 e Besucher an einem der 18 Essensstände verwöhnen. Außer dem tradition
 ellen Saugrill locken fränkische Brotzeiten\, Grillspezialitäten und z
 ahlreiche internationale Leckerbissen.\n\nWenn Durst und Appetit gesti
 llt sind\, genießt man das abwechslungsreiche Rahmenprogramm. Ob Strei
 chelzoo und Hüpfburg für die Kleinen oder Live-Musik von Blaskapelle ü
 ber Jazz und Blues bis Songwriting: Das Fränkische Bierfest hält für j
 eden Geschmack etwas bereit.\n\nDementsprechend wird das Ereignis am M
 ittwoch\, den 29. Mai 2013 um 18:00 Uhr von der amtierenden Bierkönigi
 n eingeläutet. Am Donnerstag und Sonntag öffnet das Bierfest seine Pfo
 rten um 11:00 Uhr\, am Freitag und Samstag um 14:00 Uhr. Jeweils um 23
 :00 Uhr dürfen dann auch die vielen Mitarbeiter des Festes in den wohl
 verdienten Feierabend und der Burggraben darf wieder ruhen.\n\nAuf das
  Festgelände hinter der Kaiserburg gelangen die Besucher durch das Hal
 lertor\, das Maxtor oder über eine Treppe am Tiergärtnertor.\n\nIntern
 etadresse:                     www.bierfest-nuernberg.de\n\n(Quelle: h
 ttp://www.bierfest-nuernberg.de/presse.php)
X-ALT-DESC;FMTTYPE=text/html:<p><b>Das 16. Fränkische Bierfest im Nürn
 berger Burggraben: Hier zeigt Tradition ihr jugendliches Lächeln.</b><
 br>\n<br>\nVom 29. Mai bis zum 2. Juni 2013 lädt zum 16. Mal das Fränk
 ische Bierfest seine Besucher in den Nürnberger Burggraben. Der längst
 e Biergarten Bayerns präsentiert über 100 Biersorten vorwiegend kleine
 r\, regionaler Brauereien. Bereits legendäre Anbieter wie Neder Bräu\,
  Brauerei Alt\, Brauerei Gutmann\, Landwehr Bräu und Schanzenbräu aus 
 Gostenhof werden bereichert durch eine Vielzahl noch weithin unbekannt
 er Brauereien\, die es zu entdecken gilt. Viele davon schenken ihre Bi
 ere sonst ausschließlich in ihren eigenen Gaststätten aus. Als eine de
 r wenigen Veranstaltungen in dieser historischen Umgebung gibt das Frä
 nkische Bierfest somit den erfrischendsten Anlass\, traditionell zu fe
 iern.</p>\n<p>Damit Jung und Alt auch wirklich auf ihre Kosten kommen\
 , ist das Getränkeangebot natürlich mit den Bieren von über 30 Brauere
 ien lang noch nicht ausgeschöpft. Wenn sich der kleine oder große Hung
 er zwischendurch meldet\, lassen sich die Besucher an einem der 18 Ess
 ensstände verwöhnen. Außer dem traditionellen Saugrill locken fränkisc
 he Brotzeiten\, Grillspezialitäten und zahlreiche internationale Lecke
 rbissen.</p>\n<p>Wenn Durst und Appetit gestillt sind\, genießt man da
 s abwechslungsreiche Rahmenprogramm. Ob Streichelzoo und Hüpfburg für 
 die Kleinen oder Live-Musik von Blaskapelle über Jazz und Blues bis So
 ngwriting: Das Fränkische Bierfest hält für jeden Geschmack etwas bere
 it.</p>\n<p>Dementsprechend wird das Ereignis am Mittwoch\, den 29. Ma
 i 2013 um 18:00 Uhr von der amtierenden Bierkönigin eingeläutet. Am Do
 nnerstag und Sonntag öffnet das Bierfest seine Pforten um 11:00 Uhr\, 
 am Freitag und Samstag um 14:00 Uhr. Jeweils um 23:00 Uhr dürfen dann 
 auch die vielen Mitarbeiter des Festes in den wohlverdienten Feieraben
 d und der Burggraben darf wieder ruhen.</p>\n<p>Auf das Festgelände hi
 nter der Kaiserburg gelangen die Besucher durch das Hallertor\, das Ma
 xtor oder über eine Treppe am Tiergärtnertor.</p>\n<p><b>Internetadres
 se:                     <a href=http://www.bierfest-nuernberg.de>www.b
 ierfest-nuernberg.de</a></b><br>\n<br>\n(Quelle: http://www.bierfest-n
 uernberg.de/presse.php)</p>\n
URL:https://www.runningsocks.de/wordpress/terminkalender/eventsinglepa
 ge/?event_id=239&lang=de
ATTACH:https://www.runningsocks.de/wordpress/terminkalender/eventsingl
 epage/?event_id=239&lang=de
LOCATION:Burggraben unterhalb der Kaiserburg\, Auf der Burg 13\, Nürnb
 erg
END:VEVENT
END:VCALENDAR
