BEGIN:VCALENDAR
VERSION:2.0
METHOD:PUBLISH
PRODID:-//hacksw/handcal//NONSGML v1.0//EN
BEGIN:VEVENT
DTSTAMP:20260419T165210Z
DTSTART:20100515T080000Z
DTEND:20100515T130000Z
UID:20100515T080000Z-20100515T130000Z-24@www.runningsocks.de
SUMMARY:3. Fränkische-Schweiz-Rad-Marathon
DESCRIPTION:Auf drei Strecken über 30\,  93 und 163 km findet jeder et
 was passendes. So kann man eine Familienrunde auf der relativ leichten
  Kurzstrecke drehen oder je nach Fitness auch eine längere Distanz wäh
 len. Ambitionierte Radler und Profis werden weiter auf die langen und 
 schwereren Runden gehen.\nWeitere Info's un Anmeldung beim Veranstalte
 r: Rad  Marathon.NET\nStreckenverlauf:\nFränkische Schweiz Marathon 20
 09 auf einer größeren Karte anzeigen
X-ALT-DESC;FMTTYPE=text/html:<p>Auf drei Strecken über 30\,  93 und 16
 3 km findet jeder etwas passendes. So kann man eine Familienrunde auf 
 der relativ leichten Kurzstrecke drehen oder je nach Fitness auch eine
  längere Distanz wählen. Ambitionierte Radler und Profis werden weiter
  auf die langen und schwereren Runden gehen.</p>\n<p style=text-align:
  justify\;>Weitere Info&#8217\;s un Anmeldung beim Veranstalter: <a hr
 ef=http://felice-events.net/rad-marathon/ target=_blank>Rad  Marathon.
 NET</a></p>\n<p style=text-align: justify\;>Streckenverlauf:<br>\n<sma
 ll><a style=color: #0000ff\; text-align: left\; href=http://maps.googl
 e.de/maps/ms?f=q&amp\;source=embed&amp\;hl=de&amp\;geocode=&amp\;q=Lit
 zendorf\,+Bamberg+LK&amp\;g=Happurger+See\,+Happurg&amp\;ie=UTF8&amp\;
 oe=UTF8&amp\;msa=0&amp\;msid=104782553544050402223.00046aa3d4ae7659d78
 65&amp\;sll=49.912679\,11.009246&amp\;sspn=0.057499\,0.128059&amp\;ll=
 49.894192\,11.060486&amp\;spn=0.031769\,0.155977>Fränkische Schweiz Ma
 rathon 2009</a> auf einer größeren Karte anzeigen</small></p>\n
URL:https://www.runningsocks.de/wordpress/terminkalender/eventsinglepa
 ge/?event_id=24&lang=de
ATTACH:https://www.runningsocks.de/wordpress/terminkalender/eventsingl
 epage/?event_id=24&lang=de
LOCATION:Tanzwiesen\, Tanzwiesen\, Litzendorf
END:VEVENT
END:VCALENDAR
