BEGIN:VCALENDAR
VERSION:2.0
METHOD:PUBLISH
PRODID:-//hacksw/handcal//NONSGML v1.0//EN
BEGIN:VEVENT
DTSTAMP:20260419T165312Z
DTSTART:20130516T220000Z
DTEND:20130519T220000Z
UID:20130516T220000Z-20130519T220000Z-242@www.runningsocks.de
SUMMARY:Zabo Kärwa
DESCRIPTION:Weitere Infos sowie offizielles Program auf der Seite der 
 Interessengemeinschaft Zabo\n\nDas Programm zum Download:\n\n[wpfileba
 se tag=file path='Ereigniss/kirchweih/20130517-zabo/20130517_Kirchweih
 Zabo_Programm.pdf' /]
X-ALT-DESC;FMTTYPE=text/html:<p>Weitere Infos sowie offizielles Progra
 m auf der Seite der <a href=http://www.zaboaktuell.de/ target=_blank>I
 nteressengemeinschaft Zabo</a></p>\n<p>Das Programm zum Download:</p>\
 n<p>[wpfilebase tag=file path=&#8217\;Ereigniss/kirchweih/20130517-zab
 o/20130517_KirchweihZabo_Programm.pdf&#8216\; /]</p>\n
URL:https://www.runningsocks.de/wordpress/terminkalender/eventsinglepa
 ge/?event_id=242&lang=de
ATTACH:https://www.runningsocks.de/wordpress/terminkalender/eventsingl
 epage/?event_id=242&lang=de
LOCATION:Adam-Reitenspießplatz\, Zerzabelshofer Hauptstraße 40\, Nürnb
 erg
END:VEVENT
END:VCALENDAR
