BEGIN:VCALENDAR
VERSION:2.0
METHOD:PUBLISH
PRODID:-//hacksw/handcal//NONSGML v1.0//EN
BEGIN:VEVENT
DTSTAMP:20260419T165717Z
DTSTART:20140531T050000Z
DTEND:20140531T150000Z
UID:20140531T050000Z-20140531T150000Z-243@www.runningsocks.de
SUMMARY:15. Landkreislauf Nürnberger Land
DESCRIPTION:Am 31. Mai findet der heuer der 15. Landkreislauf Nürnberg
 er Land statt. Start der ersten Etappe ist dieses Jahr Tauchersreuth\,
  das Ziel befindet sich in Rummelsberg.\n\nDie Streckenabschnitte:\n  
        \n\n\nNr\nvon\nnach\nkm\nUhrzeit\nStecken\nHM bergauf\nHM berga
 b\n\n\n1\nLauf - Tauchersreuth (NW)\nRückersdorf\n7\,7\n07:00\nBeschre
 ibung S1\n59\n166\n\n\n2\nRückersdorf (NW)\nBehringersdorf\n3\,8\n08:2
 0\nBeschreibung S2\n23\n23\n\n\n3\nBehringersdorf (NW)\nSchwaig\n3\,6\
 n09:00\nBeschreibung S3\n22\n38\n\n\n4\nSchwaig\nDiepersdorf\n7\,6\n10
 :00\nBeschreibung S4\n78\n16\n\n\n5\nDiepersdorf (NW)\nLeinburg\n5\,2\
 n11:10\nBeschreibung S5\n38\n49\n\n\n6\nLeinburg\nWeißenbrunn\n6\,4\n1
 2:10\nBeschreibung S6\n78\n24\n\n\n7\nWeißenbrunn\nAltdorf\n5\,7\n13:1
 0\nBeschreibung S7\n72\n68\n\n\n8\nAltdorf\nWinkelhaid\n6\,8\n14:00\nB
 eschreibung S8\n53\n52\n\n\n9\nWinkelhaid\nFeucht\n8\,3\n15:00\nBeschr
 eibung S9\n38\n92\n\n\n10\nFeucht (NW)\nRummelsberg\n5\,5\n16:10\nBesc
 hreibung S10\n65\n33\n\n\n\n\n\n\n\n\n\n\n\n\n\n\nGesamt:\n60\,6\n \n\
 n\n\n\n\n\nDie Strecken:\n\n[wpfilebase tag=list id=211 tpl=data-table
  pagenav=1 /]\n\nAchtung: Änderungen sind jederzeit möglich. Aktuelle 
 Informationen nur auf der Seite des Veranstalters: Landkreislauf Nürnb
 erger Land
X-ALT-DESC;FMTTYPE=text/html:<p>Am 31. Mai findet der heuer der 15. La
 ndkreislauf Nürnberger Land statt. Start der ersten Etappe ist dieses 
 Jahr Tauchersreuth\, das Ziel befindet sich in Rummelsberg.</p>\n<p>Di
 e Streckenabschnitte:</p>\n<table style=width: 689px\; height: 341px\;
  border=0 cellspacing=0 cellpadding=0>\n<colgroup>\n<col width=29 />\n
 <col width=184 />\n<col width=166 />\n<col width=41 />\n<col width=56 
 />\n<col width=140 />\n<col width=81 />\n<col width=96 /> </colgroup>\
 n<tbody>\n<tr><td style=text-align: center\; width=29 height=20><stron
 g>Nr</strong></td>\n<td style=text-align: center\; width=184><strong>v
 on</strong></td>\n<td style=text-align: center\; width=166><strong>nac
 h</strong></td>\n<td style=text-align: center\; width=41><strong>km</s
 trong></td>\n<td style=text-align: center\; width=56><strong>Uhrzeit</
 strong></td>\n<td style=text-align: center\; width=140><strong>Stecken
 </strong></td>\n<td style=text-align: center\; width=81><strong>HM </s
 trong><strong>bergauf</strong></td>\n<td style=text-align: center\; wi
 dth=96><strong>HM </strong><strong>bergab</strong></td></tr>\n<tr><td 
 style=text-align: center\; width=29 height=38>1</td>\n<td style=text-a
 lign: center\; width=184>Lauf &#8211\; Tauchersreuth (NW)</td>\n<td st
 yle=text-align: center\; width=166>Rückersdorf</td>\n<td style=text-al
 ign: center\; width=41>7\,7</td>\n<td style=text-align: center\; width
 =56>07:00</td>\n<td style=text-align: center\; width=140><a href=http:
 //www.landkreislauf.de/downloads/58_1._Etappe_Tauchersreuth_Rueckersdo
 rf.pdf>Beschreibung S1</a></td>\n<td style=text-align: center\; width=
 81>59</td>\n<td style=text-align: center\; width=96>166</td></tr>\n<tr
 ><td style=text-align: center\; width=29 height=23>2</td>\n<td style=t
 ext-align: center\; width=184>Rückersdorf (NW)</td>\n<td style=text-al
 ign: center\; width=166>Behringersdorf</td>\n<td style=text-align: cen
 ter\; width=41>3\,8</td>\n<td style=text-align: center\; width=56>08:2
 0</td>\n<td style=text-align: center\; width=140><a href=http://www.la
 ndkreislauf.de/downloads/59_2._Etappe_Rueckersdorf_Behringersdorf.pdf>
 Beschreibung S2</a></td>\n<td style=text-align: center\; width=81>23</
 td>\n<td style=text-align: center\; width=96>23</td></tr>\n<tr><td sty
 le=text-align: center\; width=29 height=22>3</td>\n<td style=text-alig
 n: center\; width=184>Behringersdorf (NW)</td>\n<td style=text-align: 
 center\; width=166>Schwaig</td>\n<td style=text-align: center\; width=
 41>3\,6</td>\n<td style=text-align: center\; width=56>09:00</td>\n<td 
 style=text-align: center\; width=140><a href=http://www.landkreislauf.
 de/downloads/60_3._Etappe_Behringersdorf_Schwaig.pdf>Beschreibung S3</
 a></td>\n<td style=text-align: center\;>22</td>\n<td style=text-align:
  center\;>38</td></tr>\n<tr><td style=text-align: center\; width=29 he
 ight=23>4</td>\n<td style=text-align: center\; width=184>Schwaig</td>\
 n<td style=text-align: center\; width=166>Diepersdorf</td>\n<td style=
 text-align: center\; width=41>7\,6</td>\n<td style=text-align: center\
 ; width=56>10:00</td>\n<td style=text-align: center\; width=140><a hre
 f=http://www.landkreislauf.de/downloads/61_4._Etappe_Schwaig_Diepersdo
 rf.pdf>Beschreibung S4</a></td>\n<td style=text-align: center\; width=
 81>78</td>\n<td style=text-align: center\; width=96>16</td></tr>\n<tr>
 <td style=text-align: center\; width=29 height=22>5</td>\n<td style=te
 xt-align: center\; width=184>Diepersdorf (NW)</td>\n<td style=text-ali
 gn: center\; width=166>Leinburg</td>\n<td style=text-align: center\; w
 idth=41>5\,2</td>\n<td style=text-align: center\; width=56>11:10</td>\
 n<td style=text-align: center\; width=140><a href=http://www.landkreis
 lauf.de/downloads/62_5._Etappe_Diepersdorf_Leinburg.pdf>Beschreibung S
 5</a></td>\n<td style=text-align: center\; width=81>38</td>\n<td style
 =text-align: center\; width=96>49</td></tr>\n<tr><td style=text-align:
  center\; width=29 height=23>6</td>\n<td style=text-align: center\; wi
 dth=184>Leinburg</td>\n<td style=text-align: center\; width=166>Weißen
 brunn</td>\n<td style=text-align: center\; width=41>6\,4</td>\n<td sty
 le=text-align: center\; width=56>12:10</td>\n<td style=text-align: cen
 ter\; width=140><a href=http://www.landkreislauf.de/downloads/68_6._Et
 appe_Leinburg_Weissenbrunn.pdf>Beschreibung S6</a></td>\n<td style=tex
 t-align: center\; width=81>78</td>\n<td style=text-align: center\; wid
 th=96>24</td></tr>\n<tr><td style=text-align: center\; width=29 height
 =23>7</td>\n<td style=text-align: center\; width=184>Weißenbrunn</td>\
 n<td style=text-align: center\; width=166>Altdorf</td>\n<td style=text
 -align: center\; width=41>5\,7</td>\n<td style=text-align: center\; wi
 dth=56>13:10</td>\n<td style=text-align: center\; width=140><a href=ht
 tp://www.landkreislauf.de/downloads/69_7._Etappe_Weissenbrunn_Altdorf.
 pdf>Beschreibung S7</a></td>\n<td style=text-align: center\; width=81>
 72</td>\n<td style=text-align: center\; width=96>68</td></tr>\n<tr><td
  style=text-align: center\; width=29 height=23>8</td>\n<td style=text-
 align: center\; width=184>Altdorf</td>\n<td style=text-align: center\;
  width=166>Winkelhaid</td>\n<td style=text-align: center\; width=41>6\
 ,8</td>\n<td style=text-align: center\; width=56>14:00</td>\n<td style
 =text-align: center\; width=140><a href=http://www.landkreislauf.de/do
 wnloads/65_8._Etappe_Altdorf_Winkelhaid.pdf>Beschreibung S8</a></td>\n
 <td style=text-align: center\; width=81>53</td>\n<td style=text-align:
  center\; width=96>52</td></tr>\n<tr><td style=text-align: center\; wi
 dth=29 height=23>9</td>\n<td style=text-align: center\; width=184>Wink
 elhaid</td>\n<td style=text-align: center\; width=166>Feucht</td>\n<td
  style=text-align: center\; width=41>8\,3</td>\n<td style=text-align: 
 center\; width=56>15:00</td>\n<td style=text-align: center\; width=140
 ><a href=http://www.landkreislauf.de/downloads/66_9._Etappe_Winkelhaid
 _Feucht.pdf>Beschreibung S9</a></td>\n<td style=text-align: center\; w
 idth=81>38</td>\n<td style=text-align: center\; width=96>92</td></tr>\
 n<tr><td style=text-align: center\; width=29 height=23>10</td>\n<td st
 yle=text-align: center\; width=184>Feucht (NW)</td>\n<td style=text-al
 ign: center\; width=166>Rummelsberg</td>\n<td style=text-align: center
 \; width=41>5\,5</td>\n<td style=text-align: center\; width=56>16:10</
 td>\n<td style=text-align: center\; width=140><a href=http://www.landk
 reislauf.de/downloads/67_10._Etappe_Feucht_Rummelsberg.pdf>Beschreibun
 g S10</a></td>\n<td style=text-align: center\; width=81>65</td>\n<td s
 tyle=text-align: center\; width=96>33</td></tr>\n<tr><td style=text-al
 ign: center\; height=20></td>\n<td style=text-align: center\;></td>\n<
 td style=text-align: center\;></td>\n<td style=text-align: center\;></
 td>\n<td style=text-align: center\;></td>\n<td style=text-align: cente
 r\;></td>\n<td style=text-align: center\;></td>\n<td style=text-align:
  center\;></td></tr>\n<tr><td style=text-align: center\; height=20></t
 d>\n<td style=text-align: center\; width=184></td>\n<td style=text-ali
 gn: center\; width=166><strong>Gesamt:</strong></td>\n<td style=text-a
 lign: center\;><strong>60\,6</strong></td>\n<td style=text-align: cent
 er\;><strong> </strong></td>\n<td style=text-align: center\;></td>\n<t
 d style=text-align: center\;></td>\n<td style=text-align: center\;></t
 d></tr>\n</tbody>\n</table>\n<p>Die Strecken:</p>\n<p><span style=colo
 r: #000000\;>[wpfilebase tag=list id=211 tpl=data-table pagenav=1 /]</
 span><br>\n<br>\nAchtung: Änderungen sind jederzeit möglich. Aktuelle 
 Informationen nur auf der Seite des Veranstalters: <a href=http://www.
 landkreislauf.de/index.php target=_blank>Landkreislauf Nürnberger Land
 </a></p>\n
URL:https://www.runningsocks.de/wordpress/terminkalender/eventsinglepa
 ge/?event_id=243&lang=de
ATTACH:https://www.runningsocks.de/wordpress/terminkalender/eventsingl
 epage/?event_id=243&lang=de
LOCATION:Start 1. Etappe\, 15. Landkreislauf Nbg. Land\, Höhenstraße\,
  Wasserturm\, Tauchersreuth
END:VEVENT
END:VCALENDAR
