BEGIN:VCALENDAR
VERSION:2.0
METHOD:PUBLISH
PRODID:-//hacksw/handcal//NONSGML v1.0//EN
BEGIN:VEVENT
DTSTAMP:20260419T165528Z
DTSTART:20130818T070000Z
DTEND:20130818T110000Z
UID:20130818T070000Z-20130818T110000Z-244@www.runningsocks.de
SUMMARY:17. Finish Line Herbstlauf
DESCRIPTION:Strecken:\n\n10Km\, 21\,1Km\n\nStartgebühr:\n\n	10Km - 15 
 Euro\n	21\,1Km - 20 Euro\n	Nachmeldung\, ab 12.08.: 3 Euro\n\nAnmeldun
 gen:\n\nbis 11.08. - Online\n\n12.08. - 17.08. persönlich oder telefon
 isch bei Finish Line\, Wilhelm-Spaeth-Str. 15\, 90461 Nürnberg\n\nWeit
 ere Infos siehe Flyer sowie Homepage des Veranstalters  FINISH-LINE.de
 . Online Anmeldung bei SAS- Zeitmesssysteme.\n\nAusschreibung:\n\n[wpf
 ilebase tag=file path='lauf/finish-line-herbstlauf/20130818/20130818_H
 erbstlauf_Ausschreibung.pdf' /]
X-ALT-DESC;FMTTYPE=text/html:<p><strong>Strecken:</strong><br>\n<br>\n
 10Km\, 21\,1Km</p>\n<p><strong>Startgebühr:</strong></p>\n<ul>\n<li>10
 Km &#8211\; 15 Euro</li>\n<li>21\,1Km &#8211\; 20 Euro</li>\n<li>Nachm
 eldung\, ab 12.08.: 3 Euro</li>\n</ul>\n<p><strong>Anmeldungen:</stron
 g><br>\n<br>\nbis 11.08. &#8211\; Online</p>\n<p>12.08. &#8211\; 17.08
 . persönlich oder telefonisch bei Finish Line\, Wilhelm-Spaeth-Str. 15
 \, 90461 Nürnberg</p>\n<p>Weitere Infos siehe Flyer sowie Homepage des
  Veranstalters  <a href=http://www.finish-line.de/wettkaempfe-ausschre
 ibungen.htm target=_blank>FINISH-LINE.de</a>. Online Anmeldung bei <a 
 href=https://www.sas-online.net/sas_voranmeldungen/voranmeldungen.php?
 ID=142&amp\;start=1 target=_blank>SAS- Zeitmesssysteme.</a></p>\n<p>Au
 sschreibung:</p>\n<p>[wpfilebase tag=file path=&#8217\;lauf/finish-lin
 e-herbstlauf/20130818/20130818_Herbstlauf_Ausschreibung.pdf&#8216\; /]
 </p>\n
URL:https://www.runningsocks.de/wordpress/terminkalender/eventsinglepa
 ge/?event_id=244&lang=de
ATTACH:https://www.runningsocks.de/wordpress/terminkalender/eventsingl
 epage/?event_id=244&lang=de
LOCATION:Waldweg gegenüber Club Bad\, Valznerweiher Straße 200\, Nürnb
 erg
END:VEVENT
END:VCALENDAR
