BEGIN:VCALENDAR
VERSION:2.0
METHOD:PUBLISH
PRODID:-//hacksw/handcal//NONSGML v1.0//EN
BEGIN:VEVENT
DTSTAMP:20260419T165530Z
DTSTART:20131109T100000Z
DTEND:20131109T150000Z
UID:20131109T100000Z-20131109T150000Z-245@www.runningsocks.de
SUMMARY:10. Zeiler Waldmarathon
DESCRIPTION:Die Herausforderung im Naturpark Haßberge \n\nTermin: 9. N
 ovember 2013\n\n\nOrt: Zeil am Main\n\nStart und Ziel: Setzbachbrunnen
  im Laufpark Zeil\n\nStreckenbeschreibung: Anspruchsvoller Kurs durch 
 den Naturpark Haßberge im Laufpark Zeil auf fast durchgehend befestigt
 en Waldwegen. Über den Schlossberg und die Bischofsheimer Höhe führt d
 ie Strecke Richtung Jägerhäuschen zum Geisgrabenbrunnen. Nach dem Pass
 ieren der „Sieben Seen“ und des Bischofsheimer Sees verläuft die Strec
 ke über den Fitnesspfad zurück zum Ziel am Setzbachbrunnen. Es gibt zw
 ei Straßenüberquerungen auf der Halbmarathonstrecke. Es gilt die Straß
 enverkehrsordnung. Den Anweisungen der Streckenposten ist Folge zu lei
 sten.\n\nVerpflegungsstellen: Alle 5 km mit Mineralwasser\, Tee\, Isog
 etränk\, Göller-Max-Energydrink\, Cola\, Malzbier\, Bananen\, Müslirie
 geln\, Cräcker\, Kuchen.\n\nHöhenmeter (HM): FLESSABANK-Marathon 840 H
 M\, FRÄNKISCHE-Halbmarathon 420 HM\n\nStartgebühren: \n\nFLESSABANK-Ma
 rathon: 24 € \n\nHalbmarathon: 15 € \n\nWalking/Nordic Walking 21\,1 k
 m: 11 € \n\nWalking/Nordic Walking 7\,5 km: 9 € \n\nStartnummernausgab
 e: Rudolf-Winkler-Haus\, Freitag\, von 20.00 bis 22.00 Uhr und am Wett
 kampftag ab 7:30 Uhr bis ca. 1 Std. vor Start des jeweiligen Laufes. S
 icherheitsnadeln muss jeder bitte selbst mitbringen.\n\nMeldeschluss: 
 03.11.\, 24:00.\n\n\nStartzeiten:\n\n\n\n10:00\nFLESSABANK-Marathon\n4
 2\,195 km \n\n\n10:15\nWalking/Nordic Walking\n21\,1 km\n\n\n\n10:30\n
 Walking/Nordic Walking\n7\,5 km \n\n\n11:00\n\nFRÄNKISCHE-Halbmarathon
 \n21\,1 km\n\n\n\n \n\nPreise und Auszeichnungen:\n- FLESSABANK-Marath
 on:\nJeder Teilnehmer erhält im Ziel eine Medaille\, bei Abgabe der St
 artnummer im Rudolf-Winkler-Haus eine Flasche Marathonwein und hat fre
 ien Eintritt ins Zeiler Hallenbad. Die drei schnellsten Männer und Fra
 uen erhalten Sachpreise und Gutscheine\, ebenso alle Altersklassensieg
 er (5-Jahreswertung).\n\n-FRÄNKISCHE-Halbmarathon:\nJeder Teilnehmer e
 rhält im Ziel eine Medaille\, bei Abgabe der Startnummer im Rudolf-Win
 kler-Haus eine Flasche Marathonwein und hat freien Eintritt ins Zeiler
  Hallenbad. Die drei schnellsten Männer und Frauen erhalten Sachpreise
  und Gutscheine\, ebenso alle Altersklassensieger (5-Jahreswertung).\n
 \n- Walking/Nordic Walking:\nJeder Teilnehmer erhält im Ziel eine Meda
 ille\, bei Abgabe der Startnummer im Rudolf-Winkler-Haus eine Flasche 
 Marathonwein und hat freien Eintritt ins Zeiler Hallenbad.\n\nTeamwert
 ung FLESSABANK-Marathon und Halbmarathon: Die fünf teilnehmerstärksten
  Gruppen oder Vereine (Männer und Frauen)\, erhalten:\n1. 30 Liter Bie
 r und einen Schinken\n2. 25 Liter Bier und einen Schinken\n3. 20 Liter
  Bier und einen Schinken\n4. 15 Liter Bier und fränkische Hausmacherwu
 rst\n5. 10 Liter Bier und fränkische Hausmacherwurst\n\n\nWeitere Deta
 ils\, Info's und Online Anmeldung beim Veranstalter: Zeiler Waldmarath
 on\n\nObige Daten © TV 1884 Zeil\, Lauf- und Leichtathletikabteilung „
 Rote Teufel“
X-ALT-DESC;FMTTYPE=text/html:<p style=text-align: center\;><span style
 =font-size: large\;>Die Herausforderung im Naturpark Haßberge </span><
 /p>\n<p><span style=font-size: x-small\;><br>\n<span style=font-size: 
 small\;><strong>Termin:</strong> 9. November 2013<br>\n</span></span><
 /p>\n<p><span style=font-size: small\;><strong>Ort:</strong> Zeil am M
 ain</span></p>\n<p><span style=font-size: small\;><strong>Start und Zi
 el:</strong> Setzbachbrunnen im Laufpark Zeil</span></p>\n<p><span sty
 le=font-size: small\;><strong>Streckenbeschreibung:</strong> Anspruchs
 voller Kurs durch den Naturpark Haßberge im Laufpark Zeil auf fast dur
 chgehend befestigten Waldwegen. Über den Schlossberg und die Bischofsh
 eimer Höhe führt die Strecke Richtung Jägerhäuschen zum Geisgrabenbrun
 nen. Nach dem Passieren der „Sieben Seen“ und des Bischofsheimer Sees 
 verläuft die Strecke über den Fitnesspfad zurück zum Ziel am Setzbachb
 runnen. Es gibt zwei Straßenüberquerungen auf der Halbmarathonstrecke.
  Es gilt die Straßenverkehrsordnung. Den Anweisungen der Streckenposte
 n ist Folge zu leisten.</span></p>\n<p><span style=font-size: small\;>
 <strong>Verpflegungsstellen:</strong> Alle 5 km mit Mineralwasser\, Te
 e\, Isogetränk\, Göller-Max-Energydrink\, Cola\, Malzbier\, Bananen\, 
 Müsliriegeln\, Cräcker\, Kuchen.</span></p>\n<p><span style=font-size:
  small\;><strong>Höhenmeter (HM):</strong> FLESSABANK-Marathon 840 HM\
 , FRÄNKISCHE-Halbmarathon 420 HM</span></p>\n<p><span style=font-size:
  small\;><strong>Startgebühren:</strong> </span></p>\n<p><span style=f
 ont-size: small\;>FLESSABANK-Marathon: <strong>24 €</strong> </span></
 p>\n<p><span style=font-size: small\;>Halbmarathon: <strong>15 €</stro
 ng> </span></p>\n<p><span style=font-size: small\;>Walking/Nordic Walk
 ing 21\,1 km: <strong>11 € </strong></span></p>\n<p><span style=font-s
 ize: small\;>Walking/Nordic Walking 7\,5 km: <strong>9 € </strong></sp
 an></p>\n<p><span style=font-size: small\;><strong>Startnummernausgabe
 :</strong> Rudolf-Winkler-Haus\, Freitag\, von 20.00 bis 22.00 Uhr und
  am Wettkampftag ab 7:30 Uhr bis ca. 1 Std. vor Start des jeweiligen L
 aufes. Sicherheitsnadeln muss jeder bitte selbst mitbringen.</span></p
 >\n<p><strong>Meldeschluss:</strong> 03.11.\, 24:00.<span style=font-f
 amily: Verdana\,Arial\,Helvetica\,sans-serif\;><span style=font-size: 
 x-small\;><br>\n</span></span></p>\n<p><span style=font-size: small\;>
 <strong>Startzeiten:</strong></span></p>\n<table style=width: 404px\; 
 height: 108px\; border=0>\n<tbody>\n<tr><td width=21%><span style=font
 -size: small\;>10:00</span></td>\n<td width=49%><span style=font-size:
  small\;>FLESSABANK-Marathon</span></td>\n<td width=30%><span style=fo
 nt-size: small\;>42\,195 km </span></td></tr>\n<tr><td><span style=fon
 t-size: small\;>10:15</span></td>\n<td><span style=font-size: small\;>
 Walking/Nordic Walking</span></td>\n<td><span style=font-size: small\;
 >21\,1 km<br>\n</span></td></tr>\n<tr><td><span style=font-size: small
 \;>10:30</span></td>\n<td><span style=font-size: small\;>Walking/Nordi
 c Walking</span></td>\n<td><span style=font-size: small\;>7\,5 km </sp
 an></td></tr>\n<tr><td><span style=font-size: small\;>11:00<br>\n</spa
 n></td>\n<td><span style=font-size: small\;>FRÄNKISCHE-Halbmarathon</s
 pan></td>\n<td><span style=font-size: small\;>21\,1 km</span></td></tr
 >\n</tbody>\n</table>\n<p>&nbsp\;</p>\n<p><span style=font-size: small
 \;><strong>Preise und Auszeichnungen:<br>\n</strong>&#8211\; FLESSABAN
 K-Marathon:<br>\nJeder Teilnehmer erhält im Ziel eine Medaille\, bei A
 bgabe der Startnummer im Rudolf-Winkler-Haus eine Flasche Marathonwein
  und hat freien Eintritt ins Zeiler Hallenbad. Die drei schnellsten Mä
 nner und Frauen erhalten Sachpreise und Gutscheine\, ebenso alle Alter
 sklassensieger (5-Jahreswertung).</span></p>\n<p><span style=font-size
 : small\;>-FRÄNKISCHE-Halbmarathon:<br>\nJeder Teilnehmer erhält im Zi
 el eine Medaille\, bei Abgabe der Startnummer im Rudolf-Winkler-Haus e
 ine Flasche Marathonwein und hat freien Eintritt ins Zeiler Hallenbad.
  Die drei schnellsten Männer und Frauen erhalten Sachpreise und Gutsch
 eine\, ebenso alle Altersklassensieger (5-Jahreswertung).</span></p>\n
 <p><span style=font-size: small\;>&#8211\; Walking/Nordic Walking:<br>
 \nJeder Teilnehmer erhält im Ziel eine Medaille\, bei Abgabe der Start
 nummer im Rudolf-Winkler-Haus eine Flasche Marathonwein und hat freien
  Eintritt ins Zeiler Hallenbad.</span></p>\n<p><span style=font-size: 
 small\;><strong>Teamwertung </strong><strong>FLESSABANK-</strong><stro
 ng>Marathon und Halbmarathon: </strong>Die fünf teilnehmerstärksten Gr
 uppen oder Vereine (Männer und Frauen)\, erhalten:<br>\n1. 30 Liter Bi
 er und einen Schinken<br>\n2. 25 Liter Bier und einen Schinken<br>\n3.
  20 Liter Bier und einen Schinken<br>\n4. 15 Liter Bier und fränkische
  Hausmacherwurst<br>\n5. 10 Liter Bier und fränkische Hausmacherwurst<
 br>\n</span></p>\n<p><span style=font-size: small\;>Weitere Details\, 
 Info&#8217\;s und Online Anmeldung beim Veranstalter: <a href=http://w
 ww.zeiler-waldmarathon.de/ target=_blank>Zeiler Waldmarathon</a></span
 ></p>\n<p><span style=font-size: small\;>Obige Daten © TV 1884 Zeil\, 
 Lauf- und Leichtathletikabteilung „Rote Teufel“<br>\n</span></p>\n
URL:https://www.runningsocks.de/wordpress/terminkalender/eventsinglepa
 ge/?event_id=245&lang=de
ATTACH:https://www.runningsocks.de/wordpress/terminkalender/eventsingl
 epage/?event_id=245&lang=de
LOCATION:Setzbachbrunnen im Laufpark Zeil\, Setzbachstraße\, Zeil am M
 ain
END:VEVENT
END:VCALENDAR
