BEGIN:VCALENDAR
VERSION:2.0
METHOD:PUBLISH
PRODID:-//hacksw/handcal//NONSGML v1.0//EN
BEGIN:VEVENT
DTSTAMP:20260419T165412Z
DTSTART:20130915T080000Z
DTEND:20130915T110000Z
UID:20130915T080000Z-20130915T110000Z-246@www.runningsocks.de
SUMMARY:14. Neumarkter Stadtlauf
DESCRIPTION:(Quelle: Neumarkter Stadtlauf / Flyer 2013)\n\nEs ist scho
 n Tradition: Immer eine Wochenende nach dem die Ferien zu Ende sind st
 artet der Neumarkter Stadtlauf.\n\nGelaufen wird nicht nur für die eig
 enen Gesundheit\, sondern auch für einen guten Zweck. Seit dem 1. Neum
 arkter Stadtlauf unterstützt der Neumarkter Stadtlauf die DKMS. Seit d
 em Jahre 2000 wurden insgesamt 150.000\,- € an Spendengeldern an die D
 KMS übergeben. Mit dieser Summe konnten weitere 2.200 potenzielle Spen
 der in die Datei aufgenommen werden.\n\nWeitere Informationen findet i
 hr auch unter www.dkms.de.\nZudem unterstützt der Lauf  soziale Projek
 te in Stadt und Landkreis Neumarkt.\nDabei konnten zur oben genannten 
 Spendensumme weitere 35.000\,- € erlaufen werden.\n\nStart / Ziel:\n\n
 5\,5Km Schnupperlauf:\nStart:\n15. September\, 9:50 Uhr\, Rathaus\, In
 nenstadt\, Zielschluss 12 Uhr\nStartgeld:\nBis zum 14.07.2013  15\,50 
 Euro\nvom 15.07. bis 03.09.13  18\,50 Euro\nNachmeldung 04.09. bis 14.
 09.13  23\,50 Euro\n10\,5Km Lauf:\nStart:\n15. September\, 10 Uhr\, Ra
 thaus\, Innenstadt\, Zielschluss 12 Uhr\nStartgeld:\nBis zum 14.07.201
 3  19\,50 Euro\nvom 15.07. bis 03.09.13  22\,50 Euro\nNachmeldung 04.0
 9. bis 14.09.13  27\,50 Euro\nHalbmarathon:\nStart:\n15.09.2013\, 10 U
 hr\, Rathaus\, Innenstadt\, Zielschluss 12.40 Uhr\nStartgeld:\nBis zum
  14.07.2013  25\,50 Euro\nvom 15.07. bis 03.09.13  27\,50 Euro\nNachme
 ldung 04.09. bis 14.09.13  32\,50 Euro\nWeitere Läufe sh. Flyer oder W
 ebseite des Veranstalters!\nLeistungen:\nWas man alles für sein Startg
 eld bekommt:\n\n	Funktions T-Shirt als Finishergeschenk\n	Finishermeda
 ille\n	Startnummer mit persönlichen Vornamen\n	Informationszeitschrift
  mit allen Startern\n	Gutschein für die Kloß mit Soß Party am Samstag\
 n	Gutschein für einen freien Eintritt im Freibad\n	Nettozeitmessung mi
 ttels Chips mit Einzelwertung\, Klassenwertung und Teamwertung\n	Abges
 perrte Strecke mit großen Kilometertafeln\n	Musik an vielen Stellen\n	
 Kostenlose Teilnahme am Samstagprogramm mit Livemusik\n	Ärztliche Vers
 orgung mit drei Notärzten und vielen Sanitätern auf der Strecke und im
  Zielbereich\n	Verpflegung auf der Strecke mit Wasser und ISO\n	\nVerp
 flegung im Zielbereich mit Wasser\, ISO\; Cola und Früchten\n	Dusch- u
 nd Massagemöglichkeit nach dem Lauf\n	Rahmenprogramm für Groß und Klei
 n\n	Urkunde\, Ergebnisheft im Internet zum runterladen\n	Und natürlich
  einen perfekt organisierten Ablauf\n\nWertungen:\nEinzelwertung\, Sta
 dtmeister/Stadtmeisterin\, Mannschaftswertung (5 Läufer bilden eine Ma
 nnschaft\, bitte auf identische Mannschaftsnamen im Meldeformular acht
 en).\n\nFlyer zum 14. Neumarkter Stadtlauf:\n\n[wpfilebase tag=file pa
 th='lauf/neumarkter-stadtlauf/20130915/20130925_NeumarkterStadtlauf_Fl
 yer.pdf' /]\n\nWeitere Info's und Onlineanmeldung beim Veranstalter: S
 tadtlauf Neumarkt e.V.
X-ALT-DESC;FMTTYPE=text/html:<p>(Quelle: <a href=http://stadtlauf-neum
 arkt.de target=_blank>Neumarkter Stadtlauf</a> / Flyer 2013)</p>\n<p>E
 s ist schon Tradition: Immer eine Wochenende nach dem die Ferien zu En
 de sind startet der Neumarkter Stadtlauf.</p>\n<p>Gelaufen wird nicht 
 nur für die eigenen Gesundheit\, sondern auch für einen guten Zweck. S
 eit dem 1. Neumarkter Stadtlauf unterstützt der Neumarkter Stadtlauf d
 ie DKMS. Seit dem Jahre 2000 wurden insgesamt 150.000\,- € an Spendeng
 eldern an die DKMS übergeben. Mit dieser Summe konnten weitere 2.200 p
 otenzielle Spender in die Datei aufgenommen werden.</p>\n<p>Weitere In
 formationen findet ihr auch unter <a href=www.dkms.de target=_blank>ww
 w.dkms.de</a>.<br>\nZudem unterstützt der Lauf  soziale Projekte in St
 adt und Landkreis Neumarkt.<br>\nDabei konnten zur oben genannten Spen
 densumme weitere 35.000\,- € erlaufen werden.</p>\n<p><strong>Start / 
 Ziel:</strong></p>\n<p><strong>5\,5Km Schnupperlauf:</strong></p>\n<p 
 style=padding-left: 30px\;><span style=text-decoration: underline\;>St
 art:</span></p>\n<p style=padding-left: 30px\;>15. September\, 9:50 Uh
 r\, Rathaus\, Innenstadt\, Zielschluss 12 Uhr</p>\n<p style=padding-le
 ft: 30px\;><span style=text-decoration: underline\;>Startgeld:</span><
 /p>\n<p style=padding-left: 30px\;>Bis zum 14.07.2013  15\,50 Euro<br>
 \nvom 15.07. bis 03.09.13  18\,50 Euro<br>\nNachmeldung 04.09. bis 14.
 09.13  23\,50 Euro</p>\n<p><strong>10\,5Km Lauf:</strong></p>\n<p styl
 e=padding-left: 30px\;><span style=text-decoration: underline\;>Start:
 </span></p>\n<p style=padding-left: 30px\;>15. September\, 10 Uhr\, Ra
 thaus\, Innenstadt\, Zielschluss 12 Uhr</p>\n<p style=padding-left: 30
 px\;><span style=text-decoration: underline\;>Startgeld:</span></p>\n<
 p style=padding-left: 30px\;>Bis zum 14.07.2013  19\,50 Euro<br>\nvom 
 15.07. bis 03.09.13  22\,50 Euro<br>\nNachmeldung 04.09. bis 14.09.13 
  27\,50 Euro</p>\n<p><strong>Halbmarathon:</strong></p>\n<p style=padd
 ing-left: 30px\;><span style=text-decoration: underline\;>Start:</span
 ></p>\n<p style=padding-left: 30px\;>15.09.2013\, 10 Uhr\, Rathaus\, I
 nnenstadt\, Zielschluss 12.40 Uhr</p>\n<p style=padding-left: 30px\;><
 span style=text-decoration: underline\;>Startgeld:</span></p>\n<p styl
 e=padding-left: 30px\;>Bis zum 14.07.2013  25\,50 Euro<br>\nvom 15.07.
  bis 03.09.13  27\,50 Euro<br>\nNachmeldung 04.09. bis 14.09.13  32\,5
 0 Euro</p>\n<p><strong>Weitere Läufe sh. Flyer oder Webseite des Veran
 stalters<strong>!</strong></strong></p>\n<h3>Leistungen:</h3>\n<p>Was 
 man alles für sein Startgeld bekommt:</p>\n<ul>\n<li>Funktions T-Shirt
  als Finishergeschenk</li>\n<li>Finishermedaille</li>\n<li>Startnummer
  mit persönlichen Vornamen</li>\n<li>Informationszeitschrift mit allen
  Startern</li>\n<li>Gutschein für die &#8222\;Kloß mit Soß Party&#8220
 \; am Samstag</li>\n<li>Gutschein für einen freien Eintritt im Freibad
 </li>\n<li>Nettozeitmessung mittels Chips mit Einzelwertung\, Klassenw
 ertung und Teamwertung</li>\n<li>Abgesperrte Strecke mit großen Kilome
 tertafeln</li>\n<li>Musik an vielen Stellen</li>\n<li>Kostenlose Teiln
 ahme am Samstagprogramm mit Livemusik</li>\n<li>Ärztliche Versorgung m
 it drei Notärzten und vielen Sanitätern auf der Strecke und im Zielber
 eich</li>\n<li>Verpflegung auf der Strecke mit Wasser und ISO</li>\n<l
 i>\n<div>Verpflegung im Zielbereich mit Wasser\, ISO\; Cola und Frücht
 en</div>\n</li>\n<li>Dusch- und Massagemöglichkeit nach dem Lauf</li>\
 n<li>Rahmenprogramm für Groß und Klein</li>\n<li>Urkunde\, Ergebnishef
 t im Internet zum runterladen</li>\n<li>Und natürlich einen perfekt or
 ganisierten Ablauf</li>\n</ul>\n<h3><strong>Wertungen:</strong></h3>\n
 <p>Einzelwertung\, Stadtmeister/Stadtmeisterin\, Mannschaftswertung (5
  Läufer bilden eine Mannschaft\, bitte auf identische Mannschaftsnamen
  im Meldeformular achten).</p>\n<p>Flyer zum 14. Neumarkter Stadtlauf:
 </p>\n<p>[wpfilebase tag=file path=&#8217\;lauf/neumarkter-stadtlauf/2
 0130915/20130925_NeumarkterStadtlauf_Flyer.pdf&#8216\; /]</p>\n<p>Weit
 ere Info&#8217\;s und Onlineanmeldung beim Veranstalter: <a href=http:
 //www.stadtlauf-neumarkt.de target=_blank>Stadtlauf Neumarkt e.V.</a><
 /p>\n
URL:https://www.runningsocks.de/wordpress/terminkalender/eventsinglepa
 ge/?event_id=246&lang=de
ATTACH:https://www.runningsocks.de/wordpress/terminkalender/eventsingl
 epage/?event_id=246&lang=de
LOCATION:Rathaus Neumarkt\, Rathaus\, Neumarkt
END:VEVENT
END:VCALENDAR
