BEGIN:VCALENDAR
VERSION:2.0
METHOD:PUBLISH
PRODID:-//hacksw/handcal//NONSGML v1.0//EN
BEGIN:VEVENT
DTSTAMP:20260419T165529Z
DTSTART:20150503T100000Z
DTEND:20150503T170000Z
UID:20150503T100000Z-20150503T170000Z-248@www.runningsocks.de
SUMMARY:7. Weltkulturerbe Lauf Bamberg
DESCRIPTION:Nun steht es fest !! Der 7. Welkulturerbelauf findet am 03
 .05.2015 statt\, also Termin vormerken !!\nDie Spannung steigt\, der R
 uhepuls auch\, freudige Erwartung macht sich breit. Lange\, bevor die 
 Teilnehmerinnen und Teilnehmer des Weltkulturerbelaufs 2015 an den Sta
 rt gehen\, breitet sich in Bamberg wieder das Lauffieber aus. Wer sich
  von diesem sympathischen und gesundheitlich unbedenklichen Zustand an
 stecken lassen möchte\, sollte sich den 3. Mai 2015 dick im Kalender a
 nstreichen. Zum 7. Mal veranstaltet der gemeinnützige Weltkulturerbela
 uf Bamberg e.V. mit Unterstützung von rund 1300 Helfern dieses sportli
 che und gesellschaftliche Großereignis.\n\n \n\nAlle weiteren\, folgen
 den Daten sind unbestätigt !! Aktualisierung erfolgt Ende 2014 !!\nWet
 tbewerbe\n\n\n\nBöhnlein-Bambinilauf  Kindergartenkinder zwischen vier
  und sechs Jahren)\n800 m\n\n\n\nFuchs-Schülerlauf Grundschüler der 1.
  und 2. Klasse\n1\,6 km\n\n\n\nFuchs-Schülerlauf Grundschüler der 3. u
 nd 4. Klasse\n1\,6 km\n\n\n\nBambados-LaufSchüler der 5. mit 13. Klass
 e\n4\,1 km\n\n\n\nwieland-Lauf2004 und älter\n4\,4 km\n\n\n\nBrose-Lau
 f1997 und älter\n10\,9 km\n\n\n\nSparkassen-Lauf1995 und älter\n21\,1 
 km\n\n\n\nStreckenbeschaffenheit\nDie Laufstrecken führen teilweise üb
 er Asphalt-\, Pflaster-\, Schotter-\, Sand- und Waldwege. Bedingt durc
 h die engen Gassen der Altstadt müssen einige rechtwinklige Abbiegunge
 n gelaufen werden. Besonders beim Sparkassen-Lauf sind anspruchsvolle 
 Steigungen und Gefälle zu bewältigen.\nHöhenmeter\n\n\n\nBöhnlein-Bamb
 inilauf\nflach\n\n\nFuchs-Schülerläufe\nflach\n\n\nBambados-Lauf \nca.
  30 Höhenmeter\n\n\nwieland-Lauf \nca. 35 Höhenmeter\n\n\nBrose-Lauf \
 nca. 75 Höhenmeter\n\n\nSparkassen-Lauf \nca. 280 Höhenmeter\n\n\n\nSt
 art/Ziel\nDer Start erfolgt am Markusplatz\, Ziel ist der Maximiliansp
 latz\n\nAusnahme: Böhnlein-Bambinilauf. Hier ist der Start an der Ecke
  Franz-Ludwig-Straße/Grüner Markt\, das Ziel ist der Maximiliansplatz.
 \nStartzeiten 5. Mai 2013\n\n\n\nBöhnlein-Bambinilauf \n11:30 Uhr\n\n\
 nFuchs-Schülerlauf (1. und 2. Klasse) \n12:00 Uhr\n\n\nFuchs-Schülerla
 uf (3. und 4. Klasse) \n12:30 Uhr\n\n\nBambados-Lauf \n13:00 Uhr\n\n\n
 wieland-Lauf \n14:00 Uhr\n\n\nBrose-Lauf \n14:30 Uhr\n\n\nSparkassen-L
 auf \n15:30 Uhr\n\n\n\nStartgeld und Anmeldefristen\n\n\n\nBöhnlein-Ba
 mbinilauf\nAnmeldung zwischen 04.02.2013 - 24.03.2013 über den Kinderg
 arten\n5\,- €\n\n\nFuchs-Schülerlauf:  1. und 2. KlassenFuchs-Schülerl
 auf:  3. und 4. KlassenBambados-Lauf:      5. Klassen und höher\nAnmel
 dung zwischen 01.10.2012 - 08.03.2013 über die Schulen\n8\,- €\n\n\nwi
 eland-Lauf \nAnmeldung bis 31.12.2012\n15\,- €\n\n\n\nAnmeldung bis 22
 .03.2013\n25\,- €\n\n\nBrose-Lauf \nAnmeldung bis 31.12.2012\n23\,- €\
 n\n\n\nAnmeldung bis 22.03.2013\n33\,- €\n\n\nSparkassen-Lauf\nAnmeldu
 ng bis 31.12.2012\n33\,- €\n\n\n\nAnmeldung bis 22.03.2013\n43\,- €\n\
 n\n\nWeitere Info's und Onlineanmeldung auf der Seite des Veranstalter
 s: Bamberger Weltkulturerbe Lauf
X-ALT-DESC;FMTTYPE=text/html:<p style=text-align: center\;><span style
 =font-size: 14px\;>Nun steht es fest !! Der 7. Welkulturerbelauf finde
 t am 03.05.2015 statt\, also Termin vormerken !!</span></p>\n<p>Die Sp
 annung steigt\, der Ruhepuls auch\, freudige Erwartung macht sich brei
 t. Lange\, bevor die Teilnehmerinnen und Teilnehmer des Weltkulturerbe
 laufs 2015 an den Start gehen\, breitet sich in Bamberg wieder das Lau
 ffieber aus. Wer sich von diesem sympathischen und gesundheitlich unbe
 denklichen Zustand anstecken lassen möchte\, sollte sich den 3. Mai 20
 15 dick im Kalender anstreichen. Zum 7. Mal veranstaltet der gemeinnüt
 zige &#8222\;Weltkulturerbelauf Bamberg e.V.&#8220\; mit Unterstützung
  von rund 1300 Helfern dieses sportliche und gesellschaftliche Großere
 ignis.</p>\n<p>&nbsp\;</p>\n<p><span style=text-decoration: underline\
 ;><span style=font-size: 16px\;><strong><span style=color: #ff0000\; t
 ext-decoration: underline\;>Alle weiteren\, folgenden Daten sind unbes
 tätigt !! Aktualisierung erfolgt Ende 2014 !!</span></strong></span></
 span></p>\n<h3><strong>Wettbewerbe</strong></h3>\n<table style=width: 
 679px\; border=0 cellspacing=1 cellpadding=1>\n<tbody>\n<tr><td><stron
 g><a href=http://www.weltkulturerbelauf.de/article.php?id=132>Böhnlein
 -Bambinilauf</a> </strong><strong> </strong>Kindergartenkinder zwische
 n vier und sechs Jahren)</td>\n<td>800 m</td>\n<td></td></tr>\n<tr><td
 ><strong><a href=http://www.weltkulturerbelauf.de/article.php?id=203>F
 uchs-Schülerlauf </a></strong>Grundschüler der 1. und 2. Klasse</td>\n
 <td>1\,6 km</td>\n<td></td></tr>\n<tr><td><strong><a href=http://www.w
 eltkulturerbelauf.de/article.php?id=195>Fuchs-Schülerlauf </a></strong
 >Grundschüler der 3. und 4. Klasse</td>\n<td>1\,6 km</td>\n<td></td></
 tr>\n<tr><td><strong><a href=http://www.weltkulturerbelauf.de/article.
 php?id=192>Bambados-Lauf</a></strong>Schüler der 5. mit 13. Klasse</td
 >\n<td>4\,1 km</td>\n<td></td></tr>\n<tr><td><strong><a href=http://ww
 w.weltkulturerbelauf.de/article.php?id=190>wieland-Lauf</a></strong>20
 04 und älter</td>\n<td>4\,4 km</td>\n<td></td></tr>\n<tr><td><strong><
 a href=http://www.weltkulturerbelauf.de/article.php?id=175>Brose-Lauf<
 /a></strong>1997 und älter</td>\n<td>10\,9 km</td>\n<td></td></tr>\n<t
 r><td><strong><a href=http://www.weltkulturerbelauf.de/article.php?id=
 181>Sparkassen-Lauf</a></strong>1995 und älter</td>\n<td>21\,1 km</td>
 </tr>\n</tbody>\n</table>\n<h3>Streckenbeschaffenheit</h3>\n<p>Die Lau
 fstrecken führen teilweise über Asphalt-\, Pflaster-\, Schotter-\, San
 d- und Waldwege. Bedingt durch die engen Gassen der Altstadt müssen ei
 nige rechtwinklige Abbiegungen gelaufen werden. Besonders beim <a href
 =http://www.weltkulturerbelauf.de/article.php?id=181>Sparkassen-Lauf <
 /a>sind anspruchsvolle Steigungen und Gefälle zu bewältigen.</p>\n<h3>
 Höhenmeter</h3>\n<table style=width: 100%\; border=0 cellspacing=1 cel
 lpadding=1>\n<tbody>\n<tr><td><a href=http://www.weltkulturerbelauf.de
 /article.php?id=132>Böhnlein-Bambinilauf</a></td>\n<td>flach</td></tr>
 \n<tr><td><a href=http://www.weltkulturerbelauf.de/article.php?id=195>
 Fuchs-Schülerläufe</a></td>\n<td>flach</td></tr>\n<tr><td><a href=http
 ://www.weltkulturerbelauf.de/article.php?id=192>Bambados-Lauf </a></td
 >\n<td>ca. 30 Höhenmeter</td></tr>\n<tr><td><a href=http://www.weltkul
 turerbelauf.de/article.php?id=190>wieland-Lauf </a></td>\n<td>ca. 35 H
 öhenmeter</td></tr>\n<tr><td><a href=http://www.weltkulturerbelauf.de/
 article.php?id=175>Brose-Lauf </a></td>\n<td>ca. 75 Höhenmeter</td></t
 r>\n<tr><td><a href=http://www.weltkulturerbelauf.de/article.php?id=18
 1>Sparkassen-Lauf </a></td>\n<td>ca. 280 Höhenmeter</td></tr>\n</tbody
 >\n</table>\n<h3>Start/Ziel</h3>\n<p>Der Start erfolgt am Markusplatz\
 , Ziel ist der Maximiliansplatz</p>\n<p>Ausnahme: <a href=http://www.w
 eltkulturerbelauf.de/article.php?id=132>Böhnlein-Bambinilauf</a>. Hier
  ist der Start an der Ecke Franz-Ludwig-Straße/Grüner Markt\, das Ziel
  ist der Maximiliansplatz.</p>\n<h3>Startzeiten 5. Mai 2013</h3>\n<tab
 le border=0 cellspacing=1 cellpadding=1>\n<tbody>\n<tr><td><a href=htt
 p://www.weltkulturerbelauf.de/article.php?id=132>Böhnlein-Bambinilauf 
 </a></td>\n<td>11:30 Uhr</td></tr>\n<tr><td><a href=http://www.weltkul
 turerbelauf.de/article.php?id=203>Fuchs-Schülerlauf (1. und 2. Klasse)
  </a></td>\n<td>12:00 Uhr</td></tr>\n<tr><td><a href=http://www.weltku
 lturerbelauf.de/article.php?id=195>Fuchs-Schülerlauf (3. und 4. Klasse
 ) </a></td>\n<td>12:30 Uhr</td></tr>\n<tr><td><a href=http://www.weltk
 ulturerbelauf.de/article.php?id=192>Bambados-Lauf </a></td>\n<td>13:00
  Uhr</td></tr>\n<tr><td><a href=http://www.weltkulturerbelauf.de/artic
 le.php?id=190>wieland-Lauf </a></td>\n<td>14:00 Uhr</td></tr>\n<tr><td
 ><a href=http://www.weltkulturerbelauf.de/article.php?id=175>Brose-Lau
 f </a></td>\n<td>14:30 Uhr</td></tr>\n<tr><td><a href=http://www.weltk
 ulturerbelauf.de/article.php?id=181>Sparkassen-Lauf </a></td>\n<td>15:
 30 Uhr</td></tr>\n</tbody>\n</table>\n<h3>Startgeld und Anmeldefristen
 </h3>\n<table style=width: 679px\; border=0 cellspacing=1 cellpadding=
 1>\n<tbody>\n<tr><td><a href=http://www.weltkulturerbelauf.de/article.
 php?id=132>Böhnlein-Bambinilauf</a></td>\n<td>Anmeldung zwischen 04.02
 .2013 &#8211\; 24.03.2013 über den Kindergarten</td>\n<td>5\,- €</td><
 /tr>\n<tr><td><a href=http://www.weltkulturerbelauf.de/article.php?id=
 203>Fuchs-Schülerlauf:  1. und 2. Klassen</a><a href=http://www.weltku
 lturerbelauf.de/article.php?id=195>Fuchs-Schülerlauf:  3. und 4. Klass
 en</a><a href=http://www.weltkulturerbelauf.de/article.php?id=192>Bamb
 ados-Lauf:      5. Klassen und höher</a></td>\n<td>Anmeldung zwischen 
 01.10.2012 &#8211\; 08.03.2013 über die Schulen</td>\n<td>8\,- €</td><
 /tr>\n<tr><td><a href=http://www.weltkulturerbelauf.de/article.php?id=
 190>wieland-Lauf </a></td>\n<td>Anmeldung bis 31.12.2012</td>\n<td>15\
 ,- €</td></tr>\n<tr><td></td>\n<td>Anmeldung bis 22.03.2013</td>\n<td>
 25\,- €</td></tr>\n<tr><td><a href=http://www.weltkulturerbelauf.de/ar
 ticle.php?id=175>Brose-Lauf </a></td>\n<td>Anmeldung bis 31.12.2012</t
 d>\n<td>23\,- €</td></tr>\n<tr><td></td>\n<td>Anmeldung bis 22.03.2013
 </td>\n<td>33\,- €</td></tr>\n<tr><td><a href=http://www.weltkulturerb
 elauf.de/article.php?id=181>Sparkassen-Lauf</a></td>\n<td>Anmeldung bi
 s 31.12.2012</td>\n<td>33\,- €</td></tr>\n<tr><td></td>\n<td>Anmeldung
  bis 22.03.2013</td>\n<td>43\,- €</td></tr>\n</tbody>\n</table>\n<p>We
 itere Info&#8217\;s und Onlineanmeldung auf der Seite des Veranstalter
 s: <a href=http://www.weltkulturerbelauf.de/ target=_blank>Bamberger W
 eltkulturerbe Lauf</a></p>\n
URL:https://www.runningsocks.de/wordpress/terminkalender/eventsinglepa
 ge/?event_id=248&lang=de
ATTACH:https://www.runningsocks.de/wordpress/terminkalender/eventsingl
 epage/?event_id=248&lang=de
LOCATION:Bamberg\, Markusplatz\, Markusplatz\, Bamberg
END:VEVENT
END:VCALENDAR
