BEGIN:VCALENDAR
VERSION:2.0
METHOD:PUBLISH
PRODID:-//hacksw/handcal//NONSGML v1.0//EN
BEGIN:VEVENT
DTSTAMP:20260419T165350Z
DTSTART:20100516T080000Z
DTEND:20100516T150000Z
UID:20100516T080000Z-20100516T150000Z-25@www.runningsocks.de
SUMMARY:6. Fränkische-Schweiz-Mountainbike-Marathon
DESCRIPTION:Willkommen beim Fränkische Schweiz Mountainbike Marathon d
 er dieses Jahr schon zum 6. mal stattfinden wird.\n\nWieder wird die G
 emeinde Litzdendorf der Startort sein!\n\nEin tolles Bikevergnügen mit
  ca. 1.000 Teilnehmern wartet am Sonntag\, 16. Mai auf Euch!\nWir habe
 n uns wieder eine neue\, schöne Streckenführung ausgedacht\, damit jed
 er auf seine Kosten kommt.\nDie Biker\, die sich auch auf dem Rennrad 
 wohlfühlen können am Vortag\, 15. Mai\, den\n3. Fränkische Schweiz Rad
  Marathon (FSRM) in Angriff nehmen !\n\nHier kann man noch weitere sch
 öne Eindrücke von der wunderschönen Landschaft bekommen.\nMit kleinen 
 Gängen auf der kurzen Familienrunde ist dies am Vortag zum Einrollen p
 erfekt geeignet!\n\nDie Harten fahren beide Marathons in voller Länge.
 \nEs lohnt sich also doppelt ein Wochenende in der Region zu verbringe
 n!\nBis dahin wünschen wir viel Spass beim radeln!\nWeitere Info's un 
 Anmeldung beim Veranstalter: Felice Events\nStreckenverlauf:\nFränkisc
 he Schweiz Marathon 2009 auf einer größeren Karte anzeigen
X-ALT-DESC;FMTTYPE=text/html:<p>Willkommen beim Fränkische Schweiz Mou
 ntainbike Marathon der dieses Jahr schon zum 6. mal stattfinden wird.<
 /p>\n<p>Wieder wird die Gemeinde Litzdendorf der Startort sein!</p>\n<
 p>Ein tolles Bikevergnügen mit ca. 1.000 Teilnehmern wartet am Sonntag
 \, 16. Mai auf Euch!<br>\nWir haben uns wieder eine neue\, schöne Stre
 ckenführung ausgedacht\, damit jeder auf seine Kosten kommt.<br>\nDie 
 Biker\, die sich auch auf dem Rennrad wohlfühlen können am Vortag\, 15
 . Mai\, den<br>\n3. Fränkische Schweiz Rad Marathon (FSRM) in Angriff 
 nehmen !</p>\n<p>Hier kann man noch weitere schöne Eindrücke von der w
 underschönen Landschaft bekommen.<br>\nMit kleinen Gängen auf der kurz
 en Familienrunde ist dies am Vortag zum Einrollen perfekt geeignet!</p
 >\n<p>Die Harten fahren beide Marathons in voller Länge.<br>\nEs lohnt
  sich also doppelt ein Wochenende in der Region zu verbringen!<br>\nBi
 s dahin wünschen wir viel Spass beim radeln!</p>\n<p style=text-align:
  justify\;>Weitere Info&#8217\;s un Anmeldung beim Veranstalter: <a hr
 ef=http://www.bikemarathon.net/index.php target=_blank>Felice Events</
 a></p>\n<p style=text-align: justify\;>Streckenverlauf:<br>\n<small><a
  style=color: #0000ff\; text-align: left\; href=http://maps.google.de/
 maps/ms?f=q&amp\;source=embed&amp\;hl=de&amp\;geocode=&amp\;q=Litzendo
 rf\,+Bamberg+LK&amp\;g=Happurger+See\,+Happurg&amp\;ie=UTF8&amp\;oe=UT
 F8&amp\;msa=0&amp\;msid=104782553544050402223.00046aa3d4ae7659d7865&am
 p\;sll=49.912679\,11.009246&amp\;sspn=0.057499\,0.128059&amp\;ll=49.89
 4192\,11.060486&amp\;spn=0.031769\,0.155977>Fränkische Schweiz Maratho
 n 2009</a> auf einer größeren Karte anzeigen</small></p>\n
URL:https://www.runningsocks.de/wordpress/terminkalender/eventsinglepa
 ge/?event_id=25&lang=de
ATTACH:https://www.runningsocks.de/wordpress/terminkalender/eventsingl
 epage/?event_id=25&lang=de
LOCATION:Tanzwiesen\, Tanzwiesen\, Litzendorf
END:VEVENT
END:VCALENDAR
