BEGIN:VCALENDAR
VERSION:2.0
METHOD:PUBLISH
PRODID:-//hacksw/handcal//NONSGML v1.0//EN
BEGIN:VEVENT
DTSTAMP:20260419T165528Z
DTSTART:20140607T140000Z
DTEND:20140607T153000Z
UID:20140607T140000Z-20140607T153000Z-250@www.runningsocks.de
SUMMARY:13. Leinburger Kirwa Lauf
DESCRIPTION:Hiermit  möchte ich heute schon auf den Kirwalauf in Leinb
 urg aufmerksam machen. Er findet wie jedes Jahr am Pfingstsamstag stat
 t\, der heuer auf den 07. Juni fällt.\nAchtung: die folgenden Daten  s
 ind noch unbestätigt !!\nAusschreibung:\n\nAuf der Seite des Veranstal
 ters: TV Leinburg\n\nStart / Ziel\n\n\nBrauereihof Bub / Leinburg\n\nL
 äufe und Startzeiten:\n\n	Kinderlauf 500 m Start: 15:00\n	Schülerlauf 
 1\,5 km Start: 15:30\n	Kirwalauf 10 km Start: 16:00\n	Kirwalauf 5 km S
 tart: 16:10\n	Nordic-Walking-Lauf 5 km Start: 16:10\n\nStartgeld:\nKin
 der-/ Schülerlauf      2\,00 EUR (€ 2 Nachmeldegebühr nach 17.05.2013)
 \nKirwalauf / Nordic-Walking  8\,00 EUR (€ 2 Nachmeldegebühr nach 17.0
 5.2013)\n\nStartnummernausgabe:\n14:00  – 15:00 Uhr im Brauereihof\nSi
 egerehrung:\nca. 18:00 Uhr im Brauereihof\n\nWas gibts für das Startge
 ld?\n\nDie 3 Schnellsten jedes Rennens (Kirwalauf)\, weiblich & männli
 ch\, erhalten Sachpreise. Zudem erfolgt eine Sachpreisverlosung unter 
 allen Teilnehmern.\n\n\nAnmeldung  bis  17. 05.2013 - 19:00 Uhr bei \n
 Franz Stieglbauer\nBachgasse 7\n91227 Leinburg\nFon:        09120 / 68
 29\neMail:     jugendbeauftragter.leinburg@gmx.de\n\nUnd danach noch e
 in Bierchen im Brauereihof
X-ALT-DESC;FMTTYPE=text/html:<p>Hiermit  möchte ich heute schon auf de
 n Kirwalauf in Leinburg aufmerksam machen. Er findet wie jedes Jahr am
  Pfingstsamstag statt\, der heuer auf den 07. Juni fällt.</p>\n<p styl
 e=text-align: center\;><span style=color: #ff0000\; font-size: 14px\;>
 <strong>Achtung: die folgenden Daten  sind noch unbestätigt !!</strong
 ></span></p>\n<p><strong>Ausschreibung:</strong><br>\n<br>\nAuf der Se
 ite des Veranstalters: <a href=http://www.tvleinburg.de/skiabteilung/s
 ites/events.htm target=_blank>TV Leinburg</a></p>\n<p><strong>Start / 
 Ziel<br>\n</strong><br>\n<br>\nBrauereihof Bub / Leinburg</p>\n<p><str
 ong>Läufe und Startzeiten:</strong></p>\n<ul>\n<li>Kinderlauf 500 m St
 art: 15:00</li>\n<li>Schülerlauf 1\,5 km Start: 15:30</li>\n<li>Kirwal
 auf 10 km Start: 16:00</li>\n<li>Kirwalauf 5 km Start: 16:10</li>\n<li
 ><span style=text-decoration: underline\;>Nordic-Walking-Lauf 5 km Sta
 rt: 16:10</span></li>\n</ul>\n<p><strong>Startgeld:</strong><br>\nKind
 er-/ Schülerlauf      2\,00 EUR (€ 2 Nachmeldegebühr nach 17.05.2013)<
 br>\nKirwalauf / Nordic-Walking  8\,00 EUR (€ 2 Nachmeldegebühr nach 1
 7.05.2013)</p>\n<p><strong>Startnummernausgabe:</strong><br>\n14:00  –
  15:00 Uhr im Brauereihof<br>\nSiegerehrung:<br>\nca. 18:00 Uhr im Bra
 uereihof</p>\n<p><strong>Was gibts für das Startgeld?</strong></p>\n<p
 ><span style=font-family: Arial\,Helvetica\,sans-serif\; font-size: sm
 all\;>Die 3 Schnellsten jedes Rennens (Kirwalauf)\, weiblich &amp\; mä
 nnlich\, erhalten Sachpreise. Zudem erfolgt eine Sachpreisverlosung un
 ter allen Teilnehmern.<br>\n</span></p>\n<p><strong>Anmeldung  bis  17
 . 05.2013 &#8211\; 19:00 Uhr bei </strong><br>\nFranz Stieglbauer<br>\
 nBachgasse 7<br>\n91227 Leinburg<br>\nFon:        09120 / 6829<br>\neM
 ail:     jugendbeauftragter.leinburg@gmx.de</p>\n<p>Und danach noch ei
 n Bierchen im <a href=http://www.leinburger-bier.de/ target=_blank>Bra
 uereihof</a></p>\n
URL:https://www.runningsocks.de/wordpress/terminkalender/eventsinglepa
 ge/?event_id=250&lang=de
ATTACH:https://www.runningsocks.de/wordpress/terminkalender/eventsingl
 epage/?event_id=250&lang=de
LOCATION:Brauereihof Bub\, Marktplatz 14\, Leinburg
END:VEVENT
END:VCALENDAR
