BEGIN:VCALENDAR
VERSION:2.0
METHOD:PUBLISH
PRODID:-//hacksw/handcal//NONSGML v1.0//EN
BEGIN:VEVENT
DTSTAMP:20260419T165316Z
DTSTART:20100609T160000Z
DTEND:20100609T180000Z
UID:20100609T160000Z-20100609T180000Z-26@www.runningsocks.de
SUMMARY:7. FunRun Südwest
DESCRIPTION:9900 Meter Laufvergnügen\nStarten Sie mit in die heißen Ta
 ge: Am Mittwoch\, 9. Juni\, geht es  wieder rund beim FunRun\, den der
  Südwestpark bereits zum  siebtem Mal veranstaltet. Heuer führt die St
 recke in Richtung Gebersdorf  bis zum Wiesengrund an der Rednitz und a
 n grünen Uferzonen des  Main-Donau-Kanals zurück zum Park. Wo alle Akt
 iven bei Live-Musik  relaxen und an Buffet oder Grill ihre Energiespei
 cher auffüllen können.  Gemeinsam mit Familien\, Freunden\, Kollegen\,
  Nachbarn... Mehr zum  Programm beim Sommerfest gibt es „laufend“ onli
 ne.\nDie wichtigsten Fakten:\n\n	Start/Ziel: im Südwestpark\n\n\n	Stre
 cke  Läufer/Nordic Walker:\n9\,9 km (über Gebersdorf die Rednitz  entl
 ang Richtung Fürth\, am Ufer des Main-Donau-Kanals zurück zum  Südwest
 park)\n	Strecke Kinder (4 bis 6 Jahre):\neine  Runde durch den Südwest
 park\n	Strecke Schüler (7 bis 14  Jahre):\neine Runde durch den Südwes
 tpark\n	Frühbucherpreis bis 30.04.2010! Jetzt anmelden\n\nAlle  Startz
 eiten:\n\n	ab 15:00 Uhr: Nachmeldung und Abholung der  Starterunterlag
 en im Start-/Zielbereich\n	18.00 Uhr: Start auf dem  Kurs für Kids\n	1
 8.15 Uhr: Start Schülerlauf\n	18.30 Uhr:  Start Fun Runner & Walker\n	
 20:30 Uhr: Zieleinlauf\n	20:30  Uhr: Siegerehrung\n\nIn der Startgebüh
 r inbegriffen:\n\n	hochwertiges Funktionsshirt (solange Vorrat reicht)
 \n	Transponder-Zeitmessung\n	Dusch-  und Umkleidemöglichkeiten\n	Verpf
 legungsposten auf der Strecke\n	Urkunde  (als Online-Ausdruck)\n	Parkp
 lätze in den Parkhäusern\n\nGruppenanmeldungen (ab 5 Personen)\n\n	Läu
 fer und Nordic Walker 9\,9 km an der Rednitz und dem  Main-Donau-Kanal
  entlang.\nFrühbucherpreis: 6\,-  EUR p.P.*\nStandardpreis: 8\,- EUR  
  p.P.**\n	Kinder (mit Begleitung) und Schüler 1 km  Parkrunde.\nFrühbu
 cherpreis: 2\,- EUR  p.P.*\nStandardpreis:  3\,- EUR  p.P.**\n\n* Onli
 ne-Anmeldung zum  Frühbucherpreis bis 30.04.10\n** Online-Anmeldung zu
 m Standardpreis  bis 31.05.10\n\nWeitere Info's beim Veranstalter: SÜD
 -WEST-PARK Management GmbH\n\nHier geht's zur SUN internen Online Anme
 ldung
X-ALT-DESC;FMTTYPE=text/html:<p><strong>9900 Meter Laufvergnügen</stro
 ng><br>\nStarten Sie mit in die heißen Tage: Am Mittwoch\, <strong>9. 
 Juni</strong>\, geht es  wieder rund beim <strong>FunRun</strong>\, de
 n der <strong>Südwestpark</strong> bereits zum  siebtem Mal veranstalt
 et. Heuer führt die Strecke in Richtung Gebersdorf  bis zum Wiesengrun
 d an der Rednitz und an grünen Uferzonen des  Main-Donau-Kanals zurück
  zum Park. Wo alle Aktiven bei Live-Musik  relaxen und an Buffet oder 
 Grill ihre Energiespeicher auffüllen können.  Gemeinsam mit Familien\,
  Freunden\, Kollegen\, Nachbarn&#8230\; Mehr zum  Programm beim <stron
 g>Sommerfest</strong> gibt es „laufend“ online.</p>\n<h3>Die wichtigst
 en Fakten:</h3>\n<ul>\n<li><strong>Start/Ziel:</strong> im Südwestpark
 </li>\n</ul>\n<ul>\n<li><strong>Strecke  Läufer/Nordic Walker:</strong
 ><br>\n9\,9 km (über Gebersdorf die Rednitz  entlang Richtung Fürth\, 
 am Ufer des Main-Donau-Kanals zurück zum  Südwestpark)</li>\n<li><stro
 ng>Strecke Kinder (4 bis 6 Jahre):</strong><br>\neine  Runde durch den
  Südwestpark</li>\n<li><strong>Strecke Schüler (7 bis 14  Jahre):</str
 ong><br>\neine Runde durch den Südwestpark</li>\n<li><strong>Frühbuche
 rpreis</strong> bis 30.04.2010! <a title=Zur Anmeldung href=http://www
 .funrunsuedwest.de/anmeldung.html>Jetzt anmelden</a></li>\n</ul>\n<h3>
 <span style=font-size: medium\;>Alle  Startzeiten:</span></h3>\n<ul>\n
 <li>ab 15:00 Uhr: Nachmeldung und Abholung der  Starterunterlagen im S
 tart-/Zielbereich</li>\n<li>18.00 Uhr: Start auf dem  Kurs für Kids</l
 i>\n<li>18.15 Uhr: Start Schülerlauf</li>\n<li>18.30 Uhr:  Start Fun R
 unner &amp\; Walker</li>\n<li>20:30 Uhr: Zieleinlauf</li>\n<li>20:30  
 Uhr: Siegerehrung</li>\n</ul>\n<h3 id=c47><strong>In der Startgebühr i
 nbegriffen:</strong></h3>\n<ul>\n<li>hochwertiges Funktionsshirt (sola
 nge Vorrat reicht)</li>\n<li>Transponder-Zeitmessung</li>\n<li>Dusch- 
  und Umkleidemöglichkeiten</li>\n<li>Verpflegungsposten auf der Streck
 e</li>\n<li>Urkunde  (als Online-Ausdruck)</li>\n<li>Parkplätze in den
  Parkhäusern</li>\n</ul>\n<h3>Gruppenanmeldungen (ab 5 Personen)</h3>\
 n<ul>\n<li>Läufer und Nordic Walker 9\,9 km an der Rednitz und dem  Ma
 in-Donau-Kanal entlang.<br>\n<strong>Frühbucherpreis:</strong> <strong
 >6\,-  EUR p.P.*<br>\n</strong><strong>Standardpreis: </strong><strong
 >8\,- EUR   p.P.**</strong></li>\n<li>Kinder (mit Begleitung) und Schü
 ler 1 km  Parkrunde.<br>\n<strong>Frühbucherpreis: 2\,- EUR  p.P.*<br>
 \nStandardpreis:  3\,- EUR  p.P.**</strong></li>\n</ul>\n<p>* Online-A
 nmeldung zum  Frühbucherpreis bis 30.04.10<br>\n** Online-Anmeldung zu
 m Standardpreis  bis 31.05.10</p>\n<p>Weitere Info&#8217\;s beim Veran
 stalter: <a href=http://www.funrunsuedwest.de/ target=_blank>SÜD-WEST-
 PARK Management GmbH</a></p>\n<p>Hier geht&#8217\;s zur SUN internen <
 a href=https://www.runningsocks.de/wordpress/running-sun/online-anmeld
 ung-sun-funrun-2010/>Online Anmeldung</a></p>\n
URL:https://www.runningsocks.de/wordpress/terminkalender/eventsinglepa
 ge/?event_id=26&lang=de
ATTACH:https://www.runningsocks.de/wordpress/terminkalender/eventsingl
 epage/?event_id=26&lang=de
LOCATION:Südwestpark\, Südwestpark 41\, Nürnberg
END:VEVENT
END:VCALENDAR
