BEGIN:VCALENDAR
VERSION:2.0
METHOD:PUBLISH
PRODID:-//hacksw/handcal//NONSGML v1.0//EN
BEGIN:VEVENT
DTSTAMP:20260419T165720Z
DTSTART:20140726T120000Z
DTEND:20140726T160000Z
UID:20140726T120000Z-20140726T160000Z-269@www.runningsocks.de
SUMMARY:Radtreff RSG Leinburg - 2014
DESCRIPTION:Die RSG Leinburg trifft sich von März bis September immer 
 samstags um 14 Uhr am Kornmarkt. Interessierte Radsportler sind gerne 
 willkommen.\n\nWeiter Informationen siehe: RSG-Leinburg
X-ALT-DESC;FMTTYPE=text/html:<p>Die RSG Leinburg trifft sich von März 
 bis September immer samstags um 14 Uhr am Kornmarkt. Interessierte Rad
 sportler sind gerne willkommen.</p>\n<p>Weiter Informationen siehe: <a
  href=http://rsg-leinburg.jimdo.com/ target=_blank>RSG-Leinburg</a></p
 >\n
URL:https://www.runningsocks.de/wordpress/terminkalender/eventsinglepa
 ge/?event_id=269&lang=de
ATTACH:https://www.runningsocks.de/wordpress/terminkalender/eventsingl
 epage/?event_id=269&lang=de
LOCATION:Moritzberg Apotheke\, Kornmarkt 1\, Leinburg
END:VEVENT
END:VCALENDAR
