BEGIN:VCALENDAR
VERSION:2.0
METHOD:PUBLISH
PRODID:-//hacksw/handcal//NONSGML v1.0//EN
BEGIN:VEVENT
DTSTAMP:20260419T165413Z
DTSTART:20100613T040000Z
DTEND:20100613T160000Z
UID:20100613T040000Z-20100613T160000Z-27@www.runningsocks.de
SUMMARY:12. Lupburg Radmarathon
DESCRIPTION:Dieses Jahr wird zu den bereits vom Vorjahr bekannten Stre
 cken eine  weitere Einsteigerstrecke für Moutainbiker angeboten. Die S
 trecke ist 30 km  lang und hat ca. 500 Höhenmeter.\n\nAktueller Flyer 
 zum 12. Lupburg Radmarathon: Flyer 12.Lupburg Radmarathon\n\nWeitere I
 nfo's und Onlineanmeldung beim Veranstalter: Sportverein 1959 Lupburg 
 e.V
X-ALT-DESC;FMTTYPE=text/html:<p>Dieses Jahr wird zu den bereits vom Vo
 rjahr bekannten Strecken eine  weitere Einsteigerstrecke für Moutainbi
 ker angeboten. Die Strecke ist 30 km  lang und hat ca. 500 Höhenmeter.
 </p>\n<p>Aktueller Flyer zum 12. Lupburg Radmarathon: <a href=https://
 www.runningsocks.de/wordpress/wp-content/uploads/2010/05/ProsSVL2010.p
 df>Flyer 12.Lupburg Radmarathon</a></p>\n<p style=text-align: justify\
 ;>Weitere Info&#8217\;s und Onlineanmeldung beim Veranstalter: <a href
 =http://www.jura-radmarathon.de target=_blank>Sportverein 1959 Lupburg
  e.V</a></p>\n
URL:https://www.runningsocks.de/wordpress/terminkalender/eventsinglepa
 ge/?event_id=27&lang=de
ATTACH:https://www.runningsocks.de/wordpress/terminkalender/eventsingl
 epage/?event_id=27&lang=de
LOCATION:Schul- und Sportgelände\, Reiselbergweg 3\, Lupburg
END:VEVENT
END:VCALENDAR
