BEGIN:VCALENDAR
VERSION:2.0
METHOD:PUBLISH
PRODID:-//hacksw/handcal//NONSGML v1.0//EN
BEGIN:VEVENT
DTSTAMP:20260419T165231Z
DTSTART:20100613T073000Z
DTEND:20100613T120000Z
UID:20100613T073000Z-20100613T120000Z-28@www.runningsocks.de
SUMMARY:Metropolmarathon
DESCRIPTION:Startzeiten\n9.30 Uhr: Startschuss zum Halbmarathon\n9.30 
  Uhr: Startschuss zum Marathon\n9.45 Uhr: Startschuss  zum Staffelmara
 thon\n10.30 Uhr: Startschuss zum 10 km Volkslauf\n10.30  Uhr: Startsch
 uss zum 10 km Nordic Walking\nWeitere Info#s und Onlineanmeldung beim 
 Veranstalter: Sportamt der Stadt Fürth
X-ALT-DESC;FMTTYPE=text/html:<p style=text-align: justify\;>Startzeite
 n<br>\n9.30 Uhr: Startschuss zum Halbmarathon<br>\n9.30  Uhr: Startsch
 uss zum Marathon<br>\n9.45 Uhr: Startschuss  zum Staffelmarathon<br>\n
 10.30 Uhr: Startschuss zum 10 km Volkslauf<br>\n10.30  Uhr: Startschus
 s zum 10 km Nordic Walking</p>\n<p style=text-align: justify\;>Weitere
  Info#s und Onlineanmeldung beim Veranstalter: <a href=http://www.metr
 opolmarathon.de target=_blank>Sportamt der Stadt Fürth</a></p>\n
URL:https://www.runningsocks.de/wordpress/terminkalender/eventsinglepa
 ge/?event_id=28&lang=de
ATTACH:https://www.runningsocks.de/wordpress/terminkalender/eventsingl
 epage/?event_id=28&lang=de
LOCATION:Fürther Freiheit\, Fürther Freiheit\, Fürth
END:VEVENT
END:VCALENDAR
