BEGIN:VCALENDAR
VERSION:2.0
METHOD:PUBLISH
PRODID:-//hacksw/handcal//NONSGML v1.0//EN
BEGIN:VEVENT
DTSTAMP:20260419T165632Z
DTSTART:20140412T150000Z
DTEND:20140412T170000Z
UID:20140412T150000Z-20140412T170000Z-284@www.runningsocks.de
SUMMARY:4. IFB HiRo Run 21.1
DESCRIPTION:Schneller\, flacher Rundkurs um den Rothsee. Start und Zie
 l ist Hilpoltstein\nInfos :\n\n\n\nAusschreibung:\n4. IFB HiRo Run 21.
 1\n\n\nTermin:\nSamstag\, 12.04.2014\n\n\nVeranstalter:\nLa Carrera Tr
 iTeam Rothsee 09 e.V.\n\n\nStartzeit:\n17:00 Uhr\n\n\nZielschluss:\n20
 :00 Uhr\n\n\nStart / Ziel:\nInnenstadt von Hilpoltstein - Marktstraße\
 n\n\nTeilnehmerlimit:\n1000 Starter\n\n\nMeldeschluss:\nEntweder wenn 
 das Teilnehmerlimit erreicht ist oder der 05.04.\n\n\nMeldegebühr:\nbi
 s 30.11.\n19 Euro (zuzügl. 2 € Chipmiete)\n\n\n\nvon 01.12. bis 31.01.
 2014\n22 Euro (zuzügl. 2 € Chipmiete)\n\n\n\nvon 01.02.2014 bis 05.04.
 2014\n25 Euro (zuzügl. 2 € Chipmiete)\n\n\n\nNachmeldungen\n30 Euro (z
 uzügl. 2 € Chipmiete) oder keine Nachmeldung möglich wenn Teilnehmerli
 mit erreicht\n\n\nFunktionsshirt\nJeder Teilnehmer erhält für den Aufp
 reis von nur 5 Euro (Angabe bei Anmeldung) beim Start ein HiRo Run Fun
 ktionsshirt. Bestellung eines Funktionsshirt bei einer Meldung bis zum
  31.12.2012 möglich\n\n\n\n\n\n\nZugläufer\nfür 1:30h\, 1:45h\, 2:00h\
 , 2:15h Zielzeit\n\n\nZeitmessung\nErfolg über Chipmessung\n\n\nIntern
 et mit Ausschreibung\, Meldung und Ergebnissen:\nhttp://www.hiro-run.d
 e\n\n\n\n(Quelle: http://www.hiro-run.de/)\n\nAlle weiteren\, aktuelle
 n Infos sowie Online Anmeldung auf der Seite des Veranstalters:  IFB H
 iRo Run 21.1
X-ALT-DESC;FMTTYPE=text/html:<p style=text-align: center\;>Schneller\,
  flacher Rundkurs um den Rothsee. Start und Ziel ist Hilpoltstein</p>\
 n<p><span style=text-decoration: underline\;><strong>Infos :</strong><
 /span></p>\n<table id=table4 style=width: 700px\; border=1>\n<tbody>\n
 <tr><td align=left valign=top width=150><strong>Ausschreibung:</strong
 ></td>\n<td colspan=2 align=left valign=top width=650><strong>4. IFB H
 iRo Run 21.1</strong></td></tr>\n<tr><td align=left valign=top width=1
 50><strong>Termin:</strong></td>\n<td colspan=2 align=left valign=top 
 width=650><strong>Samstag\, 12.04.2014</strong></td></tr>\n<tr><td ali
 gn=left valign=top width=150>Veranstalter:</td>\n<td colspan=2 align=l
 eft valign=top width=650><a href=http://www.lacarrera-triteam.de/ targ
 et=_blank>La Carrera TriTeam Rothsee 09 e.V.</a></td></tr>\n<tr><td al
 ign=left valign=top width=150>Startzeit:</td>\n<td colspan=2 align=lef
 t valign=top width=650>17:00 Uhr</td></tr>\n<tr><td align=left valign=
 top width=150>Zielschluss:</td>\n<td colspan=2 align=left valign=top w
 idth=650>20:00 Uhr</td></tr>\n<tr><td align=left valign=top width=150>
 Start / Ziel:</td>\n<td colspan=2 align=left valign=top width=650>Inne
 nstadt von Hilpoltstein &#8211\; Marktstraße</td></tr>\n<tr><td align=
 left valign=top width=150>Teilnehmerlimit:</td>\n<td colspan=2 align=l
 eft valign=top width=650>1000 Starter</td></tr>\n<tr><td align=left va
 lign=top width=150>Meldeschluss:</td>\n<td colspan=2 align=left valign
 =top width=650>Entweder wenn das Teilnehmerlimit erreicht ist oder der
  05.04.</td></tr>\n<tr><td align=left valign=top width=150>Meldegebühr
 :</td>\n<td align=left valign=top width=325>bis 30.11.</td>\n<td align
 =left valign=top width=325>19 Euro (zuzügl. 2 € Chipmiete)</td></tr>\n
 <tr><td align=left valign=top width=150></td>\n<td align=left valign=t
 op width=325>von 01.12. bis 31.01.2014</td>\n<td align=left valign=top
  width=325>22 Euro (zuzügl. 2 € Chipmiete)</td></tr>\n<tr><td align=le
 ft valign=top width=150></td>\n<td align=left valign=top width=325>von
  01.02.2014 bis 05.04.2014</td>\n<td align=left valign=top width=325>2
 5 Euro (zuzügl. 2 € Chipmiete)</td></tr>\n<tr><td align=left valign=to
 p width=150></td>\n<td align=left valign=top width=325>Nachmeldungen</
 td>\n<td align=left valign=top width=325>30 Euro (zuzügl. 2 € Chipmiet
 e) oder keine Nachmeldung möglich wenn Teilnehmerlimit erreicht</td></
 tr>\n<tr><td align=left valign=top width=150>Funktionsshirt</td>\n<td 
 colspan=2 align=left valign=top width=650>Jeder Teilnehmer erhält für 
 den Aufpreis von nur 5 Euro (Angabe bei Anmeldung) beim Start ein <str
 ong>HiRo Run Funktionsshirt.</strong> Bestellung eines Funktionsshirt 
 bei einer Meldung bis zum 31.12.2012 möglich</td></tr>\n<tr><td align=
 left valign=top width=150></td>\n<td colspan=2 align=left valign=top w
 idth=650></td></tr>\n<tr><td align=left valign=top width=150>Zugläufer
 </td>\n<td colspan=2 align=left valign=top width=650>für 1:30h\, 1:45h
 \, 2:00h\, 2:15h Zielzeit</td></tr>\n<tr><td align=left valign=top wid
 th=150>Zeitmessung</td>\n<td colspan=2 align=left valign=top width=650
 >Erfolg über Chipmessung</td></tr>\n<tr><td align=left valign=top widt
 h=150>Internet mit Ausschreibung\, Meldung und Ergebnissen:</td>\n<td 
 colspan=2 align=left valign=top width=650><a href=http://www.hiro-run.
 de/>http://www.hiro-run.de</a></td></tr>\n</tbody>\n</table>\n<p><stro
 ng>(Quelle: http://www.hiro-run.de/)</strong></p>\n<p><strong>Alle wei
 teren\, aktuellen Infos sowie Online Anmeldung auf der Seite des Veran
 stalters:  <a href=http://www.hiro-run.de/>IFB HiRo Run 21.1</a></stro
 ng></p>\n
URL:https://www.runningsocks.de/wordpress/terminkalender/eventsinglepa
 ge/?event_id=284&lang=de
ATTACH:https://www.runningsocks.de/wordpress/terminkalender/eventsingl
 epage/?event_id=284&lang=de
LOCATION:Marktstrasse Hilpoltstein\, Marktstrasse 16\, Hilpoltstein
END:VEVENT
END:VCALENDAR
