BEGIN:VCALENDAR
VERSION:2.0
METHOD:PUBLISH
PRODID:-//hacksw/handcal//NONSGML v1.0//EN
BEGIN:VEVENT
DTSTAMP:20260419T165232Z
DTSTART:20140727T091000Z
DTEND:20140727T150000Z
UID:20140727T091000Z-20140727T150000Z-285@www.runningsocks.de
SUMMARY:32. GEALAN Triathlon Hof
DESCRIPTION:Kurzinfo:\n\nStreckenlängen:\n\n	1\,5Km / 40Km / 10Km (Oly
 mische Distanz\, Einzel und Staffel)\n	0\,75Km / 20Km / 5Km (Jedermann
 /Sprint\, Einzel und Stafffel)\n\nStartzeiten:\n\n	Olymische Distanz\,
  Einzel und Staffel: 11:00\n	Jedermann/Sprint\, Einzel und Stafffel: 1
 0:00\n\nAusgabe Startunterlagen:\n\n	Olymische Distanz\, Einzel und St
 affel: 08:00 - 09:30\n	Jedermann/Sprint\, Einzel und Stafffel: 08:00 -
  09:00\n\nStartgelder:\n\n	Siehe Ausschreibung ...\n\nWeitere Details 
 bitte der Ausschreibung entnehmen.  Alle weiteren\, aktuellen Infos un
 d Online Anmeldung direkt beim Veranstalter: Gealan Triathlon Hof\n\nA
 usschreibung:\n\n[wpfilebase tag=file path='triathlon/gealan-hof/20140
 727/20140727_GealanTriathlonHof_Ausschreibung.pdf' /]
X-ALT-DESC;FMTTYPE=text/html:<p>Kurzinfo:</p>\n<p><span style=text-dec
 oration: underline\;><strong>Streckenlängen:</strong></span></p>\n<ul>
 \n<li>1\,5Km / 40Km / 10Km (Olymische Distanz\, Einzel und Staffel)</l
 i>\n<li>0\,75Km / 20Km / 5Km (Jedermann/Sprint\, Einzel und Stafffel)<
 /li>\n</ul>\n<p><span style=text-decoration: underline\;><strong>Start
 zeiten:</strong></span></p>\n<ul>\n<li>Olymische Distanz\, Einzel und 
 Staffel: 11:00</li>\n<li>Jedermann/Sprint\, Einzel und Stafffel: 10:00
 </li>\n</ul>\n<p><span style=text-decoration: underline\;><strong>Ausg
 abe Startunterlagen:</strong></span></p>\n<ul>\n<li>Olymische Distanz\
 , Einzel und Staffel: 08:00 &#8211\; 09:30</li>\n<li>Jedermann/Sprint\
 , Einzel und Stafffel: 08:00 &#8211\; 09:00</li>\n</ul>\n<p><span styl
 e=text-decoration: underline\;><strong>Startgelder:</strong></span></p
 >\n<ul>\n<li>Siehe Ausschreibung &#8230\;</li>\n</ul>\n<p>Weitere Deta
 ils bitte der Ausschreibung entnehmen.  Alle weiteren\, aktuellen Info
 s und Online Anmeldung direkt beim Veranstalter: <a href=http://www.tr
 iathlon-hof.com target=_blank>Gealan Triathlon Hof</a></p>\n<p><span s
 tyle=text-decoration: underline\;><strong>Ausschreibung:</strong></spa
 n><br>\n<br>\n[wpfilebase tag=file path=&#8217\;triathlon/gealan-hof/2
 0140727/20140727_GealanTriathlonHof_Ausschreibung.pdf&#8216\; /]</p>\n
URL:https://www.runningsocks.de/wordpress/terminkalender/eventsinglepa
 ge/?event_id=285&lang=de
ATTACH:https://www.runningsocks.de/wordpress/terminkalender/eventsingl
 epage/?event_id=285&lang=de
LOCATION:Untreusee\, Untreusee\, Hof
END:VEVENT
END:VCALENDAR
