BEGIN:VCALENDAR
VERSION:2.0
METHOD:PUBLISH
PRODID:-//hacksw/handcal//NONSGML v1.0//EN
BEGIN:VEVENT
DTSTAMP:20260419T165316Z
DTSTART:20140126T090000Z
DTEND:20140126T120000Z
UID:20140126T090000Z-20140126T120000Z-286@www.runningsocks.de
SUMMARY:54. Prellsteinrennen
DESCRIPTION:Ein wahrlich harter Crosslauf über Felder Wiesen\, Wege un
 d Steige zwischen Heuchling und Hirschbachtal. Gestartet wird bei jede
 r Witterung\; je nach Schneelage sind auch Langlaufski die bessere Wah
 l (und vor allem erlaubt). Die Herausforderung im Januar !!\n\nDas Ren
 nen:\nDas Prellsteinrennen ist ein Mannschaftslauf. Eine Mannschaft be
 steht aus 3 Läufern. Die zwei besten Zeiten werden gewertet\, aber all
 e drei Läufer müssen das Ziel erreichen und die Kontrollstellen passie
 ren.\n\nDas Prellsteinrennen wird als Crosslauf ausgetragen. Bei guter
  Schneelage kann auch mit Langlaufski gelaufen werden. Es können Manns
 chaften mit Cross- und Skiläufern gebildet werden. Weiter können Damen
  und Herren eine Mannschaft bilden. Die Läufer mit Skiern starten mit 
 einer Zeitvorgabe vor den Crossläufern.\n\nDer Start der Mannschaften 
 erfolgt mit einem Zeitabstand von einer Minute.\nWertungen:\nSenioren-
 Wertung\n\nDie Wertung erfolgt nach Zeit. Das Mindestalter ist 40 Jahr
 e. Jedoch muss das addierte Gesamtalter der Mannschaft mind. 150 Jahre
  betragen.\n\nSeniorinnen-Wertung\n\nDie Wertung erfolgt nach Zeit. Da
 s Mindestalter ist 30 Jahre. Jedoch muss das addierte Gesamtalter der 
 Mannschaft mind. 120 Jahre betragen.\n\nJugend-Wertung\n\nDie Wertung 
 erfolgt nach Zeit. Das Höchstalter ist 20 Jahre. Das addierte Gesamtal
 ter der Mannschaft darf somit nicht über 60 Jahre sein.\nWeitere Info:
 \n\n\n\nOrt:\nHeuchling bei Pommelsbrunn\n\n\nStartzeit:\n10.00 Uhr\n\
 n\nMeldungen:\nAm Start in der Gaststätte Zum Schwarzen Brand\n\n\nMel
 deschluss:\n30 Minuten vor Mannschaftsstart\n\n\nStartgebühr:\nEUR 9\,
 00 pro Teilnehmer zzgl. EUR 1\,00 für Transponder (zur Zeitnahme) pro 
 Läufer\n\n\nStartnummern:\nAb 8.30 Uhr in der Gaststätte Zum Schwarzen
  Brand\n\n\nSiegerehrung:\nca. 15.00 Uhr in der Gaststätte Zum Schwarz
 en Brand\n\n\n\nAusschreibung:\n\n[wpfilebase tag=file path='lauf/prel
 lstein/20140126/20140126_Prellsteinrennen_Ausschreibung.pdf' /]\n\nAkt
 uelle Info's wie immer auf der Seite des Veranstalter: Arbeitsgemeinsc
 haft Nürnberger Touristenvereine e.V.
X-ALT-DESC;FMTTYPE=text/html:<p style=text-align: center\;>Ein wahrlic
 h harter Crosslauf über Felder Wiesen\, Wege und Steige zwischen Heuch
 ling und Hirschbachtal. Gestartet wird bei jeder Witterung\; je nach S
 chneelage sind auch Langlaufski die bessere Wahl (und vor allem erlaub
 t). Die Herausforderung im Januar !!</p>\n<h3>Das Rennen:</h3>\n<p>Das
  Prellsteinrennen ist ein Mannschaftslauf. Eine Mannschaft besteht aus
  3 Läufern. Die zwei besten Zeiten werden gewertet\, aber alle drei Lä
 ufer müssen das Ziel erreichen und die Kontrollstellen passieren.</p>\
 n<p>Das Prellsteinrennen wird als Crosslauf ausgetragen. Bei guter Sch
 neelage kann auch mit Langlaufski gelaufen werden. Es können Mannschaf
 ten mit Cross- und Skiläufern gebildet werden. Weiter können Damen und
  Herren eine Mannschaft bilden. Die Läufer mit Skiern starten mit eine
 r Zeitvorgabe vor den Crossläufern.</p>\n<p>Der Start der Mannschaften
  erfolgt mit einem Zeitabstand von einer Minute.</p>\n<h3>Wertungen:</
 h3>\n<p>Senioren-Wertung</p>\n<p>Die Wertung erfolgt nach Zeit. Das Mi
 ndestalter ist 40 Jahre. Jedoch muss das addierte Gesamtalter der Mann
 schaft mind. 150 Jahre betragen.</p>\n<p>Seniorinnen-Wertung</p>\n<p>D
 ie Wertung erfolgt nach Zeit. Das Mindestalter ist 30 Jahre. Jedoch mu
 ss das addierte Gesamtalter der Mannschaft mind. 120 Jahre betragen.</
 p>\n<p>Jugend-Wertung</p>\n<p>Die Wertung erfolgt nach Zeit. Das Höchs
 talter ist 20 Jahre. Das addierte Gesamtalter der Mannschaft darf somi
 t nicht über 60 Jahre sein.</p>\n<h3>Weitere Info:</h3>\n<table style=
 width: 535px\; height: 194px\; border=0>\n<tbody>\n<tr><td><span style
 =font-size: small\;><span style=font-family: arial\,helvetica\,sans-se
 rif\;>Ort:</span></span></td>\n<td><span style=font-size: small\;><spa
 n style=font-family: arial\,helvetica\,sans-serif\;>Heuchling bei Pomm
 elsbrunn</span></span></td></tr>\n<tr><td><span style=font-size: small
 \;><span style=font-family: arial\,helvetica\,sans-serif\;>Startzeit:<
 /span></span></td>\n<td><span style=font-size: small\;><span style=fon
 t-family: arial\,helvetica\,sans-serif\;>10.00 Uhr</span></span></td><
 /tr>\n<tr><td><span style=font-size: small\;><span style=font-family: 
 arial\,helvetica\,sans-serif\;>Meldungen:</span></span></td>\n<td><spa
 n style=font-size: small\;><span style=font-family: arial\,helvetica\,
 sans-serif\;>Am Start in der Gaststätte &#8222\;Zum Schwarzen Brand&#8
 220\;</span></span></td></tr>\n<tr><td><span style=font-size: small\;>
 <span style=font-family: arial\,helvetica\,sans-serif\;>Meldeschluss:<
 /span></span></td>\n<td><span style=font-size: small\;><span style=fon
 t-family: arial\,helvetica\,sans-serif\;>30 Minuten vor Mannschaftssta
 rt</span></span></td></tr>\n<tr><td><span style=font-size: small\;><sp
 an style=font-family: arial\,helvetica\,sans-serif\;>Startgebühr:</spa
 n></span></td>\n<td><span style=font-size: small\;><span style=font-fa
 mily: arial\,helvetica\,sans-serif\;>EUR 9\,00 pro Teilnehmer zzgl. EU
 R 1\,00 für Transponder (zur Zeitnahme) pro Läufer</span></span></td><
 /tr>\n<tr><td><span style=font-size: small\;><span style=font-family: 
 arial\,helvetica\,sans-serif\;>Startnummern:</span></span></td>\n<td><
 span style=font-size: small\;><span style=font-family: arial\,helvetic
 a\,sans-serif\;>Ab 8.30 Uhr in der Gaststätte &#8222\;Zum Schwarzen Br
 and&#8220\;</span></span></td></tr>\n<tr><td><span style=font-size: sm
 all\;><span style=font-family: arial\,helvetica\,sans-serif\;>Siegereh
 rung:</span></span></td>\n<td><span style=font-size: small\;><span sty
 le=font-family: arial\,helvetica\,sans-serif\;>ca. 15.00 Uhr in der Ga
 ststätte &#8222\;Zum Schwarzen Brand&#8220\;</span></span></td></tr>\n
 </tbody>\n</table>\n<p>Ausschreibung:</p>\n<p>[wpfilebase tag=file pat
 h=&#8217\;lauf/prellstein/20140126/20140126_Prellsteinrennen_Ausschrei
 bung.pdf&#8216\; /]</p>\n<p>Aktuelle Info&#8217\;s wie immer auf der S
 eite des Veranstalter: <a href=http://www.vftn-online.de/Sport/Prellst
 einrennen/ target=_blank><strong>Arbeitsgemeinschaft Nürnberger Touris
 tenvereine e.V.</strong></a></p>\n
URL:https://www.runningsocks.de/wordpress/terminkalender/eventsinglepa
 ge/?event_id=286&lang=de
ATTACH:https://www.runningsocks.de/wordpress/terminkalender/eventsingl
 epage/?event_id=286&lang=de
LOCATION:Gasthaus Zum schwarzen Brand\, Heuchling 12\, Heuchling
END:VEVENT
END:VCALENDAR
