BEGIN:VCALENDAR
VERSION:2.0
METHOD:PUBLISH
PRODID:-//hacksw/handcal//NONSGML v1.0//EN
BEGIN:VEVENT
DTSTAMP:20260419T165313Z
DTSTART:20140605T160000Z
DTEND:20140605T180000Z
UID:20140605T160000Z-20140605T180000Z-287@www.runningsocks.de
SUMMARY:11. FunRun Südwest
DESCRIPTION:Nicht zu lang und nicht zu kurz!\n9\,9 km Streckenlänge un
 d ganz neu ab 2014: 5Km – für Wenigläufer eine gut schaffbare Herausfo
 rderung\, für Vielläufer ein willkommenes Training. Umso mehr bei dem 
 reizvollen Streckenverlauf über Asphalt\, Schotter- und Feldwege.\nLos
  geht’s vom Südwestpark aus Richtung Gebersdorf. Im Wiesengrund führt 
 die Strecke immer der Rednitz entlang gen Fürth. Nach einer Kehrtwende
  heißt es dann an den grünen Uferzonen neben dem Rhein-Main-Donau-Kana
 l: Endspurt zurück bis zum Südwestpark!\nFür ausreichend Verpflegungsp
 osten entlang der Strecke ist selbstverständlich gesorgt.\nDie wichtig
 sten Fakten:\n\n	Termin: 05. Juni 2014\n	Start/Ziel: im Südwestpark\n	
 Strecke Läufer/Nordic Walker:\n9\,9 km (über Gebersdorf die Rednitz en
 tlang Richtung Fürth\, am Ufer des Main-Donau-Kanals zurück zum Südwes
 tpark)\n	Strecke Läufer:\n5\,0 km\, Begrenzung auf maximal 400 Läufer 
 (südlich Richtung Main-Donau- Kanal entlang – bis zu einer Wende nach 
 ca. 2\,5 km)\n	Strecke Kinder (4 bis 6 Jahre):\neine Runde durch den S
 üdwestpark\n	Strecke Schüler (7 bis 14 Jahre):\neine Runde durch den S
 üdwestpark\n\nAlle Startzeiten:\n\n	ab 15:00 Uhr: Nachmeldung und Abho
 lung der Starterunterlagen im Start-/Zielbereich\n\n\n	18.00 Uhr: Kind
 er\n	18:15 Uhr: Schüler\n	18:30 Uhr: 9\,9 km Läufer\n	18:35 Uhr: 9\,9 
 km Walker\n	18:45 Uhr: 5 km Läufer\n\n\n	ca. 20:15 Uhr: Zieleinlauf\n	
 ca. 20:30 Uhr: Siegerehrung\n\nIn der Startgebühr inbegriffen:\n\n	hoc
 hwertiges Funktionsshirt (solange Vorrat reicht)\n	Transponder-Zeitmes
 sung\n	Dusch- und Umkleidemöglichkeiten\n	Verpflegungsposten auf der S
 trecke\n	Urkunde (als Online-Ausdruck)\n	Parkplätze in den Parkhäusern
 \n\nAnmeldungen und Startgebühren:\n\n\n\n\n\nFrühbucherpreis (bis 30.
 04.)\n\nNormaler Preis\n\n\n\n\nEinzelläufer Erwachsen\n12 €\n14 €\n\n
 \nGruppe Erwachsen\n10 €\n12 €\n\n\nEinzelläufer/Gruppe Kind/Schüler\n
 kostenlos\n4 €\n\n\n\n\n\nAnmeldung vor Ort\nam 05. Juni ab 15 Uhr\n\n
 \nONLINE-Anmeldeschluss\nist der xx.xx.\n\nWeitere Info's beim Veranst
 alter: SÜD-WEST-PARK Management GmbH sowie Online Anmeldungen\n\nAlle 
 Info's ©FunRun Südwest\n\n\n\nInformation zur Anmeldung für alle SUN L
 äuferInnen:\nDie Gruppenanmeldung wird/kann wieder durch mich (Frank H
 .W. ) durchgeführt. Wer sich für diesen Lauf interessiert und anmelden
  möchte bitte folgendermaßen vorgehen:\n\nIn das Feld Name bitte Vorna
 me und Nachname eintragen.\n\nIn das Feld E-Mail die priv. oder geschä
 ftl. Emailadresse eingeben.\n\nIn das Feld Phone Number die priv. oder
  geschäftl. Telefonnummer eingeben.\n\nBei Seats immer nur 1 auswählen
 .\n\nIn das Feld Comment die Daten für:\n\n	Geschlecht\,(M/W)\n	Jahrga
 ng (19xx)\n	T-Shirt Größe (XXS - XL)\n\nin verständlicher Form eingebe
 n.\n\nBevor man den Button Teilnahmeanfrage absenden klickt\, den ange
 zeigten Code in das Feld eintragen.\n\nDas war's. Nach einigen Augenbl
 icken taucht euer Name unter bisher gemeldet auf. Die weiteren Daten s
 ind nur für mich sichtbar. Diese werde für die Gruppenanmeldung auf de
 r Homepage des Veranstalters benötigt. Anmeldeschluß auf dieser Seite 
 ist ebenfalls der 06.06.2013.
X-ALT-DESC;FMTTYPE=text/html:<h2>Nicht zu lang und nicht zu kurz!</h2>
 \n<p style=text-align: justify\;>9\,9 km Streckenlänge und ganz neu ab
  2014: 5Km – für Wenigläufer eine gut schaffbare Herausforderung\, für
  Vielläufer ein willkommenes Training. Umso mehr bei dem reizvollen St
 reckenverlauf über Asphalt\, Schotter- und Feldwege.<br>\nLos geht’s v
 om Südwestpark aus Richtung Gebersdorf. Im Wiesengrund führt die Strec
 ke immer der Rednitz entlang gen Fürth. Nach einer Kehrtwende heißt es
  dann an den grünen Uferzonen neben dem Rhein-Main-Donau-Kanal: Endspu
 rt zurück bis zum Südwestpark!</p>\n<p>Für ausreichend Verpflegungspos
 ten entlang der Strecke ist selbstverständlich gesorgt.</p>\n<h3><stro
 ng>Die wichtigsten Fakten:</strong></h3>\n<ul>\n<li><strong>Termin:</s
 trong> 05. Juni 2014</li>\n<li><strong>Start/Ziel:</strong> im Südwest
 park</li>\n<li><strong>Strecke Läufer/Nordic Walker:</strong><br>\n9\,
 9 km (über Gebersdorf die Rednitz entlang Richtung Fürth\, am Ufer des
  Main-Donau-Kanals zurück zum Südwestpark)</li>\n<li><b>Strecke Läufer
 </b>:<br>\n5\,0 km\, Begrenzung auf maximal 400 Läufer (südlich Richtu
 ng Main-Donau- Kanal entlang – bis zu einer Wende nach ca. 2\,5 km)</l
 i>\n<li><strong>Strecke Kinder (4 bis 6 Jahre):</strong><br>\neine Run
 de durch den Südwestpark</li>\n<li><strong>Strecke Schüler (7 bis 14 J
 ahre):</strong><br>\neine Runde durch den Südwestpark</li>\n</ul>\n<h3
 >Alle Startzeiten:</h3>\n<ul>\n<li>ab 15:00 Uhr: Nachmeldung und Abhol
 ung der Starterunterlagen im Start-/Zielbereich</li>\n</ul>\n<ul>\n<li
 >18.00 Uhr: Kinder</li>\n<li>18:15 Uhr: Schüler</li>\n<li>18:30 Uhr: 9
 \,9 km Läufer</li>\n<li>18:35 Uhr: 9\,9 km Walker</li>\n<li>18:45 Uhr:
  5 km Läufer</li>\n</ul>\n<ul>\n<li>ca. 20:15 Uhr: Zieleinlauf</li>\n<
 li>ca. 20:30 Uhr: Siegerehrung</li>\n</ul>\n<h3 id=c47><strong>In der 
 Startgebühr inbegriffen:</strong></h3>\n<ul>\n<li>hochwertiges Funktio
 nsshirt (solange Vorrat reicht)</li>\n<li>Transponder-Zeitmessung</li>
 \n<li>Dusch- und Umkleidemöglichkeiten</li>\n<li>Verpflegungsposten au
 f der Strecke</li>\n<li>Urkunde (als Online-Ausdruck)</li>\n<li>Parkpl
 ätze in den Parkhäusern</li>\n</ul>\n<h3>Anmeldungen und Startgebühren
 :</h3>\n<table>\n<thead>\n<tr><th colspan=1 rowspan=1 scope=col></th>\
 n<th colspan=1 rowspan=1 scope=col><strong><br>\nFrühbucherpreis (bis 
 30.04.)</strong></th>\n<th colspan=1 rowspan=1 scope=col><strong><br>\
 nNormaler Preis</strong></th></tr>\n</thead>\n<tbody>\n<tr><td><strong
 >Einzelläufer Erwachsen</strong></td>\n<td>12 €</td>\n<td>14 €</td></t
 r>\n<tr><td><strong>Gruppe Erwachsen</strong></td>\n<td>10 €</td>\n<td
 >12 €</td></tr>\n<tr><td><strong>Einzelläufer/Gruppe Kind/Schüler</str
 ong></td>\n<td>kostenlos</td>\n<td>4 €</td></tr>\n</tbody>\n</table>\n
 <div id=c110>\n<p><strong>Anmeldung vor Ort</strong><br>\nam 05. Juni 
 ab 15 Uhr</p>\n</div>\n<p><strong>ONLINE-Anmeldeschluss</strong><br>\n
 ist der xx.xx.</p>\n<p>Weitere Info&#8217\;s beim Veranstalter: <a hre
 f=http://www.funrunsuedwest.de/ target=_blank>SÜD-WEST-PARK Management
  GmbH</a> sowie Online <a href=http://www.funrunsuedwest.de/anmeldung.
 html target=_blank>Anmeldungen</a></p>\n<p>Alle Info&#8217\;s <a href=
 http://www.funrunsuedwest.de/ target=_blank>©FunRun Südwest</a></p>\n<
 hr style=height: 1px\; width: 640px\; size=1 />\n<h3><span style=text-
 decoration: underline\;><strong>Information zur Anmeldung für alle SUN
  LäuferInnen:</strong></span></h3>\n<p>Die Gruppenanmeldung wird/kann 
 wieder durch mich (Frank H.W. ) durchgeführt. Wer sich für diesen Lauf
  interessiert und anmelden möchte bitte folgendermaßen vorgehen:</p>\n
 <p>In das Feld <em>Name</em> bitte <strong>Vorname und Nachname</stron
 g> eintragen.</p>\n<p>In das Feld <em>E-Mail</em> die <span style=text
 -decoration: underline\;><strong>priv. oder geschäftl. Emailadresse</s
 trong></span> eingeben.</p>\n<p>In das Feld <em>Phone Number</em> die 
 <strong>priv. oder geschäftl. Telefonnummer</strong> eingeben<strong>.
 </strong><br>\n<br>\nBei <em>Seats </em>immer nur <strong>1</strong> a
 uswählen<strong>.</strong><br>\n<br>\nIn das Feld Comment die Daten fü
 r:</p>\n<ul>\n<li>Geschlecht\,(<strong>M/W</strong>)</li>\n<li>Jahrgan
 g (<strong>19xx</strong>)</li>\n<li>T-Shirt Größe (<strong>XXS &#8211\
 ; XL</strong>)</li>\n</ul>\n<p>in verständlicher Form eingeben.</p>\n<
 p>Bevor man den Button &#8222\;<strong>Teilnahmeanfrage absenden</stro
 ng>&#8220\; klickt<strong>\, </strong>den angezeigten <strong>Code </s
 trong>in das Feld eintragen<strong>.</strong><br>\n<br>\nDas war&#8217
 \;s. Nach einigen Augenblicken taucht euer Name unter &#8222\;<strong>
 bisher gemeldet</strong>&#8220\; auf. Die weiteren Daten sind nur für 
 mich sichtbar. Diese werde für die Gruppenanmeldung auf der Homepage d
 es Veranstalters benötigt. Anmeldeschluß auf dieser Seite ist ebenfall
 s der 06.06.2013.</p>\n
URL:https://www.runningsocks.de/wordpress/terminkalender/eventsinglepa
 ge/?event_id=287&lang=de
ATTACH:https://www.runningsocks.de/wordpress/terminkalender/eventsingl
 epage/?event_id=287&lang=de
LOCATION:Südwestpark\, Südwestpark 41\, Nürnberg
END:VEVENT
END:VCALENDAR
