BEGIN:VCALENDAR
VERSION:2.0
METHOD:PUBLISH
PRODID:-//hacksw/handcal//NONSGML v1.0//EN
BEGIN:VEVENT
DTSTAMP:20260419T165735Z
DTSTART:20140309T093000Z
DTEND:20140309T113000Z
UID:20140309T093000Z-20140309T113000Z-288@www.runningsocks.de
SUMMARY:21. Finish Line Rothseelauf
DESCRIPTION:Die erste Probe im Frühjahr und seit Jahren ein Klassiker 
 !\nStrecken:\n\n\n	5\,2 Km\, Hobbylauf\, 1 Runde um den kleinen Rothse
 e\n	10\,4Km\, Hauptlauf\, 2 Runden um den kleinen Rothsee\n\n(beide St
 recken sind flach ohne nennenswerte Steigungen)\nStartgeld:\n\n\n	Hobb
 ylauf: 7\,00 EUR\n	Hauptlauf: 9\,00 EUR\n	Nachmeldungen\, ab 09.03.230
 13 bzw. am Starttag bis 1 Stunde vor dem jeweiligen Lauf: 3\,00 EUR\n\
 nAnmeldungen:\n\nBis zum 04.03. online möglich. Nachmeldungen gelten a
 b 05.03. und sind nur noch bei Finish-Line Nürnberg oder bis 1Std. vor
  dem Start vor Ort möglich.\n\nZeiten:\n\n	Abholung Unterlagen: ab 08:
 00 - 8:30 (Hobbylauf) bzw. 9:30 (Hauptlauf)\n	Start Hobbylauf: 09:30\n
 	Start Hauptlauf: 10:30\n\nWeitere Info's und wie immer direkt beim Ve
 ranstalter: Finish Line oder runningConcepts\nAusschreibung:\n[wpfileb
 ase tag=file path='lauf/rothseelauf/20140309/20140309_Rothseelauf_Auss
 chreibung.pdf' /]
X-ALT-DESC;FMTTYPE=text/html:<p style=text-align: center\;><strong>Die
  erste Probe im Frühjahr und seit Jahren ein Klassiker !</strong></p>\
 n<p style=text-align: justify\;><strong><span style=text-decoration: u
 nderline\;>Strecken:</span></strong></p>\n<ul>\n<li>5\,2 Km\, Hobbylau
 f\, 1 Runde um den kleinen Rothsee</li>\n<li>10\,4Km\, Hauptlauf\, 2 R
 unden um den kleinen Rothsee</li>\n</ul>\n<p style=text-align: justify
 \;>(beide Strecken sind flach ohne nennenswerte Steigungen)</p>\n<p st
 yle=text-align: justify\;><span style=text-decoration: underline\;><st
 rong>Startgeld:</strong></span></p>\n<ul>\n<li>Hobbylauf: 7\,00 EUR</l
 i>\n<li>Hauptlauf: 9\,00 EUR</li>\n<li>Nachmeldungen\, ab 09.03.23013 
 bzw. am Starttag bis 1 Stunde vor dem jeweiligen Lauf: 3\,00 EUR</li>\
 n</ul>\n<p><span style=text-decoration: underline\;><strong>Anmeldunge
 n:</strong></span><br>\n<br>\nBis zum 04.03. online möglich. Nachmeldu
 ngen gelten ab 05.03. und sind nur noch bei Finish-Line Nürnberg oder 
 bis 1Std. vor dem Start vor Ort möglich.</p>\n<p><span style=text-deco
 ration: underline\;><strong>Zeiten:</strong></span></p>\n<ul>\n<li>Abh
 olung Unterlagen: ab 08:00 &#8211\; 8:30 (Hobbylauf) bzw. 9:30 (Hauptl
 auf)</li>\n<li>Start Hobbylauf: 09:30</li>\n<li>Start Hauptlauf: 10:30
 </li>\n</ul>\n<p style=text-align: justify\;>Weitere Info&#8217\;s und
  wie immer direkt beim Veranstalter: <a href=http://www.finish-line.de
 /wettkaempfe-ausschreibungen.htm target=_blank>Finish Line </a>oder <a
  href=http://www.runningconcepts.de/ target=_blank>runningConcepts</a>
 </p>\n<p style=text-align: justify\;><span style=text-decoration: unde
 rline\;><strong>Ausschreibung:</strong></span></p>\n<p style=text-alig
 n: justify\;>[wpfilebase tag=file path=&#8217\;lauf/rothseelauf/201403
 09/20140309_Rothseelauf_Ausschreibung.pdf&#8216\; /]</p>\n
URL:https://www.runningsocks.de/wordpress/terminkalender/eventsinglepa
 ge/?event_id=288&lang=de
ATTACH:https://www.runningsocks.de/wordpress/terminkalender/eventsingl
 epage/?event_id=288&lang=de
LOCATION:Strandhaus Birkach\, Birkacher Uferweg 2\, Roth
END:VEVENT
END:VCALENDAR
