BEGIN:VCALENDAR
VERSION:2.0
METHOD:PUBLISH
PRODID:-//hacksw/handcal//NONSGML v1.0//EN
BEGIN:VEVENT
DTSTAMP:20260419T165733Z
DTSTART:20140405T103000Z
DTEND:20140405T140000Z
UID:20140405T103000Z-20140405T140000Z-289@www.runningsocks.de
SUMMARY:11. Stadtwaldlauf Fürth
DESCRIPTION:Anspruchvoller Halbmarathon im Fürther Stadtwald und rund 
 um die Veste\nACHTUNG: Alle weiteren Daten sind noch unbestätigt !!\nS
 trecken: Halbmarathon - 10 km - Schülerläufe\n\nZeitplan:\n11.00 Uhr S
 chülerlauf 3\,0 km\, Jrg. 1997-2000\n11.30 Uhr Schülerlauf 1\,5 km\, J
 rg. 2001-2002\n11.45 Uhr Schülerlauf 1\,5 km\, Jrg. 2003 und jünger\n1
 2.00 Uhr Bambini-Lauf 400 m\, Jrg. 2005 und jünger\n\nab 12.15 Uhr Sie
 gerehrungen Schülerläufe\n\n13.00 Uhr Halbmarathon\, Jrg. 1996 und ält
 er\n13.20 Uhr 10-km-Hauptlauf\, Jrg. 1996 und älter\n\nab 15.00 Uhr Si
 egerehrungen Erwachsene\n\nTeilnahmegebühren:\nBambini-Lauf: kostenlos
 \nSchülerläufe: 4 Euro (plus 2 Euro bei Nachmeldung)\n10-km-Hauptlauf:
  15 Euro (plus 4 Euro bei Nachmeldung)\nHalbmarathon: 20 Euro (plus 4 
 Euro bei Nachmeldung)\n\nStartunterlagenausgabe:\nvor Ort ab 10 Uhr bi
 s jeweils 1 Stunde vor dem Start\nWeitere Info's und Online Anmeldung 
 auf der Seite des Veranstalters: www.lac-quelle.de\nAusschreibung:\n[w
 pfilebase tag=file path='lauf/stadtwaldlauf-fuerth/20130406/20130406_S
 tadtwaldlaufFuerth_Ausschreibung.pdf' /]
X-ALT-DESC;FMTTYPE=text/html:<p style=text-align: center\;><strong>Ans
 pruchvoller Halbmarathon im Fürther Stadtwald und rund um die Veste</s
 trong></p>\n<p style=text-align: center\;><span style=text-decoration:
  underline\; color: #ff0000\;><strong>ACHTUNG: Alle weiteren Daten sin
 d noch unbestätigt !!</strong></span></p>\n<p><strong>Strecken:</stron
 g> Halbmarathon &#8211\; 10 km &#8211\; Schülerläufe</p>\n<p><strong>Z
 eitplan:<br>\n</strong>11.00 Uhr Schülerlauf 3\,0 km\, Jrg. 1997-2000<
 br>\n11.30 Uhr Schülerlauf 1\,5 km\, Jrg. 2001-2002<br>\n11.45 Uhr Sch
 ülerlauf 1\,5 km\, Jrg. 2003 und jünger<br>\n12.00 Uhr Bambini-Lauf 40
 0 m\, Jrg. 2005 und jünger</p>\n<p>ab 12.15 Uhr Siegerehrungen Schüler
 läufe</p>\n<p>13.00 Uhr Halbmarathon\, Jrg. 1996 und älter<br>\n13.20 
 Uhr 10-km-Hauptlauf\, Jrg. 1996 und älter</p>\n<p>ab 15.00 Uhr Siegere
 hrungen Erwachsene</p>\n<p><strong>Teilnahmegebühren:<br>\n</strong>Ba
 mbini-Lauf: kostenlos<br>\nSchülerläufe: 4 Euro (plus 2 Euro bei Nachm
 eldung)<br>\n10-km-Hauptlauf: 15 Euro (plus 4 Euro bei Nachmeldung)<br
 >\nHalbmarathon: 20 Euro (plus 4 Euro bei Nachmeldung)</p>\n<p><strong
 >Startunterlagenausgabe:<br>\n</strong>vor Ort ab 10 Uhr bis jeweils 1
  Stunde vor dem Start</p>\n<p style=text-align: left\;>Weitere Info&#8
 217\;s und Online Anmeldung auf der Seite des Veranstalters: <a href=h
 ttp://www.lacquelle.de/veranstaltungen/laufveranstaltungen/stadtwaldla
 uf target=_blank>www.lac-quelle.de</a></p>\n<p style=text-align: left\
 ;><strong>Ausschreibung:</strong></p>\n<p style=text-align: left\;>[wp
 filebase tag=file path=&#8217\;lauf/stadtwaldlauf-fuerth/20130406/2013
 0406_StadtwaldlaufFuerth_Ausschreibung.pdf&#8216\; /]</p>\n
URL:https://www.runningsocks.de/wordpress/terminkalender/eventsinglepa
 ge/?event_id=289&lang=de
ATTACH:https://www.runningsocks.de/wordpress/terminkalender/eventsingl
 epage/?event_id=289&lang=de
LOCATION:TV Fürth 1860 e.V\, Coubertinstraße 2\, Fürth\,
END:VEVENT
END:VCALENDAR
