BEGIN:VCALENDAR
VERSION:2.0
METHOD:PUBLISH
PRODID:-//hacksw/handcal//NONSGML v1.0//EN
BEGIN:VEVENT
DTSTAMP:20260419T165513Z
DTSTART:20140713T060000Z
DTEND:20140713T083000Z
UID:20140713T060000Z-20140713T083000Z-290@www.runningsocks.de
SUMMARY:27. Wallenstein-Halbmarathon
DESCRIPTION:Es ist wieder soweit -der 26. Wallenstein-Halbmarathon sow
 ie der 12 km-Lauf stehen an!\nFreuen Sie sich auf einen spannenden und
  anspruchsvollen Halbmarathon. Die hügelige Strecke\, teilweise über F
 eld- und Waldwege\, ist für Läufer eine wahre Herausforderung. Für die
  Einsteiger gibt es einen 12 km Lauf\, der vor dem hügeligen Streckent
 eil (in Schleifmühle) wieder zurück nach Altdorf führt.\n\nStart und Z
 iel:\n\n	Hauptschule Altdorf\, Schulstrasse\, 90518 Altdorf\n\nLäufe:\
 n\n	Halbmarathon\, ca. 21200 m\n	12 km - Lauf\, ca. 12400 m\n\nPreise:
 \n\n	Jeweils die Sieger bei den Damen und den Herren erhalten bei der 
 Siegerehrung einen Pokal\; Medaillen gibt es für die Altersklassenbest
 en und die schnellste Damen- und Herrenmannschaft jedes Laufes.\n\nACH
 TUNG: Alle nachfolgenden Daten sind noch unbestätigt !!\nStart\,- Nach
 meldegebühr\nHalbmarathon:\n\n\n\n	Die Frühbuchergebühr bis 30.04. bet
 rägt 16 €.\n	Vom 01.05. bis zum 30.06. kostet die Anmeldung 21 €.\n	Le
 tzte Nachmeldungen sind nur am 06.07. von 17:00 Uhr bis 19:30 Uhr bzw.
  am Starttag von 06:30 Uhr bis 07:30 Uhr an der Mittelschule möglich. 
 Die Nachmeldegebühr beträgt 26 €.\n\n\n 12 km - Lauf:\n\n\n\n	Die Früh
 buchergebühr bis 30.04. beträgt 14 €.\n	Vom 01.05. bis zum 30.06. kost
 et die Anmeldung 19 €.\n	Letzte Nachmeldungen sind nur am 06.07. von 1
 7:00 Uhr bis 19:30 Uhr bzw. am Starttag von 06:30 Uhr bis 07:30 Uhr an
  der Mittelschule möglich. Die Nachmeldegebühr beträgt 24 €.\n\n\n Für
  Anmeldungen per Fax oder Post wird ein Zuschlag von 1 € erhoben.\n\nS
 tartnummernausgabe:\n\n	Samstag 06.07.: 17:00 - 19:30 Uhr\n	Sonntag 07
 .07.: 06:30 - 07:30 Uhr\n\nStart:\n\n	08:00 Uhr\n\nZielschluss:\n\n	10
 :30 Uhr\; Der Veranstalter behält sich vor\, langsamere Teilnehmer aus
  dem Rennen zu nehmen\n\n \n\nAlle weiteren aktuellen Informationen so
 wie Online Anmeldung unter: Wallenstein Halbmarathon\n\n 
X-ALT-DESC;FMTTYPE=text/html:<p style=text-align: center\;><strong>Es 
 ist wieder soweit -der 26. Wallenstein-Halbmarathon sowie der 12 km-La
 uf stehen an!</strong></p>\n<p>Freuen Sie sich auf einen spannenden un
 d anspruchsvollen Halbmarathon. Die hügelige Strecke\, teilweise über 
 Feld- und Waldwege\, ist für Läufer eine wahre Herausforderung. Für di
 e Einsteiger gibt es einen 12 km Lauf\, der vor dem hügeligen Strecken
 teil (in Schleifmühle) wieder zurück nach Altdorf führt.</p>\n<p><span
  style=text-decoration: underline\;><strong>Start und Ziel:</strong></
 span></p>\n<ul>\n<li>Hauptschule Altdorf\, Schulstrasse\, 90518 Altdor
 f</li>\n</ul>\n<p><span style=text-decoration: underline\;><strong>Läu
 fe:</strong></span></p>\n<ul>\n<li>Halbmarathon\, ca. 21200 m</li>\n<l
 i>12 km &#8211\; Lauf\, ca. 12400 m</li>\n</ul>\n<p><span style=text-d
 ecoration: underline\;><strong>Preise:</strong></span></p>\n<ul>\n<li>
 Jeweils die Sieger bei den Damen und den Herren erhalten bei der Siege
 rehrung einen Pokal\; Medaillen gibt es für die Altersklassenbesten un
 d die schnellste Damen- und Herrenmannschaft jedes Laufes.</li>\n</ul>
 \n<p style=text-align: center\;><span style=text-decoration: underline
 \; color: #ff0000\;><strong>ACHTUNG: Alle nachfolgenden Daten sind noc
 h unbestätigt !!</strong></span></p>\n<p><span style=text-decoration: 
 underline\;><strong>Start\,- Nachmeldegebühr</strong></span></p>\n<p s
 tyle=padding-left: 60px\; align=left><span style=text-decoration: unde
 rline\;>Halbmarathon:</span></p>\n<blockquote>\n<ul>\n<li>Die Frühbuch
 ergebühr bis 30.04. beträgt 16 €.</li>\n<li>Vom 01.05. bis zum 30.06. 
 kostet die Anmeldung 21 €.</li>\n<li>Letzte Nachmeldungen sind nur am 
 06.07. von 17:00 Uhr bis 19:30 Uhr bzw. am Starttag von 06:30 Uhr bis 
 07:30 Uhr an der Mittelschule möglich. Die Nachmeldegebühr beträgt 26 
 €.</li>\n</ul>\n</blockquote>\n<p style=padding-left: 60px\; align=lef
 t> <span style=text-decoration: underline\;>12 km &#8211\; Lauf:</span
 ></p>\n<blockquote>\n<ul>\n<li>Die Frühbuchergebühr bis 30.04. beträgt
  14 €.</li>\n<li>Vom 01.05. bis zum 30.06. kostet die Anmeldung 19 €.<
 /li>\n<li>Letzte Nachmeldungen sind nur am 06.07. von 17:00 Uhr bis 19
 :30 Uhr bzw. am Starttag von 06:30 Uhr bis 07:30 Uhr an der Mittelschu
 le möglich. Die Nachmeldegebühr beträgt 24 €.</li>\n</ul>\n</blockquot
 e>\n<p style=padding-left: 60px\; align=left> <strong>Für Anmeldungen 
 per Fax oder Post wird ein Zuschlag von <strong>1 €</strong> erhoben.<
 br>\n</strong></p>\n<p><span style=text-decoration: underline\;><stron
 g>Startnummernausgabe:</strong></span></p>\n<ul>\n<li>Samstag 06.07.: 
 17:00 &#8211\; 19:30 Uhr</li>\n<li>Sonntag 07.07.: 06:30 &#8211\; 07:3
 0 Uhr</li>\n</ul>\n<p><span style=text-decoration: underline\;><strong
 >Start:</strong></span></p>\n<ul>\n<li>08:00 Uhr</li>\n</ul>\n<p><span
  style=text-decoration: underline\;><strong>Zielschluss</strong></span
 >:</p>\n<ul>\n<li>10:30 Uhr\; Der Veranstalter behält sich vor\, langs
 amere Teilnehmer aus dem Rennen zu nehmen</li>\n</ul>\n<p>&nbsp\;</p>\
 n<p>Alle weiteren aktuellen Informationen sowie Online Anmeldung unter
 : <strong><a href=http://www.wallenstein-halbmarathon.com/index.htm>Wa
 llenstein Halbmarathon</a></strong><br>\n<br>\n&nbsp\;</p>\n
URL:https://www.runningsocks.de/wordpress/terminkalender/eventsinglepa
 ge/?event_id=290&lang=de
ATTACH:https://www.runningsocks.de/wordpress/terminkalender/eventsingl
 epage/?event_id=290&lang=de
LOCATION:Hauptschule Altdorf\, Schulstrasse 6\, Altdorf
END:VEVENT
END:VCALENDAR
