BEGIN:VCALENDAR
VERSION:2.0
METHOD:PUBLISH
PRODID:-//hacksw/handcal//NONSGML v1.0//EN
BEGIN:VEVENT
DTSTAMP:20260419T165734Z
DTSTART:20141108T100000Z
DTEND:20141108T150000Z
UID:20141108T100000Z-20141108T150000Z-291@www.runningsocks.de
SUMMARY:11. Zeiler Waldmarathon
DESCRIPTION:Die Herausforderung im Naturpark Haßberge \n\nTermin: 08. 
 November\n\n\nOrt: Zeil am Main\n\nStart und Ziel: Setzbachbrunnen im 
 Laufpark Zeil\n\nStreckenbeschreibung: Anspruchsvoller Kurs durch den 
 Naturpark Haßberge im Laufpark Zeil auf fast durchgehend befestigten W
 aldwegen. Über den Schlossberg und die Bischofsheimer Höhe führt die S
 trecke Richtung Jägerhäuschen zum Geisgrabenbrunnen. Nach dem Passiere
 n der „Sieben Seen“ und des Bischofsheimer Sees verläuft die Strecke ü
 ber den Fitnesspfad zurück zum Ziel am Setzbachbrunnen. Es gibt zwei S
 traßenüberquerungen auf der Halbmarathonstrecke. Es gilt die Straßenve
 rkehrsordnung. Den Anweisungen der Streckenposten ist Folge zu leisten
 .\n\nVerpflegungsstellen: Alle 5 km mit Mineralwasser\, Tee\, Isogeträ
 nk\, Göller-Max-Energydrink\, Cola\, Malzbier\, Bananen\, Müsliriegeln
 \, Cräcker\, Kuchen.\n\nHöhenmeter (HM): FLESSABANK-Marathon 840 HM\, 
 FRÄNKISCHE-Halbmarathon 420 HM\nACHTUNG: Alle weiteren Daten sind noch
  unbestätigt !!\nStartgebühren: \n\nFLESSABANK-Marathon: 24 € \n\nHalb
 marathon: 15 € \n\nWalking/Nordic Walking 21\,1 km: 11 € \n\nWalking/N
 ordic Walking 7\,5 km: 9 € \n\nStartnummernausgabe: Rudolf-Winkler-Hau
 s\, Freitag\, von 20.00 bis 22.00 Uhr und am Wettkampftag ab 7:30 Uhr 
 bis ca. 1 Std. vor Start des jeweiligen Laufes. Sicherheitsnadeln muss
  jeder bitte selbst mitbringen.\n\nMeldeschluss: 03.11.\, 24:00.\n\n\n
 Startzeiten:\n\n\n\n10:00\nFLESSABANK-Marathon\n42\,195 km \n\n\n10:15
 \nWalking/Nordic Walking\n21\,1 km\n\n\n\n10:30\nWalking/Nordic Walkin
 g\n7\,5 km \n\n\n11:00\n\nFRÄNKISCHE-Halbmarathon\n21\,1 km\n\n\n\n \n
 \nPreise und Auszeichnungen:\n- FLESSABANK-Marathon:\nJeder Teilnehmer
  erhält im Ziel eine Medaille\, bei Abgabe der Startnummer im Rudolf-W
 inkler-Haus eine Flasche Marathonwein und hat freien Eintritt ins Zeil
 er Hallenbad. Die drei schnellsten Männer und Frauen erhalten Sachprei
 se und Gutscheine\, ebenso alle Altersklassensieger (5-Jahreswertung).
 \n\n-FRÄNKISCHE-Halbmarathon:\nJeder Teilnehmer erhält im Ziel eine Me
 daille\, bei Abgabe der Startnummer im Rudolf-Winkler-Haus eine Flasch
 e Marathonwein und hat freien Eintritt ins Zeiler Hallenbad. Die drei 
 schnellsten Männer und Frauen erhalten Sachpreise und Gutscheine\, ebe
 nso alle Altersklassensieger (5-Jahreswertung).\n\n- Walking/Nordic Wa
 lking:\nJeder Teilnehmer erhält im Ziel eine Medaille\, bei Abgabe der
  Startnummer im Rudolf-Winkler-Haus eine Flasche Marathonwein und hat 
 freien Eintritt ins Zeiler Hallenbad.\n\nTeamwertung FLESSABANK-Marath
 on und Halbmarathon: Die fünf teilnehmerstärksten Gruppen oder Vereine
  (Männer und Frauen)\, erhalten:\n1. 30 Liter Bier und einen Schinken\
 n2. 25 Liter Bier und einen Schinken\n3. 20 Liter Bier und einen Schin
 ken\n4. 15 Liter Bier und fränkische Hausmacherwurst\n5. 10 Liter Bier
  und fränkische Hausmacherwurst\n\n\nWeitere Details\, Info's und Onli
 ne Anmeldung beim Veranstalter: Zeiler Waldmarathon\n\nObige Daten © T
 V 1884 Zeil\, Lauf- und Leichtathletikabteilung „Rote Teufel“
X-ALT-DESC;FMTTYPE=text/html:<p style=text-align: center\;><span style
 =font-size: large\;>Die Herausforderung im Naturpark Haßberge </span><
 /p>\n<p><span style=font-size: x-small\;><br>\n<span style=font-size: 
 small\;><strong>Termin:</strong> 08. November<br>\n</span></span></p>\
 n<p><span style=font-size: small\;><strong>Ort:</strong> Zeil am Main<
 /span></p>\n<p><span style=font-size: small\;><strong>Start und Ziel:<
 /strong> Setzbachbrunnen im Laufpark Zeil</span></p>\n<p><span style=f
 ont-size: small\;><strong>Streckenbeschreibung:</strong> Anspruchsvoll
 er Kurs durch den Naturpark Haßberge im Laufpark Zeil auf fast durchge
 hend befestigten Waldwegen. Über den Schlossberg und die Bischofsheime
 r Höhe führt die Strecke Richtung Jägerhäuschen zum Geisgrabenbrunnen.
  Nach dem Passieren der „Sieben Seen“ und des Bischofsheimer Sees verl
 äuft die Strecke über den Fitnesspfad zurück zum Ziel am Setzbachbrunn
 en. Es gibt zwei Straßenüberquerungen auf der Halbmarathonstrecke. Es 
 gilt die Straßenverkehrsordnung. Den Anweisungen der Streckenposten is
 t Folge zu leisten.</span></p>\n<p><span style=font-size: small\;><str
 ong>Verpflegungsstellen:</strong> Alle 5 km mit Mineralwasser\, Tee\, 
 Isogetränk\, Göller-Max-Energydrink\, Cola\, Malzbier\, Bananen\, Müsl
 iriegeln\, Cräcker\, Kuchen.</span></p>\n<p><span style=font-size: sma
 ll\;><strong>Höhenmeter (HM):</strong> FLESSABANK-Marathon 840 HM\, FR
 ÄNKISCHE-Halbmarathon 420 HM</span></p>\n<p style=text-align: center\;
 ><strong><span style=text-decoration: underline\; color: #ff0000\;>ACH
 TUNG: Alle weiteren Daten sind noch unbestätigt !!</span></strong></p>
 \n<p><span style=font-size: small\;><strong>Startgebühren:</strong> </
 span></p>\n<p><span style=font-size: small\;>FLESSABANK-Marathon: <str
 ong>24 €</strong> </span></p>\n<p><span style=font-size: small\;>Halbm
 arathon: <strong>15 €</strong> </span></p>\n<p><span style=font-size: 
 small\;>Walking/Nordic Walking 21\,1 km: <strong>11 € </strong></span>
 </p>\n<p><span style=font-size: small\;>Walking/Nordic Walking 7\,5 km
 : <strong>9 € </strong></span></p>\n<p><span style=font-size: small\;>
 <strong>Startnummernausgabe:</strong> Rudolf-Winkler-Haus\, Freitag\, 
 von 20.00 bis 22.00 Uhr und am Wettkampftag ab 7:30 Uhr bis ca. 1 Std.
  vor Start des jeweiligen Laufes. Sicherheitsnadeln muss jeder bitte s
 elbst mitbringen.</span></p>\n<p><strong>Meldeschluss:</strong> 03.11.
 \, 24:00.<span style=font-family: Verdana\,Arial\,Helvetica\,sans-seri
 f\;><span style=font-size: x-small\;><br>\n</span></span></p>\n<p><spa
 n style=font-size: small\;><strong>Startzeiten:</strong></span></p>\n<
 table style=width: 404px\; height: 108px\; border=0>\n<tbody>\n<tr><td
  width=21%><span style=font-size: small\;>10:00</span></td>\n<td width
 =49%><span style=font-size: small\;>FLESSABANK-Marathon</span></td>\n<
 td width=30%><span style=font-size: small\;>42\,195 km </span></td></t
 r>\n<tr><td><span style=font-size: small\;>10:15</span></td>\n<td><spa
 n style=font-size: small\;>Walking/Nordic Walking</span></td>\n<td><sp
 an style=font-size: small\;>21\,1 km<br>\n</span></td></tr>\n<tr><td><
 span style=font-size: small\;>10:30</span></td>\n<td><span style=font-
 size: small\;>Walking/Nordic Walking</span></td>\n<td><span style=font
 -size: small\;>7\,5 km </span></td></tr>\n<tr><td><span style=font-siz
 e: small\;>11:00<br>\n</span></td>\n<td><span style=font-size: small\;
 >FRÄNKISCHE-Halbmarathon</span></td>\n<td><span style=font-size: small
 \;>21\,1 km</span></td></tr>\n</tbody>\n</table>\n<p>&nbsp\;</p>\n<p><
 span style=font-size: small\;><strong>Preise und Auszeichnungen:<br>\n
 </strong>&#8211\; FLESSABANK-Marathon:<br>\nJeder Teilnehmer erhält im
  Ziel eine Medaille\, bei Abgabe der Startnummer im Rudolf-Winkler-Hau
 s eine Flasche Marathonwein und hat freien Eintritt ins Zeiler Hallenb
 ad. Die drei schnellsten Männer und Frauen erhalten Sachpreise und Gut
 scheine\, ebenso alle Altersklassensieger (5-Jahreswertung).</span></p
 >\n<p><span style=font-size: small\;>-FRÄNKISCHE-Halbmarathon:<br>\nJe
 der Teilnehmer erhält im Ziel eine Medaille\, bei Abgabe der Startnumm
 er im Rudolf-Winkler-Haus eine Flasche Marathonwein und hat freien Ein
 tritt ins Zeiler Hallenbad. Die drei schnellsten Männer und Frauen erh
 alten Sachpreise und Gutscheine\, ebenso alle Altersklassensieger (5-J
 ahreswertung).</span></p>\n<p><span style=font-size: small\;>&#8211\; 
 Walking/Nordic Walking:<br>\nJeder Teilnehmer erhält im Ziel eine Meda
 ille\, bei Abgabe der Startnummer im Rudolf-Winkler-Haus eine Flasche 
 Marathonwein und hat freien Eintritt ins Zeiler Hallenbad.</span></p>\
 n<p><span style=font-size: small\;><strong>Teamwertung </strong><stron
 g>FLESSABANK-</strong><strong>Marathon und Halbmarathon: </strong>Die 
 fünf teilnehmerstärksten Gruppen oder Vereine (Männer und Frauen)\, er
 halten:<br>\n1. 30 Liter Bier und einen Schinken<br>\n2. 25 Liter Bier
  und einen Schinken<br>\n3. 20 Liter Bier und einen Schinken<br>\n4. 1
 5 Liter Bier und fränkische Hausmacherwurst<br>\n5. 10 Liter Bier und 
 fränkische Hausmacherwurst<br>\n</span></p>\n<p><span style=font-size:
  small\;>Weitere Details\, Info&#8217\;s und Online Anmeldung beim Ver
 anstalter: <a href=http://www.zeiler-waldmarathon.de/ target=_blank>Ze
 iler Waldmarathon</a></span></p>\n<p><span style=font-size: small\;>Ob
 ige Daten © TV 1884 Zeil\, Lauf- und Leichtathletikabteilung „Rote Teu
 fel“<br>\n</span></p>\n
URL:https://www.runningsocks.de/wordpress/terminkalender/eventsinglepa
 ge/?event_id=291&lang=de
ATTACH:https://www.runningsocks.de/wordpress/terminkalender/eventsingl
 epage/?event_id=291&lang=de
LOCATION:Setzbachbrunnen im Laufpark Zeil\, Setzbachstraße\, Zeil am M
 ain
END:VEVENT
END:VCALENDAR
