BEGIN:VCALENDAR
VERSION:2.0
METHOD:PUBLISH
PRODID:-//hacksw/handcal//NONSGML v1.0//EN
BEGIN:VEVENT
DTSTAMP:20260419T165532Z
DTSTART:20140510T150000Z
DTEND:20140510T170000Z
UID:20140510T150000Z-20140510T170000Z-292@www.runningsocks.de
SUMMARY:14. Happurger Stauseelauf
DESCRIPTION:Wie gewohnt werden diverse Kinder- und Schülerläufe\, der 
 Hobbylauf mit einer Stauseerunde sowie der Hauptlauf über 10 km verans
 taltet.\n\nDie Strecken:\n\n\n\nStrecke\nKlasse\nStartgeld\nStartzeit\
 nBemerkung\n\n\n400 m\nVorschulkinder\n2 EUR\nab 14:45\n\n\n\n800 m\nS
 chülerInnen 1\n4 EUR\nab 15:00\n\n\n\n1\,6 Km\nSchülerInnen 2\n4 EUR\n
 15:40\n\n\n\n3\,4 Km\nHobbylauf\n6 EUR\n16:15\no. Klassenwertung\n\n\n
 10 Km\nHauptlauf\n6 EUR / 8 EUR\n17:00\nm. Klassenwertung\n\n\n\nManns
 chaftswertung:\n\n	Jeweils 3 Herren bzw. 3 Damen innerhalb eines Verei
 nes erhalten einen Mannschaftspreis.\n	Jede Mannschaft erhält einen Sa
 chpreis.\n\nMeldeschluß:\n\n	09.05.2014\n	Nachmeldegebühr: 2 EUR\n\nWe
 itere Info's und Anmeldung beim Veranstalter:  SC Happurg\nAusschreibu
 ng:\n[wpfilebase tag=file path='lauf/happurger-stauseelauf/20140510/20
 140510_HappurgerStauseelauf_Ausschreibung.pdf' /]
X-ALT-DESC;FMTTYPE=text/html:<p style=text-align: center\;>Wie gewohnt
  werden diverse Kinder- und Schülerläufe\, der Hobbylauf mit einer Sta
 useerunde sowie der Hauptlauf über 10 km veranstaltet.</p>\n<h3>Die St
 recken:</h3>\n<table border=0>\n<tbody>\n<tr><td style=text-align: cen
 ter\;><strong>Strecke</strong></td>\n<td style=text-align: center\;><s
 trong>Klasse</strong></td>\n<td style=text-align: center\;><strong>Sta
 rtgeld</strong></td>\n<td style=text-align: center\;><strong>Startzeit
 </strong></td>\n<td style=text-align: center\;><strong>Bemerkung</stro
 ng></td></tr>\n<tr><td style=text-align: center\;>400 m</td>\n<td styl
 e=text-align: center\;>Vorschulkinder</td>\n<td style=text-align: cent
 er\;>2 EUR</td>\n<td style=text-align: center\;>ab 14:45</td>\n<td sty
 le=text-align: center\;></td></tr>\n<tr><td style=text-align: center\;
 >800 m</td>\n<td style=text-align: center\;>SchülerInnen 1</td>\n<td s
 tyle=text-align: center\;>4 EUR</td>\n<td style=text-align: center\;>a
 b 15:00</td>\n<td style=text-align: center\;></td></tr>\n<tr><td style
 =text-align: center\;>1\,6 Km</td>\n<td style=text-align: center\;>Sch
 ülerInnen 2</td>\n<td style=text-align: center\;>4 EUR</td>\n<td style
 =text-align: center\;>15:40</td>\n<td style=text-align: center\;></td>
 </tr>\n<tr><td style=text-align: center\;>3\,4 Km</td>\n<td style=text
 -align: center\;>Hobbylauf</td>\n<td style=text-align: center\;>6 EUR<
 /td>\n<td style=text-align: center\;>16:15</td>\n<td style=text-align:
  center\;>o. Klassenwertung</td></tr>\n<tr><td style=text-align: cente
 r\;>10 Km</td>\n<td style=text-align: center\;>Hauptlauf</td>\n<td sty
 le=text-align: center\;>6 EUR / 8 EUR</td>\n<td style=text-align: cent
 er\;>17:00</td>\n<td style=text-align: center\;>m. Klassenwertung</td>
 </tr>\n</tbody>\n</table>\n<p>Mannschaftswertung:</p>\n<ul>\n<li>Jewei
 ls 3 Herren bzw. 3 Damen innerhalb eines Vereines erhalten einen Manns
 chaftspreis.</li>\n<li>Jede Mannschaft erhält einen Sachpreis.</li>\n<
 /ul>\n<p>Meldeschluß:</p>\n<ul>\n<li>09.05.2014</li>\n<li>Nachmeldegeb
 ühr: 2 EUR</li>\n</ul>\n<p>Weitere Info&#8217\;s und Anmeldung beim Ve
 ranstalter:  <a href=http://www.sc-happurg.de/stauseelauf.php target=_
 blank>SC Happurg</a></p>\n<h3>Ausschreibung:</h3>\n<p>[wpfilebase tag=
 file path=&#8217\;lauf/happurger-stauseelauf/20140510/20140510_Happurg
 erStauseelauf_Ausschreibung.pdf&#8216\; /]</p>\n
URL:https://www.runningsocks.de/wordpress/terminkalender/eventsinglepa
 ge/?event_id=292&lang=de
ATTACH:https://www.runningsocks.de/wordpress/terminkalender/eventsingl
 epage/?event_id=292&lang=de
LOCATION:Happurger See\, Seepromenade 1\, Happurg
END:VEVENT
END:VCALENDAR
