BEGIN:VCALENDAR
VERSION:2.0
METHOD:PUBLISH
PRODID:-//hacksw/handcal//NONSGML v1.0//EN
BEGIN:VEVENT
DTSTAMP:20260419T165733Z
DTSTART:20140921T080000Z
DTEND:20140921T110000Z
UID:20140921T080000Z-20140921T110000Z-293@www.runningsocks.de
SUMMARY:15. Neumarkter Stadtlauf
DESCRIPTION: \n(Quelle: Neumarkter Stadtlauf / Flyer 2014)\n\nEs ist s
 chon Tradition: Immer eine Wochenende nach dem die Ferien zu Ende sind
  startet der Neumarkter Stadtlauf.\n\nGelaufen wird nicht nur für die 
 eigenen Gesundheit\, sondern auch für einen guten Zweck. Seit dem 1. N
 eumarkter Stadtlauf unterstützt der Neumarkter Stadtlauf die DKMS. Sei
 t dem Jahre 2000 wurden insgesamt 150.000\,- € an Spendengeldern an di
 e DKMS übergeben. Mit dieser Summe konnten weitere 2.200 potenzielle S
 pender in die Datei aufgenommen werden.\n\nWeitere Informationen finde
 t ihr auch unter www.dkms.de.\nZudem unterstützt der Lauf  soziale Pro
 jekte in Stadt und Landkreis Neumarkt.\nDabei konnten zur oben genannt
 en Spendensumme weitere 35.000\,- € erlaufen werden.\n\nStart / Ziel:\
 n\n5\,5Km Schnupperlauf:\nStart:\n15. September\, 9:50 Uhr\, Rathaus\,
  Innenstadt\, Zielschluss 12 Uhr\nStartgeld:\nBis zum 14.07.2013  15\,
 50 Euro\nvom 15.07. bis 03.09.13  18\,50 Euro\nNachmeldung 04.09. bis 
 14.09.13  23\,50 Euro\n10\,5Km Lauf:\nStart:\n15. September\, 10 Uhr\,
  Rathaus\, Innenstadt\, Zielschluss 12 Uhr\nStartgeld:\nBis zum 14.07.
 2013  19\,50 Euro\nvom 15.07. bis 03.09.13  22\,50 Euro\nNachmeldung 0
 4.09. bis 14.09.13  27\,50 Euro\nHalbmarathon:\nStart:\n15.09.2013\, 1
 0 Uhr\, Rathaus\, Innenstadt\, Zielschluss 12.40 Uhr\nStartgeld:\nBis 
 zum 14.07.2013  25\,50 Euro\nvom 15.07. bis 03.09.13  27\,50 Euro\nNac
 hmeldung 04.09. bis 14.09.13  32\,50 Euro\nWeitere Läufe sh. Flyer ode
 r Webseite des Veranstalters!\nLeistungen:\nWas man alles für sein Sta
 rtgeld bekommt:\n\n	Funktions T-Shirt als Finishergeschenk\n	Finisherm
 edaille\n	Startnummer mit persönlichen Vornamen\n	Informationszeitschr
 ift mit allen Startern\n	Gutschein für die Kloß mit Soß Party am Samst
 ag\n	Gutschein für einen freien Eintritt im Freibad\n	Nettozeitmessung
  mittels Chips mit Einzelwertung\, Klassenwertung und Teamwertung\n	Ab
 gesperrte Strecke mit großen Kilometertafeln\n	Musik an vielen Stellen
 \n	Kostenlose Teilnahme am Samstagprogramm mit Livemusik\n	Ärztliche V
 ersorgung mit drei Notärzten und vielen Sanitätern auf der Strecke und
  im Zielbereich\n	Verpflegung auf der Strecke mit Wasser und ISO\n	\nV
 erpflegung im Zielbereich mit Wasser\, ISO\; Cola und Früchten\n	Dusch
 - und Massagemöglichkeit nach dem Lauf\n	Rahmenprogramm für Groß und K
 lein\n	Urkunde\, Ergebnisheft im Internet zum runterladen\n	Und natürl
 ich einen perfekt organisierten Ablauf\n\nWertungen:\nEinzelwertung\, 
 Stadtmeister/Stadtmeisterin\, Mannschaftswertung (5 Läufer bilden eine
  Mannschaft\, bitte auf identische Mannschaftsnamen im Meldeformular a
 chten).\n\nFlyer zum 15. Neumarkter Stadtlauf:\n\n[wpfilebase tag=file
  path='lauf/neumarkter-stadtlauf/20140921/20140921_Ausschreibung_Neuma
 rkterStadtlauf.pdf' /]\n\nWeitere Info's und Onlineanmeldung beim Vera
 nstalter: Stadtlauf Neumarkt e.V.
X-ALT-DESC;FMTTYPE=text/html:<p style=text-align: center\;><span style
 =text-decoration: underline\; color: #ff0000\;><strong> </strong></spa
 n></p>\n<p>(Quelle: <a href=http://stadtlauf-neumarkt.de target=_blank
 >Neumarkter Stadtlauf</a> / Flyer 2014)</p>\n<p>Es ist schon Tradition
 : Immer eine Wochenende nach dem die Ferien zu Ende sind startet der N
 eumarkter Stadtlauf.</p>\n<p>Gelaufen wird nicht nur für die eigenen G
 esundheit\, sondern auch für einen guten Zweck. Seit dem 1. Neumarkter
  Stadtlauf unterstützt der Neumarkter Stadtlauf die DKMS. Seit dem Jah
 re 2000 wurden insgesamt 150.000\,- € an Spendengeldern an die DKMS üb
 ergeben. Mit dieser Summe konnten weitere 2.200 potenzielle Spender in
  die Datei aufgenommen werden.</p>\n<p>Weitere Informationen findet ih
 r auch unter <a href=www.dkms.de target=_blank>www.dkms.de</a>.<br>\nZ
 udem unterstützt der Lauf  soziale Projekte in Stadt und Landkreis Neu
 markt.<br>\nDabei konnten zur oben genannten Spendensumme weitere 35.0
 00\,- € erlaufen werden.</p>\n<p><strong>Start / Ziel:</strong></p>\n<
 p><strong>5\,5Km Schnupperlauf:</strong></p>\n<p style=padding-left: 3
 0px\;><span style=text-decoration: underline\;>Start:</span></p>\n<p s
 tyle=padding-left: 30px\;>15. September\, 9:50 Uhr\, Rathaus\, Innenst
 adt\, Zielschluss 12 Uhr</p>\n<p style=padding-left: 30px\;><span styl
 e=text-decoration: underline\;>Startgeld:</span></p>\n<p style=padding
 -left: 30px\;>Bis zum 14.07.2013  15\,50 Euro<br>\nvom 15.07. bis 03.0
 9.13  18\,50 Euro<br>\nNachmeldung 04.09. bis 14.09.13  23\,50 Euro</p
 >\n<p><strong>10\,5Km Lauf:</strong></p>\n<p style=padding-left: 30px\
 ;><span style=text-decoration: underline\;>Start:</span></p>\n<p style
 =padding-left: 30px\;>15. September\, 10 Uhr\, Rathaus\, Innenstadt\, 
 Zielschluss 12 Uhr</p>\n<p style=padding-left: 30px\;><span style=text
 -decoration: underline\;>Startgeld:</span></p>\n<p style=padding-left:
  30px\;>Bis zum 14.07.2013  19\,50 Euro<br>\nvom 15.07. bis 03.09.13  
 22\,50 Euro<br>\nNachmeldung 04.09. bis 14.09.13  27\,50 Euro</p>\n<p>
 <strong>Halbmarathon:</strong></p>\n<p style=padding-left: 30px\;><spa
 n style=text-decoration: underline\;>Start:</span></p>\n<p style=paddi
 ng-left: 30px\;>15.09.2013\, 10 Uhr\, Rathaus\, Innenstadt\, Zielschlu
 ss 12.40 Uhr</p>\n<p style=padding-left: 30px\;><span style=text-decor
 ation: underline\;>Startgeld:</span></p>\n<p style=padding-left: 30px\
 ;>Bis zum 14.07.2013  25\,50 Euro<br>\nvom 15.07. bis 03.09.13  27\,50
  Euro<br>\nNachmeldung 04.09. bis 14.09.13  32\,50 Euro</p>\n<p><stron
 g>Weitere Läufe sh. Flyer oder Webseite des Veranstalters<strong>!</st
 rong></strong></p>\n<h3>Leistungen:</h3>\n<p>Was man alles für sein St
 artgeld bekommt:</p>\n<ul>\n<li>Funktions T-Shirt als Finishergeschenk
 </li>\n<li>Finishermedaille</li>\n<li>Startnummer mit persönlichen Vor
 namen</li>\n<li>Informationszeitschrift mit allen Startern</li>\n<li>G
 utschein für die &#8222\;Kloß mit Soß Party&#8220\; am Samstag</li>\n<
 li>Gutschein für einen freien Eintritt im Freibad</li>\n<li>Nettozeitm
 essung mittels Chips mit Einzelwertung\, Klassenwertung und Teamwertun
 g</li>\n<li>Abgesperrte Strecke mit großen Kilometertafeln</li>\n<li>M
 usik an vielen Stellen</li>\n<li>Kostenlose Teilnahme am Samstagprogra
 mm mit Livemusik</li>\n<li>Ärztliche Versorgung mit drei Notärzten und
  vielen Sanitätern auf der Strecke und im Zielbereich</li>\n<li>Verpfl
 egung auf der Strecke mit Wasser und ISO</li>\n<li>\n<div>Verpflegung 
 im Zielbereich mit Wasser\, ISO\; Cola und Früchten</div>\n</li>\n<li>
 Dusch- und Massagemöglichkeit nach dem Lauf</li>\n<li>Rahmenprogramm f
 ür Groß und Klein</li>\n<li>Urkunde\, Ergebnisheft im Internet zum run
 terladen</li>\n<li>Und natürlich einen perfekt organisierten Ablauf</l
 i>\n</ul>\n<h3><strong>Wertungen:</strong></h3>\n<p>Einzelwertung\, St
 adtmeister/Stadtmeisterin\, Mannschaftswertung (5 Läufer bilden eine M
 annschaft\, bitte auf identische Mannschaftsnamen im Meldeformular ach
 ten).</p>\n<p>Flyer zum 15. Neumarkter Stadtlauf:</p>\n<p>[wpfilebase 
 tag=file path=&#8217\;lauf/neumarkter-stadtlauf/20140921/20140921_Auss
 chreibung_NeumarkterStadtlauf.pdf&#8216\; /]</p>\n<p>Weitere Info&#821
 7\;s und Onlineanmeldung beim Veranstalter: <a href=http://www.stadtla
 uf-neumarkt.de target=_blank>Stadtlauf Neumarkt e.V.</a></p>\n
URL:https://www.runningsocks.de/wordpress/terminkalender/eventsinglepa
 ge/?event_id=293&lang=de
ATTACH:https://www.runningsocks.de/wordpress/terminkalender/eventsingl
 epage/?event_id=293&lang=de
LOCATION:Rathaus Neumarkt\, Rathaus\, Neumarkt
END:VEVENT
END:VCALENDAR
