BEGIN:VCALENDAR
VERSION:2.0
METHOD:PUBLISH
PRODID:-//hacksw/handcal//NONSGML v1.0//EN
BEGIN:VEVENT
DTSTAMP:20260419T165513Z
DTSTART:20140427T070000Z
DTEND:20140427T110000Z
UID:20140427T070000Z-20140427T110000Z-294@www.runningsocks.de
SUMMARY:14. iWelt Marathon Würzburg
DESCRIPTION:Schöner Innenstadt (Halb)-Marathon durch die Würzburger In
 nenstadt. Flacher Kurs\, zwar mit vielen Richutngswechseln und eckig\,
  aber ohne nennenswerte Steigungen.\n\nDie wichtigsten Infos in Kurzfo
 rm:\n\nStat / Ziel: Congress Centrum Würzburg (CCW).\n\nSamstag:\n\n	S
 tartnummernausgabe/Nachmeldungen: 10:00 - 19:00\n	Nudelparty: 13:00 - 
 19:00\n	Marathonmesse: 10:00 - 19:00\n\nSonntag:\n\n	Marathonmesse: 06
 :30 - 15:00\n	Startnummernausgabe/Nachmeldungen: 06:30 - 08:30\n	Start
 nummernausgabe/Nachmeldungen 10Km: 06:30 - 11:00\n	Blockstart ab 09:00
 :\n\n	iWelt Marathon (Zielschluß: 14:30)\n	WVV Halbmarathon (Zielschlu
 ß: 14:30)\n	AOK Walking Day 14Km\n\n\n	Start TakeNet 10Km Lauf: 12:30\
 n\nStartgeld- Marathon:\n\n	45 EUR\n	ab 01.01.2014: 6 EUR Aufschlag\n	
 ab 01.03.2014: 10 EUR Aufschlag\n	Nachmeldung am Sa/So: 15 EUR Aufschl
 ag\n\nStartgeld- Halbmarathon:\n\n	35 EUR\n	ab 01.01.2014: 6 EUR Aufsc
 hlag\n	ab 01.03.2014: 10 EUR Aufschlag\n	Nachmeldung am Sa/So: 15 EUR 
 Aufschlag\n\nStartgeld- TakeNet 10Km:\n\n	15 EUR\n	ab 01.01.2014: 5 EU
 R Aufschlag\n	SchülerInnen: immer nur 10 EUR\n\nStartgeld- AOK Walking
  Day:\n\n	25 EUR\n	ab 01.01.2014: 5 EUR Aufschlag\n\nAlle weiteren und
  aktuellen Infos sowie Online Anmeldung direkt beim Veranstalter: Würz
 burg Marathon\n\nWeitere Infos (Quelle: http://www.wuerzburg-marathon.
 de)\n\n	Höhenprofil der HM-Strecke\n	Laufstrecke Halb- und Marathon\n	
 Laufstrecke TakeNet 10Km\n	Laufstrecke AOK Walking Day
X-ALT-DESC;FMTTYPE=text/html:<p>Schöner Innenstadt (Halb)-Marathon dur
 ch die Würzburger Innenstadt. Flacher Kurs\, zwar mit vielen Richutngs
 wechseln und &#8222\;eckig&#8220\;\, aber ohne nennenswerte Steigungen
 .</p>\n<p>Die wichtigsten Infos in Kurzform:</p>\n<p>Stat / Ziel: Cong
 ress Centrum Würzburg (CCW).</p>\n<p>Samstag:</p>\n<ul>\n<li>Startnumm
 ernausgabe/Nachmeldungen: 10:00 &#8211\; 19:00</li>\n<li>Nudelparty: 1
 3:00 &#8211\; 19:00</li>\n<li>Marathonmesse: 10:00 &#8211\; 19:00</li>
 \n</ul>\n<p>Sonntag:</p>\n<ul>\n<li>Marathonmesse: 06:30 &#8211\; 15:0
 0</li>\n<li>Startnummernausgabe/Nachmeldungen: 06:30 &#8211\; 08:30</l
 i>\n<li>Startnummernausgabe/Nachmeldungen 10Km: 06:30 &#8211\; 11:00</
 li>\n<li>Blockstart ab 09:00:\n<ul>\n<li>iWelt Marathon (Zielschluß: 1
 4:30)</li>\n<li>WVV Halbmarathon (Zielschluß: 14:30)</li>\n<li>AOK Wal
 king Day 14Km</li>\n</ul>\n</li>\n<li>Start TakeNet 10Km Lauf: 12:30</
 li>\n</ul>\n<p>Startgeld- Marathon:</p>\n<ul>\n<li>45 EUR</li>\n<li>ab
  01.01.2014: 6 EUR Aufschlag</li>\n<li>ab 01.03.2014: 10 EUR Aufschlag
 </li>\n<li>Nachmeldung am Sa/So: 15 EUR Aufschlag</li>\n</ul>\n<p>Star
 tgeld- Halbmarathon:</p>\n<ul>\n<li>35 EUR</li>\n<li>ab 01.01.2014: 6 
 EUR Aufschlag</li>\n<li>ab 01.03.2014: 10 EUR Aufschlag</li>\n<li>Nach
 meldung am Sa/So: 15 EUR Aufschlag</li>\n</ul>\n<p>Startgeld- TakeNet 
 10Km:</p>\n<ul>\n<li>15 EUR</li>\n<li>ab 01.01.2014: 5 EUR Aufschlag</
 li>\n<li>SchülerInnen: immer nur 10 EUR</li>\n</ul>\n<p>Startgeld- AOK
  Walking Day:</p>\n<ul>\n<li>25 EUR</li>\n<li>ab 01.01.2014: 5 EUR Auf
 schlag</li>\n</ul>\n<p>Alle weiteren und aktuellen Infos sowie Online 
 Anmeldung direkt beim Veranstalter: <a href=http://www.wuerzburg-marat
 hon.de/ target=_blank>Würzburg Marathon</a></p>\n<p>Weitere Infos (Que
 lle: http://www.wuerzburg-marathon.de)</p>\n<ul>\n<li><a href=http://w
 ww.wuerzburg-marathon.de/uploads/media/H%C3%B6henprofil-2013.jpg targe
 t=_blank>Höhenprofil der HM-Strecke</a></li>\n<li><a href=http://www.w
 uerzburg-marathon.de/uploads/media/MP_2013_-_iWelt_Marathon_Strecke.pd
 f target=_blank>Laufstrecke Halb- und Marathon</a></li>\n<li><a href=h
 ttp://www.wuerzburg-marathon.de/uploads/media/MP_2013_-_TakeNet_10-km-
 Funlauf.pdf target=_blank>Laufstrecke TakeNet 10Km</a></li>\n<li><a hr
 ef=http://www.wuerzburg-marathon.de/uploads/media/MP_2013_-_AOK_Walkin
 g_Day.pdf target=_blank>Laufstrecke AOK Walking Day</a></li>\n</ul>\n
URL:https://www.runningsocks.de/wordpress/terminkalender/eventsinglepa
 ge/?event_id=294&lang=de
ATTACH:https://www.runningsocks.de/wordpress/terminkalender/eventsingl
 epage/?event_id=294&lang=de
LOCATION:CCW - Congress Centrum Würzburg\, Pleichertorstraße 5\, Würzb
 urg
END:VEVENT
END:VCALENDAR
