BEGIN:VCALENDAR
VERSION:2.0
METHOD:PUBLISH
PRODID:-//hacksw/handcal//NONSGML v1.0//EN
BEGIN:VEVENT
DTSTAMP:20260419T165139Z
DTSTART:20140622T080000Z
DTEND:20140622T110000Z
UID:20140622T080000Z-20140622T110000Z-295@www.runningsocks.de
SUMMARY:26. Bauzi's Birkensee Triathlon
DESCRIPTION:Und weiter geht es in alter Tradition: der Bauzi kommt wie
 der in die Spur und findet nun wieder regelmäßig statt.\n400 m - 20 km
  - 5 km\n\n\n	Schwimmen: Birkensee\n	Rad: 1x rund um den Moritzberg (s
 h. Ausschreibung)\n	Laufen: Pendelstrecke\, Birkensee - Richtung Fuchs
 mühle und zurück\n\nDetails und Info's folgen sobald verfügbar. Die we
 iteren Daten sidn noch unbestätigt !\n\nStartgebühr: 35 €\n\nNachmelde
 gebühr: 5€\n\nTeilnehmerlimit: 300\n\nOnline Anmeldeschluß: 14.07.2013
 \n\nNachmeldungen: 15.07.2013 - 20.07.2013\, Nachmeldegebühr: 5\,00 EU
 R\nAusschreibung:\n[wpfilebase tag=file path='triathlon/bauzis-birkens
 ee/20130721/Birkensee2013_V5.pdf' /]\nWeitere Info's und Anmeldung bei
 m Veranstalter: Finish-Line\, Onlineanmeldung über SAS Zeitsysteme
X-ALT-DESC;FMTTYPE=text/html:<p style=text-align: center\;>Und weiter 
 geht es in alter Tradition: der Bauzi kommt wieder in die Spur und fin
 det nun wieder regelmäßig statt.</p>\n<p style=text-align: justify\;>4
 00 m &#8211\; 20 km &#8211\; 5 km</p>\n<ul>\n<li style=text-align: jus
 tify\;>Schwimmen: Birkensee</li>\n<li style=text-align: justify\;>Rad:
  1x rund um den Moritzberg (sh. Ausschreibung)</li>\n<li style=text-al
 ign: justify\;>Laufen: Pendelstrecke\, Birkensee &#8211\; Richtung Fuc
 hsmühle und zurück</li>\n</ul>\n<p style=text-align: center\;><span st
 yle=text-decoration: underline\; color: #ff0000\;><strong>Details und 
 Info&#8217\;s folgen sobald verfügbar. Die weiteren Daten sidn noch un
 bestätigt !<br>\n</strong></span></p>\n<p>Startgebühr: 35 €</p>\n<p>Na
 chmeldegebühr: 5€</p>\n<p>Teilnehmerlimit: 300</p>\n<p>Online Anmeldes
 chluß: 14.07.2013</p>\n<p>Nachmeldungen: 15.07.2013 &#8211\; 20.07.201
 3\, Nachmeldegebühr: 5\,00 EUR</p>\n<p style=text-align: justify\;>Aus
 schreibung:</p>\n<p style=text-align: justify\;>[wpfilebase tag=file p
 ath=&#8217\;triathlon/bauzis-birkensee/20130721/Birkensee2013_V5.pdf&#
 8216\; /]</p>\n<p style=text-align: justify\;>Weitere Info&#8217\;s un
 d Anmeldung beim Veranstalter: <a href=http://www.finish-line.de/wettk
 aempfe-ausschreibungen.htm target=_blank>Finish-Line</a>\, Onlineanmel
 dung über <a href=http://www.sas-zeitmesssysteme.de/newsite/index.php?
 site=4 target=_blank>SAS Zeitsysteme</a></p>\n
URL:https://www.runningsocks.de/wordpress/terminkalender/eventsinglepa
 ge/?event_id=295&lang=de
ATTACH:https://www.runningsocks.de/wordpress/terminkalender/eventsingl
 epage/?event_id=295&lang=de
LOCATION:Birkensee - Röthenbach\, Birkensee\, Röthenbach
END:VEVENT
END:VCALENDAR
