BEGIN:VCALENDAR
VERSION:2.0
METHOD:PUBLISH
PRODID:-//hacksw/handcal//NONSGML v1.0//EN
BEGIN:VEVENT
DTSTAMP:20260419T165905Z
DTSTART:20140824T070000Z
DTEND:20140824T110000Z
UID:20140824T070000Z-20140824T110000Z-296@www.runningsocks.de
SUMMARY:1. Nürnberger Halbmarathon
DESCRIPTION:Der Finish Line Herbstlauf heißt jetzt Nürnberger Halbmara
 thon\nAlles weitere folgt\, sobald verfügbar. Die weiteren Daten sind 
 unbestätigt !!\nStrecken:\n\n10Km\, 21\,1Km\n\nStartgebühr:\n\n	10Km -
  15 Euro\n	21\,1Km - 20 Euro\n	Nachmeldung\, ab 12.08.: 3 Euro\n\nAnme
 ldungen:\n\nbis 11.08. - Online\n\n12.08. - 17.08. persönlich oder tel
 efonisch bei Finish Line\, Wilhelm-Spaeth-Str. 15\, 90461 Nürnberg\n\n
 Weitere Infos siehe Flyer sowie Homepage des Veranstalters  Finish-Lin
 e oder runningConcepts \n\nAusschreibung:\n\nfolgt ....
X-ALT-DESC;FMTTYPE=text/html:<p style=text-align: center\;>Der Finish 
 Line Herbstlauf heißt jetzt Nürnberger Halbmarathon</p>\n<p style=text
 -align: center\;><span style=color: #ff0000\;>Alles weitere folgt\, so
 bald verfügbar. Die weiteren Daten sind unbestätigt !!</span></p>\n<p>
 <strong>Strecken:</strong><br>\n<br>\n10Km\, 21\,1Km</p>\n<p><strong>S
 tartgebühr:</strong></p>\n<ul>\n<li>10Km &#8211\; 15 Euro</li>\n<li>21
 \,1Km &#8211\; 20 Euro</li>\n<li>Nachmeldung\, ab 12.08.: 3 Euro</li>\
 n</ul>\n<p><strong>Anmeldungen:</strong><br>\n<br>\nbis 11.08. &#8211\
 ; Online</p>\n<p>12.08. &#8211\; 17.08. persönlich oder telefonisch be
 i Finish Line\, Wilhelm-Spaeth-Str. 15\, 90461 Nürnberg</p>\n<p>Weiter
 e Infos siehe Flyer sowie Homepage des Veranstalters  <a href=http://w
 ww.finish-line.de/wettkaempfe-ausschreibungen.htm target=_blank>Finish
 -Line</a> oder <a href=http://www.runningconcepts.de/ target=_blank>ru
 nningConcepts </a></p>\n<p>Ausschreibung:</p>\n<p>folgt &#8230\;.</p>\
 n
URL:https://www.runningsocks.de/wordpress/terminkalender/eventsinglepa
 ge/?event_id=296&lang=de
ATTACH:https://www.runningsocks.de/wordpress/terminkalender/eventsingl
 epage/?event_id=296&lang=de
LOCATION:Waldweg gegenüber Club Bad\, Valznerweiher Straße 200\, Nürnb
 erg
END:VEVENT
END:VCALENDAR
